BEGIN:VCALENDAR
VERSION:2.0
PRODID:-//The BoZone - ECPv5.12.0//NONSGML v1.0//EN
CALSCALE:GREGORIAN
METHOD:PUBLISH
X-WR-CALNAME:The BoZone
X-ORIGINAL-URL:https://bozone.com
X-WR-CALDESC:Events for The BoZone
BEGIN:VTIMEZONE
TZID:America/Denver
BEGIN:DAYLIGHT
TZOFFSETFROM:-0700
TZOFFSETTO:-0600
TZNAME:MDT
DTSTART:20250309T090000
END:DAYLIGHT
BEGIN:STANDARD
TZOFFSETFROM:-0600
TZOFFSETTO:-0700
TZNAME:MST
DTSTART:20251102T080000
END:STANDARD
END:VTIMEZONE
BEGIN:VEVENT
DTSTART;TZID=America/Denver:20250628T120000
DTEND;TZID=America/Denver:20250628T200000
DTSTAMP:20260422T010807
CREATED:20250426T161613Z
LAST-MODIFIED:20250426T161613Z
UID:288259-1751112000-1751140800@bozone.com
SUMMARY:Amateur Radio “Field Day”
DESCRIPTION:Amateur Radio “Field Day” – June 28 and 29 – Will Focus on Skill\, Service\, Science\nWHO/WHAT Members of the Gallatin Ham Radio Club will be participating in the national Amateur Radio Field Day exercise\, June 28 – 29 at 435 Lynde St.\, Gallatin Gateway\, MT. Since 1933\, ham radio operators across North America have established temporary ham radio stations in public locations during Field Day to showcase the science and skill of Amateur Radio. This event is open to the public and all are\nencouraged to attend. \nSaturday and Sunday\, June 28 and 29. On Saturday\, June 28\, from noon to 8pm and\non Sunday\, June 29\, from 8am to noon. \n435 Lynde St.\, Gallatin Gateway\, MT \nField Day is a showcase for how Amateur Radio works reliably under any conditions from almost any location to create an independent communications network. “Ham radio functions completely independent of the Internet or cell phone infrastructure\, can interface with tablets or smartphones\, and can be set up almost anywhere in minutes. That’s the beauty of Amateur Radio during a communications outage\,” says David Isgur\, N1RSN\, communications manager for ARRL The national association for Amateur Radio®\, (www.arrl.org)\, which represents Amateur (or “ham”) Radio operators across the country. \n“In today’s electronic do-it-yourself (DIY) environment\, ham radio remains one of the best ways for people to learn about electronics\, physics\, meteorology\, and numerous other scientific disciplines\, and is a huge asset to any community during disasters or emergencies if the standard communication infrastructure goes down\,” Isgur adds. Anyone may become a licensed Amateur Radio operator. There are more than 725\,000 licensed hams in the United States\, as young as 9 and as old as 100. And with clubs such as Gallatin Ham Radio Club\, it’s easy for anybody to get involved right here in Gallatin County. \nFor more information about Field Day or Amateur Radio\, contact Stacy @ stroscoe2001@yahoo.com or visit www.arrl.org/what-is-ham-radio. \nFREE-ALL Ages
URL:https://bozone.com/event/amateur-radio-field-day/
LOCATION:435 Lynde St\, 435 Lynde St\, Gallatin Gateway\, MT\, 59730\, United States
CATEGORIES:Lectures,Miscellanea
GEO:45.5875763;-111.2050508
X-APPLE-STRUCTURED-LOCATION;VALUE=URI;X-ADDRESS=435 Lynde St 435 Lynde St Gallatin Gateway MT 59730 United States;X-APPLE-RADIUS=500;X-TITLE=435 Lynde St:geo:-111.2050508,45.5875763
END:VEVENT
END:VCALENDAR