BEGIN:VCALENDAR
VERSION:2.0
PRODID:-//The BoZone - ECPv5.12.0//NONSGML v1.0//EN
CALSCALE:GREGORIAN
METHOD:PUBLISH
X-WR-CALNAME:The BoZone
X-ORIGINAL-URL:https://bozone.com
X-WR-CALDESC:Events for The BoZone
BEGIN:VTIMEZONE
TZID:America/Denver
BEGIN:DAYLIGHT
TZOFFSETFROM:-0700
TZOFFSETTO:-0600
TZNAME:MDT
DTSTART:20260308T090000
END:DAYLIGHT
BEGIN:STANDARD
TZOFFSETFROM:-0600
TZOFFSETTO:-0700
TZNAME:MST
DTSTART:20261101T080000
END:STANDARD
END:VTIMEZONE
BEGIN:VEVENT
DTSTART;TZID=America/Denver:20260418T170000
DTEND;TZID=America/Denver:20260418T170000
DTSTAMP:20260423T140835
CREATED:20260317T141837Z
LAST-MODIFIED:20260317T141837Z
UID:313035-1776531600-1776531600@bozone.com
SUMMARY:Paint & Sip + Fundraiser
DESCRIPTION:Paint your own Mountain Wildflowers and raise funds for Bryan Dowdle’s kidney transplant at the same time!\nBryan is a member of our local community\, and is in need of a second kidney transplant. He received his first at age 5\, and now\, 28 years later he’s in need of a second. You can read more about Bryan’s story here & donate to his cause: https://helphopelive.org/campaign/26391/ \nThe Dowdle family is working toward raising $10\,000 for the costly procedure\, and have currently raised $6770. \nWhen you join this class\, 70% of your purchase will be donated to the family to directly cover medical expenses. \nPlease note\, this is an alcohol-free event. Grace will provide complimentary NA beverages at the event (soda\, sparkling water\, and juice). You are also welcome to bring your own food and NA beverages to the class. \nhttps://aintabetterwaytopaint.com/buy-your-tickets/p/poppypath
URL:https://bozone.com/event/paint-sip-fundraiser/
LOCATION:Eagle Mount\, 6901 Goldenstein Ln\, Bozeman\, MT\, 59715\, United States
CATEGORIES:Arts & Theatre,Classes,Miscellanea
GEO:45.6357162;-111.0537266
X-APPLE-STRUCTURED-LOCATION;VALUE=URI;X-ADDRESS=Eagle Mount 6901 Goldenstein Ln Bozeman MT 59715 United States;X-APPLE-RADIUS=500;X-TITLE=6901 Goldenstein Ln:geo:-111.0537266,45.6357162
END:VEVENT
BEGIN:VEVENT
DTSTART;TZID=America/Denver:20260418T173000
DTEND;TZID=America/Denver:20260418T173000
DTSTAMP:20260423T140835
CREATED:20260327T020517Z
LAST-MODIFIED:20260327T020517Z
UID:313901-1776533400-1776533400@bozone.com
SUMMARY:Free English Country Dance Workshop
DESCRIPTION:Free English Country Dance Workshop\nSaturday\, April 18th – 5:30 PM\nBozeman Senior Center\nEver been curious about English Country Dance?  Think it’s slow and boring?  Think again! Bev Young will offer a 1.5-hour workshop on English Dance from 5:30 to 7:00pm.  No experience or partner necessary.  But she does need to know if you’re interested.  Please RSVP to englishdance@javins.net so she can prepare for the number of interested dancers. \nCome get your moves polished for the upcoming Jane Austen’s Night Out Ball in Missoula Saturday\, April 25th\, 5:30 to 7:00 PM.
URL:https://bozone.com/event/free-english-country-dance-workshop/
LOCATION:Tamarack Ballroom – Bozeman Senior Center\, 807 N Tracy Ave\, Bozeman\, MT\, 59715\, United States
CATEGORIES:Classes,Miscellanea
GEO:45.6878919;-111.0378686
X-APPLE-STRUCTURED-LOCATION;VALUE=URI;X-ADDRESS=Tamarack Ballroom – Bozeman Senior Center 807 N Tracy Ave Bozeman MT 59715 United States;X-APPLE-RADIUS=500;X-TITLE=807 N Tracy Ave:geo:-111.0378686,45.6878919
END:VEVENT
END:VCALENDAR