BEGIN:VCALENDAR
VERSION:2.0
PRODID:-//The BoZone - ECPv5.12.0//NONSGML v1.0//EN
CALSCALE:GREGORIAN
METHOD:PUBLISH
X-WR-CALNAME:The BoZone
X-ORIGINAL-URL:https://bozone.com
X-WR-CALDESC:Events for The BoZone
BEGIN:VTIMEZONE
TZID:America/Denver
BEGIN:DAYLIGHT
TZOFFSETFROM:-0700
TZOFFSETTO:-0600
TZNAME:MDT
DTSTART:20260308T090000
END:DAYLIGHT
BEGIN:STANDARD
TZOFFSETFROM:-0600
TZOFFSETTO:-0700
TZNAME:MST
DTSTART:20261101T080000
END:STANDARD
END:VTIMEZONE
BEGIN:VEVENT
DTSTART;TZID=America/Denver:20260417T090000
DTEND;TZID=America/Denver:20260417T090000
DTSTAMP:20260423T061649
CREATED:20260312T213829Z
LAST-MODIFIED:20260312T213829Z
UID:312967-1776416400-1776416400@bozone.com
SUMMARY:Virtual Fossil Fridays
DESCRIPTION:+++++++++ Please repeat on these dates April 3\, 10\, 17\, 24 at 9 a.m. +++++++++\nDig deeper into paleontology with interviews from international\npaleontologists\, drawing tutorials\, featured fossil “deep dives”\, and more.\nThemes vary by week. Bring your curiosity and questions! \nFree and open to the public via Zoom. \nVirtual Event\n9am
URL:https://bozone.com/event/virtual-fossil-fridays-14/
LOCATION:Virtual Event\, Bozeman\, MT\, 59715\, United States
CATEGORIES:Classes
GEO:46.8796822;-110.3625658
END:VEVENT
BEGIN:VEVENT
DTSTART;TZID=America/Denver:20260417T180000
DTEND;TZID=America/Denver:20260417T180000
DTSTAMP:20260423T061649
CREATED:20260317T142422Z
LAST-MODIFIED:20260317T142422Z
UID:313033-1776448800-1776448800@bozone.com
SUMMARY:Paint & Sip - Shadows of the Forest
DESCRIPTION:Paint your own “Shadows of the Forest” at the Bozeman American Legion! Two glasses of wine (or NA beverage) are included with your purchase.\nI’ll bring everything you need to make your masterpiece – including a traceable elk stencil. \nJust grab your ticket online to save your seat! \nLocation: 225 E Main St\, Bozeman\, MT 59715
URL:https://bozone.com/event/paint-sip-shadows-of-the-forest/
LOCATION:American Legion – Bozeman\, 225 E Main St.\, Bozeman\, MT\, 59715\, United States
CATEGORIES:Arts & Theatre,Classes,Miscellanea
GEO:45.6796356;-111.0334576
X-APPLE-STRUCTURED-LOCATION;VALUE=URI;X-ADDRESS=American Legion – Bozeman 225 E Main St. Bozeman MT 59715 United States;X-APPLE-RADIUS=500;X-TITLE=225 E Main St.:geo:-111.0334576,45.6796356
END:VEVENT
END:VCALENDAR