BEGIN:VCALENDAR
VERSION:2.0
PRODID:-//The BoZone - ECPv5.12.0//NONSGML v1.0//EN
CALSCALE:GREGORIAN
METHOD:PUBLISH
X-WR-CALNAME:The BoZone
X-ORIGINAL-URL:https://bozone.com
X-WR-CALDESC:Events for The BoZone
BEGIN:VTIMEZONE
TZID:America/Denver
BEGIN:DAYLIGHT
TZOFFSETFROM:-0700
TZOFFSETTO:-0600
TZNAME:MDT
DTSTART:20260308T090000
END:DAYLIGHT
BEGIN:STANDARD
TZOFFSETFROM:-0600
TZOFFSETTO:-0700
TZNAME:MST
DTSTART:20261101T080000
END:STANDARD
END:VTIMEZONE
BEGIN:VEVENT
DTSTART;TZID=America/Denver:20260416T170000
DTEND;TZID=America/Denver:20260416T183000
DTSTAMP:20260423T134850
CREATED:20260204T223702Z
LAST-MODIFIED:20260204T224013Z
UID:308040-1776358800-1776364200@bozone.com
SUMMARY:IdeaLab: CTRL+ALT+CREATE: Decibel Detectives! (grades 4 to 8)
DESCRIPTION:Join us in the IdeaLab for some hands-on high-tech crafting using the principles of computing. This week\, we’re creating a visual noise meter using a neopixel light strip. Electric guitar not included!\nTwo sessions to choose from: Tuesday April 14 or Thursday April 16 \n\n5:00 PM 6:30 PM\nAMERICAN COMPUTER & ROBOTICS MUSEUM (MAP)\n\n$40 per participant. For creative kids in grades 4 to 8. \nNOTE: This class uses a neopixel strip (included) and a Micro:Bit microcontroller. Already have a Micro:Bit from a previous session? Great\, bring it along! Need to get one? You can purchase one for $25 at check-out or at the museum when you arrive for class.
URL:https://bozone.com/event/idealab-ctrlaltcreate-decibel-detectives-grades-4-to-8-2/
LOCATION:American Computer and Robotics Museum\, 2023 Stadium Drive #1A\, Bozeman\, MT\, 59715\, United States
CATEGORIES:Classes,Miscellanea
GEO:45.6592776;-111.0549925
X-APPLE-STRUCTURED-LOCATION;VALUE=URI;X-ADDRESS=American Computer and Robotics Museum 2023 Stadium Drive #1A Bozeman MT 59715 United States;X-APPLE-RADIUS=500;X-TITLE=2023 Stadium Drive #1A:geo:-111.0549925,45.6592776
END:VEVENT
BEGIN:VEVENT
DTSTART;TZID=America/Denver:20260416T173000
DTEND;TZID=America/Denver:20260416T173000
DTSTAMP:20260423T134851
CREATED:20260401T013151Z
LAST-MODIFIED:20260401T013151Z
UID:315562-1776360600-1776360600@bozone.com
SUMMARY:Youth Mentor Network Info Session
DESCRIPTION:Join Families for a Livable Climate and Park County Environmental Council to learn more about an exciting new statewide initiative connecting college students with high school youth working on climate\, conservation\, and food systems projects across Montana \nhttps://livableclimate.org/events/2026/4/16/dw1w7rrtv8ztcp54jxyomg8niqkdcl
URL:https://bozone.com/event/youth-mentor-network-info-session/
LOCATION:Virtual Event\, Bozeman\, MT\, 59715\, United States
CATEGORIES:Classes,Miscellanea
GEO:46.8796822;-110.3625658
END:VEVENT
BEGIN:VEVENT
DTSTART;TZID=America/Denver:20260416T183000
DTEND;TZID=America/Denver:20260416T183000
DTSTAMP:20260423T134851
CREATED:20260325T152837Z
LAST-MODIFIED:20260325T152837Z
UID:313318-1776364200-1776364200@bozone.com
SUMMARY:Gather & GROW: Composting in the Gallatin Valley
DESCRIPTION:https://bozo.coop/blog/why-composting-matters-soil-community-climate?utm_source=Community+Food+Co-op+email+updates&utm_campaign=b9e12f3cf0-EMAIL_CAMPAIGN_2026_03_24_10_37&utm_medium=email&utm_term=0_-b9e12f3cf0-581539264
URL:https://bozone.com/event/gather-grow-composting-in-the-gallatin-valley/
LOCATION:Bozeman Co-op – West Main\, 908 W Main St\, Bozeman\, MT\, 59715\, United States
CATEGORIES:Classes,Lectures,Miscellanea
GEO:45.6790173;-111.0496897
X-APPLE-STRUCTURED-LOCATION;VALUE=URI;X-ADDRESS=Bozeman Co-op – West Main 908 W Main St Bozeman MT 59715 United States;X-APPLE-RADIUS=500;X-TITLE=908 W Main St:geo:-111.0496897,45.6790173
END:VEVENT
END:VCALENDAR