BEGIN:VCALENDAR
VERSION:2.0
PRODID:-//The BoZone - ECPv5.12.0//NONSGML v1.0//EN
CALSCALE:GREGORIAN
METHOD:PUBLISH
X-WR-CALNAME:The BoZone
X-ORIGINAL-URL:https://bozone.com
X-WR-CALDESC:Events for The BoZone
BEGIN:VTIMEZONE
TZID:America/Denver
BEGIN:DAYLIGHT
TZOFFSETFROM:-0700
TZOFFSETTO:-0600
TZNAME:MDT
DTSTART:20260308T090000
END:DAYLIGHT
BEGIN:STANDARD
TZOFFSETFROM:-0600
TZOFFSETTO:-0700
TZNAME:MST
DTSTART:20261101T080000
END:STANDARD
END:VTIMEZONE
BEGIN:VEVENT
DTSTART;TZID=America/Denver:20260412T160000
DTEND;TZID=America/Denver:20260412T160000
DTSTAMP:20260421T211036
CREATED:20260326T233643Z
LAST-MODIFIED:20260326T233643Z
UID:313804-1776009600-1776009600@bozone.com
SUMMARY:Paint & Sip - Fox & The Moon
DESCRIPTION:Paint your own Fox & The Moon at Audrey’s Pizza! I’ll bring everything you need to make your masterpiece – including a traceable fox stencil. Just grab a ticket online to save your seat.
URL:https://bozone.com/event/paint-sip-fox-the-moon/
LOCATION:Audrey’s Pizza & Freefall Brewery
CATEGORIES:Arts & Theatre,Classes,Miscellanea
END:VEVENT
END:VCALENDAR