BEGIN:VCALENDAR
VERSION:2.0
PRODID:-//The BoZone - ECPv5.12.0//NONSGML v1.0//EN
CALSCALE:GREGORIAN
METHOD:PUBLISH
X-WR-CALNAME:The BoZone
X-ORIGINAL-URL:https://bozone.com
X-WR-CALDESC:Events for The BoZone
BEGIN:VTIMEZONE
TZID:America/Denver
BEGIN:DAYLIGHT
TZOFFSETFROM:-0700
TZOFFSETTO:-0600
TZNAME:MDT
DTSTART:20260308T090000
END:DAYLIGHT
BEGIN:STANDARD
TZOFFSETFROM:-0600
TZOFFSETTO:-0700
TZNAME:MST
DTSTART:20261101T080000
END:STANDARD
END:VTIMEZONE
BEGIN:VEVENT
DTSTART;TZID=America/Denver:20260125T090000
DTEND;TZID=America/Denver:20260125T153000
DTSTAMP:20260422T090510
CREATED:20251228T172934Z
LAST-MODIFIED:20251228T224823Z
UID:304267-1769331600-1769355000@bozone.com
SUMMARY:Wintergreen Contra Dance Weekend (Pre-Reg Rqrd)
DESCRIPTION:Sunday  warm-up dancing starts at 9:15 AM\, contra dancing starts at\n10 AM and runs until 12:30 PM.\n\n\nWintergreen Contra Dance Weekend\nJanuary 23\, 2026\, 6:00pm – January 25\, 2026\, 12:30pm\n\n\nPRE-REGISTER AT\n\n\nhttps://bozemanfolklore.org/wintergreen-2026/\n\n\n\n\n\n\n\nBozeman Senior Social Center\n807 N Tracy Ave\, Bozeman\, MT 59715\, USA\n\n\n\n\n\nWake Up Robin\, Hyoergolic\, Christa Torrens\, and a caller TBA.\n\n\n\n\n\n\nbozemanfolklore@gmail.com\n\nCreated by: marty.albini@gmail.com
URL:https://bozone.com/event/wintergreen-contra-dance-weekend-6/
LOCATION:Tamarack Ballroom – Bozeman Senior Center\, 807 N Tracy Ave\, Bozeman\, MT\, 59715\, United States
CATEGORIES:Classes,Miscellanea,Music
GEO:45.6878919;-111.0378686
X-APPLE-STRUCTURED-LOCATION;VALUE=URI;X-ADDRESS=Tamarack Ballroom – Bozeman Senior Center 807 N Tracy Ave Bozeman MT 59715 United States;X-APPLE-RADIUS=500;X-TITLE=807 N Tracy Ave:geo:-111.0378686,45.6878919
END:VEVENT
BEGIN:VEVENT
DTSTART;TZID=America/Denver:20260125T100000
DTEND;TZID=America/Denver:20260125T100000
DTSTAMP:20260422T090510
CREATED:20251227T025326Z
LAST-MODIFIED:20251227T025516Z
UID:303721-1769335200-1769335200@bozone.com
SUMMARY:Willow Framed Lantern Making Workshop presented by Random Acts of Silliness
DESCRIPTION:Attendees will learn to construct and decorate old-fashioned willow framed lanterns that they can bring to the Menagerie of the Imaginary Lantern Parade on February 21st. Themes will focus on flames and mushrooms\, with room to explore creatively. This free\, drop-in community workshop is best suited for ages 10 and up. https://www.randomactsofsilliness.com/2026-menagerie-of-the-imaginary-lantern-parade\nReach us at (406) 600-2184 or email hello@randomactsofsilliness.com for more information.
URL:https://bozone.com/event/willow-framed-lantern-making-workshop-presented-by-random-acts-of-silliness/
LOCATION:GCF – Gallatin County Fairgrounds – GCF\, 901 N Black\, Bozeman\, United States
CATEGORIES:Arts & Theatre,Classes,Miscellanea
GEO:45.6885954;-111.0358461
X-APPLE-STRUCTURED-LOCATION;VALUE=URI;X-ADDRESS=GCF – Gallatin County Fairgrounds – GCF 901 N Black Bozeman United States;X-APPLE-RADIUS=500;X-TITLE=901 N Black:geo:-111.0358461,45.6885954
END:VEVENT
BEGIN:VEVENT
DTSTART;TZID=America/Denver:20260125T153000
DTEND;TZID=America/Denver:20260125T153000
DTSTAMP:20260422T090510
CREATED:20251227T024331Z
LAST-MODIFIED:20251227T024331Z
UID:303718-1769355000-1769355000@bozone.com
SUMMARY:Paint Your Pet
DESCRIPTION:Bring your pet to life on a canvas! In this 3 hour\, beginner-friendly class\, you’ll be guided step by step through painting your own custom pet portrait.\nEvery pet is pre-sketched so you have a guideline to follow\, and every artist gets their own unique paint palette with their pet’s exact colors. \nWant to learn more about this class? Click the link for more info!
URL:https://bozone.com/event/paint-your-pet-5/
LOCATION:Bar 3 BBQ\, 119 East Main St\, Belgrade\, MT\, 59714\, United States
CATEGORIES:Arts & Theatre,Classes,Miscellanea
GEO:45.7765839;-111.1771994
X-APPLE-STRUCTURED-LOCATION;VALUE=URI;X-ADDRESS=Bar 3 BBQ 119 East Main St Belgrade MT 59714 United States;X-APPLE-RADIUS=500;X-TITLE=119 East Main St:geo:-111.1771994,45.7765839
END:VEVENT
END:VCALENDAR