BEGIN:VCALENDAR
VERSION:2.0
PRODID:-//The BoZone - ECPv5.12.0//NONSGML v1.0//EN
CALSCALE:GREGORIAN
METHOD:PUBLISH
X-WR-CALNAME:The BoZone
X-ORIGINAL-URL:https://bozone.com
X-WR-CALDESC:Events for The BoZone
BEGIN:VTIMEZONE
TZID:America/Denver
BEGIN:DAYLIGHT
TZOFFSETFROM:-0700
TZOFFSETTO:-0600
TZNAME:MDT
DTSTART:20260308T090000
END:DAYLIGHT
BEGIN:STANDARD
TZOFFSETFROM:-0600
TZOFFSETTO:-0700
TZNAME:MST
DTSTART:20261101T080000
END:STANDARD
END:VTIMEZONE
BEGIN:VEVENT
DTSTART;TZID=America/Denver:20260119T093000
DTEND;TZID=America/Denver:20260119T093000
DTSTAMP:20260422T144418
CREATED:20260117T030134Z
LAST-MODIFIED:20260117T030808Z
UID:305594-1768815000-1768815000@bozone.com
SUMMARY:Algebra 1 Final Exam Review
DESCRIPTION:Any BSD7 high school students with an Algebra 1 final exam coming up can join us for extra last minute review!Final exams take place Wednesday January 20 through Friday January 23. Our professional experienced tutors are ready to help!
URL:https://bozone.com/event/algebra-1-final-exam-review-2/
LOCATION:Kiln of Bozeman\, 219 North 19th Avenue\, Bozeman\, MT\, 59718\, United States
CATEGORIES:Classes
GEO:45.6818504;-111.0627115
X-APPLE-STRUCTURED-LOCATION;VALUE=URI;X-ADDRESS=Kiln of Bozeman 219 North 19th Avenue Bozeman MT 59718 United States;X-APPLE-RADIUS=500;X-TITLE=219 North 19th Avenue:geo:-111.0627115,45.6818504
END:VEVENT
BEGIN:VEVENT
DTSTART;TZID=America/Denver:20260119T123000
DTEND;TZID=America/Denver:20260119T123000
DTSTAMP:20260422T144418
CREATED:20260117T030141Z
LAST-MODIFIED:20260117T030821Z
UID:305593-1768825800-1768825800@bozone.com
SUMMARY:Geometry Final Exam Review
DESCRIPTION:Any BSD7 high school students with a Geometry Final Exam coming up should join our team of expert tutors for extra studying!\nFinal exams take place Wednesday January 21 through Friday January 23. Our team of expert tutors are here and ready to help students prepare!
URL:https://bozone.com/event/geometry-final-exam-review-2/
LOCATION:Kiln of Bozeman\, 219 North 19th Avenue\, Bozeman\, MT\, 59718\, United States
CATEGORIES:Classes
GEO:45.6818504;-111.0627115
X-APPLE-STRUCTURED-LOCATION;VALUE=URI;X-ADDRESS=Kiln of Bozeman 219 North 19th Avenue Bozeman MT 59718 United States;X-APPLE-RADIUS=500;X-TITLE=219 North 19th Avenue:geo:-111.0627115,45.6818504
END:VEVENT
BEGIN:VEVENT
DTSTART;TZID=America/Denver:20260119T153000
DTEND;TZID=America/Denver:20260119T153000
DTSTAMP:20260422T144418
CREATED:20260117T031528Z
LAST-MODIFIED:20260117T031719Z
UID:305592-1768836600-1768836600@bozone.com
SUMMARY:Algebra 2 Final Exam Review
DESCRIPTION:Any BSD7 high school students with an Algebra 2 Final Exam coming up should join our team of expert tutors for extra studying!\nFinal exams take place Wednesday January 21 through Friday January 23. Our team of expert tutors are here and ready to help students prepare!
URL:https://bozone.com/event/algebra-2-final-exam-review-2/
LOCATION:Kiln of Bozeman\, 219 North 19th Avenue\, Bozeman\, MT\, 59718\, United States
CATEGORIES:Classes
GEO:45.6818504;-111.0627115
X-APPLE-STRUCTURED-LOCATION;VALUE=URI;X-ADDRESS=Kiln of Bozeman 219 North 19th Avenue Bozeman MT 59718 United States;X-APPLE-RADIUS=500;X-TITLE=219 North 19th Avenue:geo:-111.0627115,45.6818504
END:VEVENT
BEGIN:VEVENT
DTSTART;TZID=America/Denver:20260119T180000
DTEND;TZID=America/Denver:20260119T180000
DTSTAMP:20260422T144418
CREATED:20260117T032455Z
LAST-MODIFIED:20260117T032455Z
UID:305611-1768845600-1768845600@bozone.com
SUMMARY:Paint & Sip - Winter Cardinal
DESCRIPTION:Paint your own beautiful cardinal at Last Best Place Brewing! I’ll bring everything you need to make a masterpiece.\nWhat: A beginner-friendly painting class \nWhen: Monday\, January 19th from 6:00-8:00 PM \nWhere: 605 N 7th Ave\, Bozeman\, MT 59715 \nHow: Buy a ticket online to reserve your seat: https://aintabetterwaytopaint.com/buy-your-tickets/p/wintercardinal \nPS: Please arrive 10 minutes early to grab your drinks and get settled!
URL:https://bozone.com/event/paint-sip-winter-cardinal/
LOCATION:Last Best Place Brewing Co.\, 605 N. 7th Ave\, Bozeman\, MT\, 59715\, United States
CATEGORIES:Arts & Theatre,Classes
GEO:45.6857672;-111.0466208
X-APPLE-STRUCTURED-LOCATION;VALUE=URI;X-ADDRESS=Last Best Place Brewing Co. 605 N. 7th Ave Bozeman MT 59715 United States;X-APPLE-RADIUS=500;X-TITLE=605 N. 7th Ave:geo:-111.0466208,45.6857672
END:VEVENT
END:VCALENDAR