BEGIN:VCALENDAR
VERSION:2.0
PRODID:-//The BoZone - ECPv5.12.0//NONSGML v1.0//EN
CALSCALE:GREGORIAN
METHOD:PUBLISH
X-WR-CALNAME:The BoZone
X-ORIGINAL-URL:https://bozone.com
X-WR-CALDESC:Events for The BoZone
BEGIN:VTIMEZONE
TZID:America/Denver
BEGIN:DAYLIGHT
TZOFFSETFROM:-0700
TZOFFSETTO:-0600
TZNAME:MDT
DTSTART:20260308T090000
END:DAYLIGHT
BEGIN:STANDARD
TZOFFSETFROM:-0600
TZOFFSETTO:-0700
TZNAME:MST
DTSTART:20261101T080000
END:STANDARD
END:VTIMEZONE
BEGIN:VEVENT
DTSTART;TZID=America/Denver:20260114T160000
DTEND;TZID=America/Denver:20260114T170000
DTSTAMP:20260423T001908
CREATED:20251228T211531Z
LAST-MODIFIED:20251228T211531Z
UID:304349-1768406400-1768410000@bozone.com
SUMMARY:Midweek Eats - Creatively Healthy w/ Amy Ferguson
DESCRIPTION:Midweek Eats – Creatively Healthy\nWednesday\, January 14: 4:00pm – 5:00pm\n BPL – The Kitchen Table\nAge group:   All Ages\nevent type:  Health & Wellness\, Creative Labs\nJoin Amy Ferguson\, PharmD and Integrative Nutrition Health Coach\, for simple and creative strategies to prepare healthier meals for those you love.
URL:https://bozone.com/event/midweek-eats-creatively-healthy-w-amy-ferguson/
LOCATION:Bozeman Public Library\, 626 East Main Street\, Bozeman\, MT\, 59715\, United States
CATEGORIES:Classes,Miscellanea
GEO:45.6785823;-111.0270991
X-APPLE-STRUCTURED-LOCATION;VALUE=URI;X-ADDRESS=Bozeman Public Library 626 East Main Street Bozeman MT 59715 United States;X-APPLE-RADIUS=500;X-TITLE=626 East Main Street:geo:-111.0270991,45.6785823
END:VEVENT
BEGIN:VEVENT
DTSTART;TZID=America/Denver:20260114T160000
DTEND;TZID=America/Denver:20260114T160000
DTSTAMP:20260423T001908
CREATED:20260117T025133Z
LAST-MODIFIED:20260117T030657Z
UID:305586-1768406400-1768406400@bozone.com
SUMMARY:Algebra 1 Group Tutoring
DESCRIPTION:Big Sky Tutoring hosts a weekly Algebra 1 study group for interested high school students. The event takes place weekly from 4-5pm at Kiln of Bozeman (219 N 19th Avenue). Our instructor is a veteran teacher who is passionate about mathematics. Come try it out! When you love it\, you can always come back next week!
URL:https://bozone.com/event/__trashed-3/
LOCATION:Kiln of Bozeman\, 219 North 19th Avenue\, Bozeman\, MT\, 59718\, United States
CATEGORIES:Classes
GEO:45.6818504;-111.0627115
X-APPLE-STRUCTURED-LOCATION;VALUE=URI;X-ADDRESS=Kiln of Bozeman 219 North 19th Avenue Bozeman MT 59718 United States;X-APPLE-RADIUS=500;X-TITLE=219 North 19th Avenue:geo:-111.0627115,45.6818504
END:VEVENT
BEGIN:VEVENT
DTSTART;TZID=America/Denver:20260114T180000
DTEND;TZID=America/Denver:20260114T180000
DTSTAMP:20260423T001908
CREATED:20260117T025134Z
LAST-MODIFIED:20260117T030720Z
UID:305583-1768413600-1768413600@bozone.com
SUMMARY:Algebra 2 Weekly Tutoring Group
DESCRIPTION:Big Sky Tutoring hosts a weekly Algebra 2 Group tutoring session on Wednesdays at 6pm. Sessions take place at the Kiln Coworking space (219 N 19th Avenue). Any Algebra 2 students are invited to come in for extra help. Try it out! When you love it\, you can always drop in when you need it.
URL:https://bozone.com/event/__trashed-4/
LOCATION:Kiln of Bozeman\, 219 North 19th Avenue\, Bozeman\, MT\, 59718\, United States
CATEGORIES:Classes
GEO:45.6818504;-111.0627115
X-APPLE-STRUCTURED-LOCATION;VALUE=URI;X-ADDRESS=Kiln of Bozeman 219 North 19th Avenue Bozeman MT 59718 United States;X-APPLE-RADIUS=500;X-TITLE=219 North 19th Avenue:geo:-111.0627115,45.6818504
END:VEVENT
BEGIN:VEVENT
DTSTART;TZID=America/Denver:20260114T190000
DTEND;TZID=America/Denver:20260114T190000
DTSTAMP:20260423T001909
CREATED:20251228T152316Z
LAST-MODIFIED:20251228T152316Z
UID:304170-1768417200-1768417200@bozone.com
SUMMARY:Adult Swing Wednesdays
DESCRIPTION:Jan\n14\n\n\n\n\n\nAdult Swing Wednesdays\n\nAges 21+\n$15/Person\n$25/Couple\n\n\n\n\n7:00 PM\n\n\n\nThe Westerner
URL:https://bozone.com/event/adult-swing-wednesdays-8/
LOCATION:The Westerner – Gallatin Gateway\, 304 Mill St\, Gallatin Gateway\, MT\, 59730\, United States
CATEGORIES:Classes,Miscellanea,Music
GEO:45.5907797;-111.2029969
X-APPLE-STRUCTURED-LOCATION;VALUE=URI;X-ADDRESS=The Westerner – Gallatin Gateway 304 Mill St Gallatin Gateway MT 59730 United States;X-APPLE-RADIUS=500;X-TITLE=304 Mill St:geo:-111.2029969,45.5907797
END:VEVENT
END:VCALENDAR