BEGIN:VCALENDAR
VERSION:2.0
PRODID:-//The BoZone - ECPv5.12.0//NONSGML v1.0//EN
CALSCALE:GREGORIAN
METHOD:PUBLISH
X-WR-CALNAME:The BoZone
X-ORIGINAL-URL:https://bozone.com
X-WR-CALDESC:Events for The BoZone
BEGIN:VTIMEZONE
TZID:America/Denver
BEGIN:DAYLIGHT
TZOFFSETFROM:-0700
TZOFFSETTO:-0600
TZNAME:MDT
DTSTART:20250309T090000
END:DAYLIGHT
BEGIN:STANDARD
TZOFFSETFROM:-0600
TZOFFSETTO:-0700
TZNAME:MST
DTSTART:20251102T080000
END:STANDARD
END:VTIMEZONE
BEGIN:VEVENT
DTSTART;TZID=America/Denver:20251118T100000
DTEND;TZID=America/Denver:20251118T100000
DTSTAMP:20260423T124820
CREATED:20251025T014140Z
LAST-MODIFIED:20251025T014140Z
UID:300278-1763460000-1763460000@bozone.com
SUMMARY:Creative Non-Fiction Writing
DESCRIPTION:Do you have something to say? Want expert guidance and a supportive space? Enrich your life with as renowned author Amy Leach leads students by cultivating your attention\, writing\, stories and voices through wordplay and wordwork\, generating pieces through activities and assignments.Read your work aloud to a friendly and attentive audience\, and be influenced by music\, painting\, and nature. Optional: perform your work at story slams and other events. \nSix sessions\, from 10 am to noon\, Tuesdays and Thursdays November 4\, 6\, 11\, 13\, 18 and 20.
URL:https://bozone.com/event/creative-non-fiction-writing/2025-11-18/
LOCATION:Verge Theater – Emerson Suite 107\, 111 S Grande Ave Suite 107\, Bozeman\, MT\, 59715\, United States
CATEGORIES:Classes
GEO:45.7025707;-111.0453171
X-APPLE-STRUCTURED-LOCATION;VALUE=URI;X-ADDRESS=Verge Theater – Emerson Suite 107 111 S Grande Ave Suite 107 Bozeman MT 59715 United States;X-APPLE-RADIUS=500;X-TITLE=111 S Grande Ave Suite 107:geo:-111.0453171,45.7025707
END:VEVENT
BEGIN:VEVENT
DTSTART;TZID=America/Denver:20251118T174500
DTEND;TZID=America/Denver:20251118T174500
DTSTAMP:20260423T124820
CREATED:20251030T165156Z
LAST-MODIFIED:20251030T165456Z
UID:301586-1763487900-1763487900@bozone.com
SUMMARY:Financial Skill Building - Free
DESCRIPTION:Homeword’s FREE Financial Skill Building class helps you gain essential money management skills to make your finances go farther with savings\, investing or paying down debt. This event is from November 18-20\, from 5:45 pm – 8:30 pm. The event is virtual. Please visit www.homeword.org/class/financial-skill-building to register for this free course. You can email kaitlyn@homeword.org or call (406) 532-4663 x 10 with any questions. We hope to see you there! \nhttps://www.homeword.org/class/financial-skill-building
URL:https://bozone.com/event/financial-skill-building-free/
LOCATION:Virtual Event\, Bozeman\, MT\, 59715\, United States
CATEGORIES:Classes,Miscellanea
GEO:46.8796822;-110.3625658
END:VEVENT
END:VCALENDAR