BEGIN:VCALENDAR
VERSION:2.0
PRODID:-//The BoZone - ECPv5.12.0//NONSGML v1.0//EN
CALSCALE:GREGORIAN
METHOD:PUBLISH
X-WR-CALNAME:The BoZone
X-ORIGINAL-URL:https://bozone.com
X-WR-CALDESC:Events for The BoZone
BEGIN:VTIMEZONE
TZID:America/Denver
BEGIN:DAYLIGHT
TZOFFSETFROM:-0700
TZOFFSETTO:-0600
TZNAME:MDT
DTSTART:20250309T090000
END:DAYLIGHT
BEGIN:STANDARD
TZOFFSETFROM:-0600
TZOFFSETTO:-0700
TZNAME:MST
DTSTART:20251102T080000
END:STANDARD
END:VTIMEZONE
BEGIN:VEVENT
DTSTART;TZID=America/Denver:20251116T120000
DTEND;TZID=America/Denver:20251116T120000
DTSTAMP:20260423T092532
CREATED:20251109T204150Z
LAST-MODIFIED:20251109T204150Z
UID:301823-1763294400-1763294400@bozone.com
SUMMARY:Sublimation Printed Clothing Collage: Drop In Workshops
DESCRIPTION:Learn how to up-cycle clothing with the sublimation printing method in this drop-in workshop!
URL:https://bozone.com/event/sublimation-printed-clothing-collage-drop-in-workshops/
LOCATION:Studio Wheelhouse\, 10 Evergreen Drive\, Suite B\, Bozeman\, MT\, 59715\, United States
CATEGORIES:Classes
GEO:45.6956768;-111.0351487
X-APPLE-STRUCTURED-LOCATION;VALUE=URI;X-ADDRESS=Studio Wheelhouse 10 Evergreen Drive Suite B Bozeman MT 59715 United States;X-APPLE-RADIUS=500;X-TITLE=10 Evergreen Drive\, Suite B:geo:-111.0351487,45.6956768
END:VEVENT
BEGIN:VEVENT
DTSTART;TZID=America/Denver:20251116T160000
DTEND;TZID=America/Denver:20251116T160000
DTSTAMP:20260423T092532
CREATED:20251109T201324Z
LAST-MODIFIED:20251109T201324Z
UID:301851-1763308800-1763308800@bozone.com
SUMMARY:Fall Wreath Workshop
DESCRIPTION:Join us for a luxurious fall wreath workshop at a boutique horse ranch.\nCelebrate the season’s beauty with an elevated fall wreath workshop against the stunning backdrop of Cloud Nine Equine Ranch in scenic Gallatin Gateway. Led by an experienced flower farmer\, you’ll craft your own custom fall wreath using unique\, organic\, and locally sourced materials. \nYou’ll start the evening with a personalized farm tour\, where we’ll feed the goats\, pet the horses\, and enjoy mountain views. Afterwards\, we’ll have light bites and drinks in the cozy horse barn while creating a beautiful\, textured wreath inspired by the Montana landscape. Bring a friend and your creative spirit. No experience required; guests 16 and older are welcome!
URL:https://bozone.com/event/fall-wreath-workshop/
LOCATION:Cloud Nine Equine Ranch\, 1272 Cottontail Rd\, Gallatin Gateway\, 59730
CATEGORIES:Classes
END:VEVENT
BEGIN:VEVENT
DTSTART;TZID=America/Denver:20251116T170000
DTEND;TZID=America/Denver:20251116T170000
DTSTAMP:20260423T092533
CREATED:20251010T220534Z
LAST-MODIFIED:20251010T220534Z
UID:299884-1763312400-1763312400@bozone.com
SUMMARY:Paint Your Partner
DESCRIPTION:Paint your partner at Audrey’s Pizza & FreeFall Brewery! I’ll bring everything you need to paint your partner and give a few pointers along the way. Feel free to bring a photo or paint them live.\nWhat: A beginner-friendly painting class \nWhen: Sunday\, November 16th from 5:00-7:00 PM \nWhere: Audrey’s Pizza & FreeFall Brewery 806 N 7th Ave\, Bozeman\, MT 59715 \nWho: You and your pals \nWhy: Why not? \nHow: Buy a ticket online to reserve your seat \nPS: Please arrive 10 minutes early to grab your drinks and get settled!
URL:https://bozone.com/event/paint-your-partner/
LOCATION:Audrey’s Pizza & Freefall Brewery
CATEGORIES:Arts & Theatre,Classes
END:VEVENT
END:VCALENDAR