BEGIN:VCALENDAR
VERSION:2.0
PRODID:-//The BoZone - ECPv5.12.0//NONSGML v1.0//EN
CALSCALE:GREGORIAN
METHOD:PUBLISH
X-WR-CALNAME:The BoZone
X-ORIGINAL-URL:https://bozone.com
X-WR-CALDESC:Events for The BoZone
BEGIN:VTIMEZONE
TZID:America/Denver
BEGIN:DAYLIGHT
TZOFFSETFROM:-0700
TZOFFSETTO:-0600
TZNAME:MDT
DTSTART:20250309T090000
END:DAYLIGHT
BEGIN:STANDARD
TZOFFSETFROM:-0600
TZOFFSETTO:-0700
TZNAME:MST
DTSTART:20251102T080000
END:STANDARD
END:VTIMEZONE
BEGIN:VEVENT
DTSTART;TZID=America/Denver:20251115T100000
DTEND;TZID=America/Denver:20251115T100000
DTSTAMP:20260423T074521
CREATED:20251109T195607Z
LAST-MODIFIED:20251109T195607Z
UID:301825-1763200800-1763200800@bozone.com
SUMMARY:Mosaics 101: Pumpkins
DESCRIPTION:Create a stained glass mosaic pumpkin to celebrate fall! This class covers breaking and cutting glass\, mosaic assembly and grouting. Supplies and personal instruction included. Please wear close toed shoes.
URL:https://bozone.com/event/mosaics-101-pumpkins/
LOCATION:Studio Wheelhouse\, 10 Evergreen Drive\, Suite B\, Bozeman\, MT\, 59715\, United States
CATEGORIES:Classes
GEO:45.6956768;-111.0351487
X-APPLE-STRUCTURED-LOCATION;VALUE=URI;X-ADDRESS=Studio Wheelhouse 10 Evergreen Drive Suite B Bozeman MT 59715 United States;X-APPLE-RADIUS=500;X-TITLE=10 Evergreen Drive\, Suite B:geo:-111.0351487,45.6956768
END:VEVENT
BEGIN:VEVENT
DTSTART;TZID=America/Denver:20251115T153000
DTEND;TZID=America/Denver:20251115T153000
DTSTAMP:20260423T074522
CREATED:20251109T195713Z
LAST-MODIFIED:20251109T195713Z
UID:301824-1763220600-1763220600@bozone.com
SUMMARY:Book Rebinding: Eragon by Christopher Paolini
DESCRIPTION:Unleash your inner dragon rider this November! Join us for an epic bookbinding workshop where you’ll transform Christopher Paolini’s Eragon into a custom hardcover worthy of Alagaësia itself. Learn book cloth binding and heat transfer vinyl application while crafting a personalized fantasy edition.\nNo previous bookbinding experience required\, just a love of adventure and making things with your hands. Ages 13+.
URL:https://bozone.com/event/book-rebinding-eragon-by-christopher-paolini/
LOCATION:Studio Wheelhouse\, 10 Evergreen Drive\, Suite B\, Bozeman\, MT\, 59715\, United States
CATEGORIES:Classes
GEO:45.6956768;-111.0351487
X-APPLE-STRUCTURED-LOCATION;VALUE=URI;X-ADDRESS=Studio Wheelhouse 10 Evergreen Drive Suite B Bozeman MT 59715 United States;X-APPLE-RADIUS=500;X-TITLE=10 Evergreen Drive\, Suite B:geo:-111.0351487,45.6956768
END:VEVENT
END:VCALENDAR