BEGIN:VCALENDAR
VERSION:2.0
PRODID:-//The BoZone - ECPv5.12.0//NONSGML v1.0//EN
CALSCALE:GREGORIAN
METHOD:PUBLISH
X-WR-CALNAME:The BoZone
X-ORIGINAL-URL:https://bozone.com
X-WR-CALDESC:Events for The BoZone
BEGIN:VTIMEZONE
TZID:America/Denver
BEGIN:DAYLIGHT
TZOFFSETFROM:-0700
TZOFFSETTO:-0600
TZNAME:MDT
DTSTART:20250309T090000
END:DAYLIGHT
BEGIN:STANDARD
TZOFFSETFROM:-0600
TZOFFSETTO:-0700
TZNAME:MST
DTSTART:20251102T080000
END:STANDARD
END:VTIMEZONE
BEGIN:VEVENT
DTSTART;TZID=America/Denver:20251104T100000
DTEND;TZID=America/Denver:20251104T100000
DTSTAMP:20260422T145847
CREATED:20251025T014140Z
LAST-MODIFIED:20251025T014140Z
UID:300191-1762250400-1762250400@bozone.com
SUMMARY:Creative Non-Fiction Writing
DESCRIPTION:Do you have something to say? Want expert guidance and a supportive space? Enrich your life with as renowned author Amy Leach leads students by cultivating your attention\, writing\, stories and voices through wordplay and wordwork\, generating pieces through activities and assignments.Read your work aloud to a friendly and attentive audience\, and be influenced by music\, painting\, and nature. Optional: perform your work at story slams and other events. \nSix sessions\, from 10 am to noon\, Tuesdays and Thursdays November 4\, 6\, 11\, 13\, 18 and 20.
URL:https://bozone.com/event/creative-non-fiction-writing/
LOCATION:Verge Theater – Emerson Suite 107\, 111 S Grande Ave Suite 107\, Bozeman\, MT\, 59715\, United States
CATEGORIES:Classes
GEO:45.7025707;-111.0453171
X-APPLE-STRUCTURED-LOCATION;VALUE=URI;X-ADDRESS=Verge Theater – Emerson Suite 107 111 S Grande Ave Suite 107 Bozeman MT 59715 United States;X-APPLE-RADIUS=500;X-TITLE=111 S Grande Ave Suite 107:geo:-111.0453171,45.7025707
END:VEVENT
BEGIN:VEVENT
DTSTART;TZID=America/Denver:20251104T173000
DTEND;TZID=America/Denver:20251104T173000
DTSTAMP:20260422T145847
CREATED:20251025T023709Z
LAST-MODIFIED:20251025T023709Z
UID:300193-1762277400-1762277400@bozone.com
SUMMARY:Journal Like Jane (Ages 10+)
DESCRIPTION:Tuesday\, November 4\, 2025\n5:30pm – 7:00pm\nChannel your inner explorer and step into the wild with a nature journaling adventure inspired by the legendary Dr. Jane Goodall. Perfect for curious kids\, adults\, and families\, this hands-on program invites you to slow down\, look closely\, and truly connect with the world around you. With a pencil in one hand and your nature tools in the other\, you will learn simple drawing tricks and creative writing prompts to capture what you see\, hear\, and feel\, whether it is the flutter of a bird’s wings or the rustle of leaves in the wind. Along the way\, you will discover how to blend science with storytelling\, observe patterns in nature\, and spark a sense of wonder that lasts long after the day ends. Everyone will leave with their own set of tools and the inspiration to keep exploring wherever they go. \nOutdoors or Changing Exhibit Galleries (Weather-dependent)\n$15/member\, $20/non-member\nRegistration is required
URL:https://bozone.com/event/journal-like-jane-ages-10/
LOCATION:Museum of the Rockies\, 600 W Kagy Blvd\, Bozeman\, MT\, 59718\, United States
CATEGORIES:Classes
GEO:46.8796822;-110.3625658
X-APPLE-STRUCTURED-LOCATION;VALUE=URI;X-ADDRESS=Museum of the Rockies 600 W Kagy Blvd Bozeman MT 59718 United States;X-APPLE-RADIUS=500;X-TITLE=600 W Kagy Blvd:geo:-110.3625658,46.8796822
END:VEVENT
END:VCALENDAR