BEGIN:VCALENDAR
VERSION:2.0
PRODID:-//The BoZone - ECPv5.12.0//NONSGML v1.0//EN
CALSCALE:GREGORIAN
METHOD:PUBLISH
X-WR-CALNAME:The BoZone
X-ORIGINAL-URL:https://bozone.com
X-WR-CALDESC:Events for The BoZone
BEGIN:VTIMEZONE
TZID:America/Denver
BEGIN:DAYLIGHT
TZOFFSETFROM:-0700
TZOFFSETTO:-0600
TZNAME:MDT
DTSTART:20250309T090000
END:DAYLIGHT
BEGIN:STANDARD
TZOFFSETFROM:-0600
TZOFFSETTO:-0700
TZNAME:MST
DTSTART:20251102T080000
END:STANDARD
END:VTIMEZONE
BEGIN:VEVENT
DTSTART;TZID=America/Denver:20251103T100000
DTEND;TZID=America/Denver:20251103T100000
DTSTAMP:20260422T164430
CREATED:20250810T020809Z
LAST-MODIFIED:20250810T020843Z
UID:295547-1762164000-1762164000@bozone.com
SUMMARY:3rd International Summit on Environmental Science and Engineering
DESCRIPTION:Madrid\, SpainSpectrum Conferences takes the pleasure and honor to invite all the participants from all over the world to attend the 3rd International Summit on Environmental Science and Engineering\, which will be held in Madrid\, Spain from November 03-05\, 2025 and which will include keynote presentations\, oral talks\, poster presentations and exhibitions.\nISESE2025 provides a platform for researchers to connect\, exchange ideas and establish new collaborations. Participants from all over the world are invited to attend and share the latest developments and cutting-edge technologies in the areas of Environmental Science and Engineering. Apart from the technical sessions\, attendees can indulge in the rich cultural experiences and local cuisine of Edinburgh and its surrounding areas through guided tours of historic sites\, cultural events and food tastings. \nJoin us at ISESE2025 in Madrid\, Spain for a truly unforgettable experience! \nyours Sincerely\,\nKarthik S | Conference Secretary\nISESE2025 \nMadrid\, Spain
URL:https://bozone.com/event/3rd-international-summit-on-environmental-science-and-engineering/
LOCATION:Madrid\, Spain\, Madrid\, Spain
CATEGORIES:Classes
END:VEVENT
END:VCALENDAR