BEGIN:VCALENDAR
VERSION:2.0
PRODID:-//The BoZone - ECPv5.12.0//NONSGML v1.0//EN
CALSCALE:GREGORIAN
METHOD:PUBLISH
X-WR-CALNAME:The BoZone
X-ORIGINAL-URL:https://bozone.com
X-WR-CALDESC:Events for The BoZone
BEGIN:VTIMEZONE
TZID:America/Denver
BEGIN:DAYLIGHT
TZOFFSETFROM:-0700
TZOFFSETTO:-0600
TZNAME:MDT
DTSTART:20250309T090000
END:DAYLIGHT
BEGIN:STANDARD
TZOFFSETFROM:-0600
TZOFFSETTO:-0700
TZNAME:MST
DTSTART:20251102T080000
END:STANDARD
END:VTIMEZONE
BEGIN:VEVENT
DTSTART;TZID=America/Denver:20251031T100000
DTEND;TZID=America/Denver:20251031T100000
DTSTAMP:20260422T104741
CREATED:20250918T133050Z
LAST-MODIFIED:20250918T133050Z
UID:297637-1761904800-1761904800@bozone.com
SUMMARY:Early Learning Spooktacular Drop-In (Ages 0 - 5)
DESCRIPTION:Attendees of Sensational Babies\, Little Learners\, and Preschool Pioneers are welcome to join us for a special Halloween-themed early learning drop-in program designed just for our youngest learners! Children are invited to wear their favorite costumes as they explore spooky (but not scary) sensory bins\, create festive crafts\, and engage in playful\, age-appropriate activities that support early development. This seasonal celebration combines fun and imagination with hands-on learning experiences in a safe\, welcoming environment.\nRedstart Classroom\nIncluded with membership/admission
URL:https://bozone.com/event/early-learning-spooktacular-drop-in-ages-0-5/
LOCATION:Museum of the Rockies\, 600 W Kagy Blvd\, Bozeman\, MT\, 59718\, United States
CATEGORIES:Classes
GEO:46.8796822;-110.3625658
X-APPLE-STRUCTURED-LOCATION;VALUE=URI;X-ADDRESS=Museum of the Rockies 600 W Kagy Blvd Bozeman MT 59718 United States;X-APPLE-RADIUS=500;X-TITLE=600 W Kagy Blvd:geo:-110.3625658,46.8796822
END:VEVENT
END:VCALENDAR