BEGIN:VCALENDAR
VERSION:2.0
PRODID:-//The BoZone - ECPv5.12.0//NONSGML v1.0//EN
CALSCALE:GREGORIAN
METHOD:PUBLISH
X-WR-CALNAME:The BoZone
X-ORIGINAL-URL:https://bozone.com
X-WR-CALDESC:Events for The BoZone
BEGIN:VTIMEZONE
TZID:America/Denver
BEGIN:DAYLIGHT
TZOFFSETFROM:-0700
TZOFFSETTO:-0600
TZNAME:MDT
DTSTART:20240310T090000
END:DAYLIGHT
BEGIN:STANDARD
TZOFFSETFROM:-0600
TZOFFSETTO:-0700
TZNAME:MST
DTSTART:20241103T080000
END:STANDARD
END:VTIMEZONE
BEGIN:VEVENT
DTSTART;TZID=America/Denver:20240616T100000
DTEND;TZID=America/Denver:20240616T100000
DTSTAMP:20260421T091322
CREATED:20240529T200502Z
LAST-MODIFIED:20240529T200502Z
UID:263247-1718532000-1718532000@bozone.com
SUMMARY:Free Guided Plant Walk
DESCRIPTION:Join Hungry Heart Quests for a free guided plant walk on Triple Tree Trail in Bozeman\, MT.\nOn this walk\, you’ll learn about some of the wildflowers and medicinal plants that grow in the region. The section of trail hiked is 2 miles round trip over flat and gently rolling hills. Expect to walk for 60+ minutes and bring water and a light snack. Please arrive at the trailhead 15 minutes early. \nPlease Register in advance at https://www.hungryheartquests.com/plant-walk-registration
URL:https://bozone.com/event/free-guided-plant-walk-2024-06-16/
LOCATION:Triple Tree Trailhead\, 5974 Sourdough Rd\, Bozeman\, MT\, 59715\, United States
CATEGORIES:Classes
GEO:45.614523;-111.0219853
X-APPLE-STRUCTURED-LOCATION;VALUE=URI;X-ADDRESS=Triple Tree Trailhead 5974 Sourdough Rd Bozeman MT 59715 United States;X-APPLE-RADIUS=500;X-TITLE=5974 Sourdough Rd:geo:-111.0219853,45.614523
END:VEVENT
END:VCALENDAR