BEGIN:VCALENDAR
VERSION:2.0
PRODID:-//The BoZone - ECPv5.12.0//NONSGML v1.0//EN
CALSCALE:GREGORIAN
METHOD:PUBLISH
X-WR-CALNAME:The BoZone
X-ORIGINAL-URL:https://bozone.com
X-WR-CALDESC:Events for The BoZone
BEGIN:VTIMEZONE
TZID:America/Denver
BEGIN:DAYLIGHT
TZOFFSETFROM:-0700
TZOFFSETTO:-0600
TZNAME:MDT
DTSTART:20260308T090000
END:DAYLIGHT
BEGIN:STANDARD
TZOFFSETFROM:-0600
TZOFFSETTO:-0700
TZNAME:MST
DTSTART:20261101T080000
END:STANDARD
END:VTIMEZONE
BEGIN:VEVENT
DTSTART;TZID=America/Denver:20260620T200000
DTEND;TZID=America/Denver:20260815T200000
DTSTAMP:20260423T174736
CREATED:20260423T172847Z
LAST-MODIFIED:20260423T172847Z
UID:316474-1781985600-1786824000@bozone.com
SUMMARY:MSiP: "Much Ado About Nothing"
DESCRIPTION:Montana Shakespeare in the Parks’ summer productions will kick off in June at MSU’s Duck Pond along South 11th Avenue. Performers will bring playwright William Shakespeare’s\n“The Merchant of Venice” to the stage June 10-13\, while\n“Much Ado About Nothing” will be performed June 17-20. \nprogram will return to Bozeman for its final performance of\n“The Merchant of Venice” on Sept. 8 at Grant Chamberlain Park on the MSU campus.\nIn all this summer\, it will offer free performances in 64 communities across five states: Montana\, Idaho\, North Dakota\, Washington and Wyoming. The full tour schedule can be found on MSIP’s website. \nhttp://www.montana.edu/news/25232
URL:https://bozone.com/event/msip-much-ado-about-nothing-4/
LOCATION:MSU Duck Pond\, Montana State University\, Bozeman\, MT\, 59715\, United States
CATEGORIES:Arts & Theatre
GEO:45.6667557;-111.04981
X-APPLE-STRUCTURED-LOCATION;VALUE=URI;X-ADDRESS=MSU Duck Pond Montana State University Bozeman MT 59715 United States;X-APPLE-RADIUS=500;X-TITLE=Montana State University:geo:-111.04981,45.6667557
END:VEVENT
END:VCALENDAR