BEGIN:VCALENDAR
VERSION:2.0
PRODID:-//The BoZone - ECPv5.12.0//NONSGML v1.0//EN
CALSCALE:GREGORIAN
METHOD:PUBLISH
X-WR-CALNAME:The BoZone
X-ORIGINAL-URL:https://bozone.com
X-WR-CALDESC:Events for The BoZone
BEGIN:VTIMEZONE
TZID:America/Denver
BEGIN:DAYLIGHT
TZOFFSETFROM:-0700
TZOFFSETTO:-0600
TZNAME:MDT
DTSTART:20260308T090000
END:DAYLIGHT
BEGIN:STANDARD
TZOFFSETFROM:-0600
TZOFFSETTO:-0700
TZNAME:MST
DTSTART:20261101T080000
END:STANDARD
END:VTIMEZONE
BEGIN:VEVENT
DTSTART;TZID=America/Denver:20260723T120000
DTEND;TZID=America/Denver:20260723T235900
DTSTAMP:20260420T121254
CREATED:20260226T164636Z
LAST-MODIFIED:20260329T034146Z
UID:312442-1784808000-1784851140@bozone.com
SUMMARY:15th Red Ants Pants Music Festival
DESCRIPTION:Home \n \nNEWS: THE 15TH RED ANTS PANTS MUSIC FESTIVAL ANNOUNCES RICKY SKAGGS & KENTUCKY THUNDER\, MOLLY TUTTLE\, SARA EVANS\, OLD 97’s\, SHINYRIBS\, BRANDY CLARK AND MORE!! \n15th Anniversary Celebration Includes More Music\, Campground & Gates Opening Earlier \nThe 15th Red Ants Pants Music Festival announced its 2026 lineup featuring Ricky Skaggs & Kentucky Thunder\, Molly Tuttle\, Sara Evans\, Old 97’s\, Shinyribs\, Brandy Clark\, and many more! \nThe 15th anniversary lineup includes GRAMMY winning artists and a wealth of rising Americana music stars. Ricky Skaggs is a member of the Country Music Hall of Fame\, the IBMA Bluegrass Music Hall of Fame and is a 15-time GRAMMY winner. \nGRAMMY winner Molly Tuttle was the first woman to win the International Bluegrass Music Awards Guitar Player of the Year (2017) and was named the IBMA Female Vocalist of the year in 2023. Multi-platinum Sara Evans earned the Academy of Country Music’s Top Female vocalist award along with multiple distinctions including the American Music Awards and Billboard Music Awards. \n“This year we are celebrating 15 years of bringing people together with the power of music to highlight rural Montana and make a positive difference in the process. Our fans take pride in knowing that long after the final notes ring out in the pasture – they are creating positive ripple effects through the work and mission of the Red Ants Pants Foundation\,” said Sarah Calhoun\, Red Ants Pants Music Festival producer. “We’re thrilled to share a lineup that includes such an incredible mix of country music legends\, artists at the top of their game\, and a host of rising stars that you will not want to miss.” \nAs part of the 15th anniversary celebrations\, the festival announced additional music\, an extra night of camping\, gates opening earlier than ever with free re-entry all weekend\, plus a series of bonus features and campground activities for added fan participation. The festival will also be sharing 15 years of mission impact by hosting a panel discussion featuring grantee storytelling\, as well as pre-festival workskills mini-workshops. \nThanks to attendance at the festival\, the Red Ants Pants Foundation has delivered more than $210\,000 in community grants to more than 100 entities across Montana in support of its mission.  \n2026 Red Ants Pants Music Festival Lineup \nRicky Skaggs & Kentucky Thunder \nMolly Tuttle \nSara Evans \nOld 97’s \nShinyribs \nBrandy Clark \nDaniel Donato’s Cosmic Country \nS.G. Goodman \nKen Pomeroy \nYeison Landero \nRose Betts \nGrayson Capps \nThunderstorm Artis \nChris Pierce \nHumbird \nOlivia Wolf \nNorth Fork Crossing \nTylor & the Train Robbers \nAmanda Stewart \nPlus 16 Side Stage Performances! Full Side Stage Lineup here. \n\nAlso including…\nAgriculture and Work Skill Demonstrations\nLocal Food\, Beer\, Wine\, Art and Crafts\nKids tent and activities\nBeard and Moustache and Crosscut Saw Competitions
URL:https://bozone.com/event/15th-red-ants-pants-music-festival/
LOCATION:White Sulphur Springs\, Mt Highway 89\, White Sulphur Springs\, MT\, 59645\, United States
CATEGORIES:Arts & Theatre,Miscellanea,Music
GEO:37.7965107;-80.2975704
X-APPLE-STRUCTURED-LOCATION;VALUE=URI;X-ADDRESS=White Sulphur Springs Mt Highway 89 White Sulphur Springs MT 59645 United States;X-APPLE-RADIUS=500;X-TITLE=Mt Highway 89:geo:-80.2975704,37.7965107
END:VEVENT
END:VCALENDAR