BEGIN:VCALENDAR
VERSION:2.0
PRODID:-//The BoZone - ECPv5.12.0//NONSGML v1.0//EN
CALSCALE:GREGORIAN
METHOD:PUBLISH
X-WR-CALNAME:The BoZone
X-ORIGINAL-URL:https://bozone.com
X-WR-CALDESC:Events for The BoZone
BEGIN:VTIMEZONE
TZID:America/Denver
BEGIN:DAYLIGHT
TZOFFSETFROM:-0700
TZOFFSETTO:-0600
TZNAME:MDT
DTSTART:20260308T090000
END:DAYLIGHT
BEGIN:STANDARD
TZOFFSETFROM:-0600
TZOFFSETTO:-0700
TZNAME:MST
DTSTART:20261101T080000
END:STANDARD
END:VTIMEZONE
BEGIN:VEVENT
DTSTART;TZID=America/Denver:20260424T190000
DTEND;TZID=America/Denver:20260424T190000
DTSTAMP:20260423T125930
CREATED:20260317T141424Z
LAST-MODIFIED:20260317T141424Z
UID:313038-1777057200-1777057200@bozone.com
SUMMARY:The Hawks Theatre Co. presents Mamma Mia!
DESCRIPTION:The Hawks Theatre Co. presents Mamma Mia! Set on a sun-drenched Greek island\, Mamma Mia tells the story of a young woman on the eve of her wedding searches for the identity of her birth father and comes up with three possible suspects. This is a walk down the aisle you’ll never forget! Using songs from the hit band ABBA\, Mamma Mia! is full of romance\, humour\, and unbreakable bonds. Come see Mamma Mia! April 24th\, 25th\, 26th\, or May 1st\, 2nd\, and 3rd\, and support the Hawks Theatre Co.! Don’t miss out on a one day only Sing-a-long Sunday on the April 26th performance\, where you can sing your heart out with the cast!Buy tickets online or at the door!\nhttps://bsd7.revtrak.net/drama/bhs-drama/#/list\nThe Friday and Saturday shows begin at 7 pm\, and the Sunday shows start at 2 pm.\nSee you there!
URL:https://bozone.com/event/the-hawks-theatre-co-presents-mamma-mia/
LOCATION:Bozeman High School – BHS\, 205 N 11th\, Bozeman\, MT\, 59715\, United States
CATEGORIES:Arts & Theatre
GEO:45.6826669;-111.0520329
X-APPLE-STRUCTURED-LOCATION;VALUE=URI;X-ADDRESS=Bozeman High School – BHS 205 N 11th Bozeman MT 59715 United States;X-APPLE-RADIUS=500;X-TITLE=205 N 11th:geo:-111.0520329,45.6826669
END:VEVENT
BEGIN:VEVENT
DTSTART;TZID=America/Denver:20260424T190000
DTEND;TZID=America/Denver:20260424T190000
DTSTAMP:20260423T125930
CREATED:20260328T145600Z
LAST-MODIFIED:20260328T145600Z
UID:314335-1777057200-1777057200@bozone.com
SUMMARY:Stand-Up w/ Bo Johnson @ 7 & 9
DESCRIPTION:Friday Night Stand-Up w/ Bo Johnson\n\n\nFri\n\,\nApr\n\n24\n at\n7:00 pm\n\n and\n9:00 pm\n\n\n\nGet Tickets!
URL:https://bozone.com/event/stand-up-w-bo-johnson-7-9/
LOCATION:Last Best Comedy\, 321 E Main\, Alley Entrance\, Bozeman\, MT\, 59715\, United States
CATEGORIES:Arts & Theatre,Miscellanea
GEO:45.6795226;-111.0321996
X-APPLE-STRUCTURED-LOCATION;VALUE=URI;X-ADDRESS=Last Best Comedy 321 E Main Alley Entrance Bozeman MT 59715 United States;X-APPLE-RADIUS=500;X-TITLE=321 E Main\, Alley Entrance:geo:-111.0321996,45.6795226
END:VEVENT
BEGIN:VEVENT
DTSTART;TZID=America/Denver:20260424T190000
DTEND;TZID=America/Denver:20260424T190000
DTSTAMP:20260423T125930
CREATED:20260414T232540Z
LAST-MODIFIED:20260414T232540Z
UID:315975-1777057200-1777057200@bozone.com
SUMMARY:GHS Theatre Club present A Midsummer Night's Dream
DESCRIPTION:GHS Theatre Club present A Midsummer Night’s Dream \n“The course of true love never did run smooth” (Lysander\, Act 1\, Scene 1) \nBrand new Gallatin High School theatre advisor\, Sierra Fein\, directs a\ntalented cast and crew of over 25 students through the production of\nWilliam Shakespeare’s A Midsummer Night’s Dream. They began rehearsals in\nMarch\, and the show will open at the Gallatin High Auditorium on Friday\,\nApril 24th. This whimsical Shakespearean comedy features lovers\, forest\nfairies\, and Athenian royalty. \nFriday\, April 24th – 7 PM \nSaturday\, April 25th – 7 PM \nSunday\, April 26th – 2 PM \n*Ticket:*\nhttps://bsd7.revtrak.net/drama/ghs-drama/ghs-raptor-theater-presents-midsummer \n– Adults $15\n– Students $10\n– Children 12-6\, $5.00\n– Under 6 FREE \nFor more information about this topic\, or to schedule an interview with\nSierra Fein\, or members of our cast/crew\, please contact Sierra at\n406-570-2218 or sierra.fein@bsd7.org
URL:https://bozone.com/event/ghs-theatre-club-present-a-midsummer-nights-dream/
LOCATION:Gallatin High School – GHS\, 4455 Annie St\, Bozeman\, MT\, 59718\, United States
CATEGORIES:Arts & Theatre
GEO:45.6893412;-111.1106
X-APPLE-STRUCTURED-LOCATION;VALUE=URI;X-ADDRESS=Gallatin High School – GHS 4455 Annie St Bozeman MT 59718 United States;X-APPLE-RADIUS=500;X-TITLE=4455 Annie St:geo:-111.1106,45.6893412
END:VEVENT
END:VCALENDAR