BEGIN:VCALENDAR
VERSION:2.0
PRODID:-//The BoZone - ECPv5.12.0//NONSGML v1.0//EN
CALSCALE:GREGORIAN
METHOD:PUBLISH
X-WR-CALNAME:The BoZone
X-ORIGINAL-URL:https://bozone.com
X-WR-CALDESC:Events for The BoZone
BEGIN:VTIMEZONE
TZID:America/Denver
BEGIN:DAYLIGHT
TZOFFSETFROM:-0700
TZOFFSETTO:-0600
TZNAME:MDT
DTSTART:20260308T090000
END:DAYLIGHT
BEGIN:STANDARD
TZOFFSETFROM:-0600
TZOFFSETTO:-0700
TZNAME:MST
DTSTART:20261101T080000
END:STANDARD
END:VTIMEZONE
BEGIN:VEVENT
DTSTART;TZID=America/Denver:20260415T180000
DTEND;TZID=America/Denver:20260415T180000
DTSTAMP:20260420T230425
CREATED:20250928T144534Z
LAST-MODIFIED:20260327T022330Z
UID:298536-1776276000-1776276000@bozone.com
SUMMARY:Valhalla Drink and Draw
DESCRIPTION:Drink and Draw  \n6:00 PM – 8:00 PM\n\nValhalla Meadery\n875 Bridger Drive Unit B\nBozeman\nUnited States
URL:https://bozone.com/event/valhalla-drink-and-draw-4/
LOCATION:Valhalla Meadery\, 875 Bridger Drive Unit B\, Bozeman\, MT\, 59715\, United States
CATEGORIES:Arts & Theatre,Miscellanea
GEO:45.7034876;-111.0248629
X-APPLE-STRUCTURED-LOCATION;VALUE=URI;X-ADDRESS=Valhalla Meadery 875 Bridger Drive Unit B Bozeman MT 59715 United States;X-APPLE-RADIUS=500;X-TITLE=875 Bridger Drive Unit B:geo:-111.0248629,45.7034876
END:VEVENT
BEGIN:VEVENT
DTSTART;TZID=America/Denver:20260415T180000
DTEND;TZID=America/Denver:20260415T180000
DTSTAMP:20260420T230425
CREATED:20260325T115210Z
LAST-MODIFIED:20260325T115210Z
UID:313217-1776276000-1776276000@bozone.com
SUMMARY:The Promise of Perennial Foods: A Conversation with Liz Carlisle\, Mariah Gladstone\, & Aubrey Streit Krug
DESCRIPTION:Join us at Country Bookshelf on April 15 at 6pm for a celebration of perennial foods and their deep roots in western Montana!\nBozeman food systems leader Mary Stein will moderate a conversation with Liz Carlisle\, Aubrey Streit Krug\, and Mariah Gladstone about the new book Living Roots: The Promise of Perennial Foods. \nFollowing the conversation\, Mariah Gladstone will present a special tasting of perennial appetizers! \nTickets are not required for this event\, but RSVPs are appreciated. Please RSVP by reserving a free general admission ticket on our \nEVENTBRITE page here: https://www.eventbrite.com/events/1985408918521/dashboard/?eid=1985408918521 \nABOUT LIVING ROOTS: THE PROMISE OF PERENNIAL FOODS\nLiving Roots makes the case for putting perennial foods at the center of our farms and our plates\, to add flavor and nutrients to our diets while reducing emissions and making our food system more resilient to climate\nchange and economic uncertainty. With contributions from James Beard Award-winning chefs\, Macarthur Genius grant winning scientists\, and a host of farmers who are leading the way on perennializing agriculture\, the book takes readers on a behind-the-scenes tour of the largest food forest in the United States\, the test plots developing the first commercial perennial grains\, and the vast grasslands where Indigenous communities are returning bison to their prairie homelands. In the process\, each contributor shares their unique story of learning with these long-lived plants about how to root deeper in the face of existential challenges\, speaking directly to readers charting their own path on a rapidly changing planet.
URL:https://bozone.com/event/the-promise-of-perennial-foods-a-conversation-with-liz-carlisle-mariah-gladstone-aubrey-streit-krug/
LOCATION:Country Bookshelf\, 28 W Main St.\, Bozeman\, MT\, 59715\, United States
CATEGORIES:Arts & Theatre,Lectures
GEO:45.6789859;-111.0381637
X-APPLE-STRUCTURED-LOCATION;VALUE=URI;X-ADDRESS=Country Bookshelf 28 W Main St. Bozeman MT 59715 United States;X-APPLE-RADIUS=500;X-TITLE=28 W Main St.:geo:-111.0381637,45.6789859
END:VEVENT
BEGIN:VEVENT
DTSTART;TZID=America/Denver:20260415T180000
DTEND;TZID=America/Denver:20260415T180000
DTSTAMP:20260420T230425
CREATED:20260326T233813Z
LAST-MODIFIED:20260326T233813Z
UID:313805-1776276000-1776276000@bozone.com
SUMMARY:Paint & Sip - Aspen Bear
DESCRIPTION:Paint your own Aspen Bear at Last Best Place Brewing! All materials will be provided and drinks will be available for purchase at the event. \nP.S. Please consider arriving 15 minutes early as finding parking can take extra time. Thanks!
URL:https://bozone.com/event/paint-sip-aspen-bear-2/
LOCATION:Last Best Place Brewing Co.\, 605 N. 7th Ave\, Bozeman\, MT\, 59715\, United States
CATEGORIES:Arts & Theatre,Classes,Miscellanea
GEO:45.6857672;-111.0466208
X-APPLE-STRUCTURED-LOCATION;VALUE=URI;X-ADDRESS=Last Best Place Brewing Co. 605 N. 7th Ave Bozeman MT 59715 United States;X-APPLE-RADIUS=500;X-TITLE=605 N. 7th Ave:geo:-111.0466208,45.6857672
END:VEVENT
BEGIN:VEVENT
DTSTART;TZID=America/Denver:20260415T190000
DTEND;TZID=America/Denver:20260415T190000
DTSTAMP:20260420T230426
CREATED:20260329T153517Z
LAST-MODIFIED:20260329T153517Z
UID:315134-1776279600-1776279600@bozone.com
SUMMARY:In Conversation: Performing the West with Edgar Arceneaux and Nnamdi Kanaga
DESCRIPTION:In Conversation: Performing the West\nwith Edgar Arceneaux and Nnamdi Kanaga\n\n\nWednesday\, April 15\n\n7pm\nTinworks at Rialto\n$12\n\nGet Tickets
URL:https://bozone.com/event/in-conversation-performing-the-west-with-edgar-arceneaux-and-nnamdi-kanaga/
LOCATION:The Rialto\, 10 West Main street\, Bozeman\, MT\, 59715\, United States
CATEGORIES:Arts & Theatre,Miscellanea
GEO:45.6791025;-111.0375983
X-APPLE-STRUCTURED-LOCATION;VALUE=URI;X-ADDRESS=The Rialto 10 West Main street Bozeman MT 59715 United States;X-APPLE-RADIUS=500;X-TITLE=10 West Main street:geo:-111.0375983,45.6791025
END:VEVENT
BEGIN:VEVENT
DTSTART;TZID=America/Denver:20260415T190000
DTEND;TZID=America/Denver:20260415T190000
DTSTAMP:20260420T230426
CREATED:20260401T014135Z
LAST-MODIFIED:20260401T014135Z
UID:315557-1776279600-1776279600@bozone.com
SUMMARY:Bindle Wireless Presents Nickel Road Annie: A Live Radio Play
DESCRIPTION:Nickel Road Annie\, the last independent space trucker\, takes on the ultimate haul: bootlegging a load of Coorvian Ale across the galaxy and back in just three days. Dodging dishonest sheriffs\, relentless weigh stations\, and the constant threat of jail\, Annie will have to drive faster\, smarter\, and wilder than ever before to make the run and bring down a crooked trucking empire for good measure! A live radio style play written\, directed\, and performed by local artists. Wednesday April 15th 7-10pm | Last Best Comedy | Ages 18+ |\nTickets available at lastbestcomedy.com
URL:https://bozone.com/event/bindle-wireless-presents-nickel-road-annie-a-live-radio-play/
LOCATION:Last Best Comedy\, 321 E Main\, Alley Entrance\, Bozeman\, MT\, 59715\, United States
CATEGORIES:Arts & Theatre
GEO:45.6795226;-111.0321996
X-APPLE-STRUCTURED-LOCATION;VALUE=URI;X-ADDRESS=Last Best Comedy 321 E Main Alley Entrance Bozeman MT 59715 United States;X-APPLE-RADIUS=500;X-TITLE=321 E Main\, Alley Entrance:geo:-111.0321996,45.6795226
END:VEVENT
END:VCALENDAR