BEGIN:VCALENDAR
VERSION:2.0
PRODID:-//The BoZone - ECPv5.12.0//NONSGML v1.0//EN
CALSCALE:GREGORIAN
METHOD:PUBLISH
X-WR-CALNAME:The BoZone
X-ORIGINAL-URL:https://bozone.com
X-WR-CALDESC:Events for The BoZone
BEGIN:VTIMEZONE
TZID:America/Denver
BEGIN:DAYLIGHT
TZOFFSETFROM:-0700
TZOFFSETTO:-0600
TZNAME:MDT
DTSTART:20260308T090000
END:DAYLIGHT
BEGIN:STANDARD
TZOFFSETFROM:-0600
TZOFFSETTO:-0700
TZNAME:MST
DTSTART:20261101T080000
END:STANDARD
END:VTIMEZONE
BEGIN:VEVENT
DTSTART;TZID=America/Denver:20260110T160000
DTEND;TZID=America/Denver:20260110T160000
DTSTAMP:20260421T201419
CREATED:20251227T013040Z
LAST-MODIFIED:20251227T013040Z
UID:303669-1768060800-1768060800@bozone.com
SUMMARY:Globes Lantern Making Workshop by Random Acts of Silliness
DESCRIPTION:Attendees will learn to decorate simple but beautiful paper globe lanterns that they can bring to the Menagerie of the Imaginary Lantern Parade on February 21st. This free\, drop-in community workshop is open to all\, although best suited for ages 5 and up.
URL:https://bozone.com/event/globes-lantern-making-workshop-by-random-acts-of-silliness/
LOCATION:GCF – Gallatin County Fairgrounds – GCF\, 901 N Black\, Bozeman\, United States
CATEGORIES:Arts & Theatre
GEO:45.6885954;-111.0358461
X-APPLE-STRUCTURED-LOCATION;VALUE=URI;X-ADDRESS=GCF – Gallatin County Fairgrounds – GCF 901 N Black Bozeman United States;X-APPLE-RADIUS=500;X-TITLE=901 N Black:geo:-111.0358461,45.6885954
END:VEVENT
BEGIN:VEVENT
DTSTART;TZID=America/Denver:20260110T173000
DTEND;TZID=America/Denver:20260110T173000
DTSTAMP:20260421T201419
CREATED:20251227T013124Z
LAST-MODIFIED:20251227T013124Z
UID:303667-1768066200-1768066200@bozone.com
SUMMARY:Bozeman High-Lights: Bozeman High School Art Club Collection Exhibition
DESCRIPTION:Join us for the Bozeman High School Art Club Permanent Collection Exhibition for a curated show by the BHS art club members & led by Ross Rodgers. The opening reception will be on January 10th from 5:30-7:30 pm at the Bozeman Art Museum. The exhibit will be open until March 28th.\nThe BHS Art Club is focused on enjoying and exploring the visual arts as an extension of the work students complete in art courses. The Art Club curates and oversees the DeWeese Art Gallery & has a collection of over 300 pieces of artwork.
URL:https://bozone.com/event/bozeman-high-lights-bozeman-high-school-art-club-collection-exhibition/
LOCATION:Bozeman Art Museum\, 2612 W Main St Suite B\, Bozeman\, MT\, 59718\, United States
CATEGORIES:Arts & Theatre
GEO:45.6734053;-111.0718319
X-APPLE-STRUCTURED-LOCATION;VALUE=URI;X-ADDRESS=Bozeman Art Museum 2612 W Main St Suite B Bozeman MT 59718 United States;X-APPLE-RADIUS=500;X-TITLE=2612 W Main St Suite B:geo:-111.0718319,45.6734053
END:VEVENT
BEGIN:VEVENT
DTSTART;TZID=America/Denver:20260110T193000
DTEND;TZID=America/Denver:20260110T193000
DTSTAMP:20260421T201420
CREATED:20251126T182342Z
LAST-MODIFIED:20251126T182342Z
UID:302597-1768073400-1768073400@bozone.com
SUMMARY:Such is Life in the Far West
DESCRIPTION:Such is Life in the Far West\n\nJan 10\, 2026 @ 7:30 pm MST\n\n\n\n\n\n\n\n\n\n\n“A delightful\, immersive experience for those who appreciate the rural West’s boundless creativity.” –Western Folk Life Center \n\nWestern artists share contemporary cowboy culture with stories\, music\, poetry\, and more. All artists are also working cowboys and ranchers whose lives are deeply entwined with the land\, and will give us a glimpse into contemporary life on the range and the art it inspires. WMPAC is pleased to partner with the Western Folk Life Center in Elko\, Nevada\, for this custom event.\n\nAudiences will hear from Gail Steiger\, Darrell Holden\, Lara Manzanares\, R.P. Smith\, and Brigid and Johnny Reedy.
URL:https://bozone.com/event/such-is-life-in-the-far-west/
LOCATION:Warren Miller Performing Arts Center – Big Sky\, 45465 Gallatin Road\, Gallatin Gateway\, MT\, 59730\, United States
CATEGORIES:Arts & Theatre,Miscellanea,Music
GEO:45.2290489;-111.2522824
X-APPLE-STRUCTURED-LOCATION;VALUE=URI;X-ADDRESS=Warren Miller Performing Arts Center – Big Sky 45465 Gallatin Road Gallatin Gateway MT 59730 United States;X-APPLE-RADIUS=500;X-TITLE=45465 Gallatin Road:geo:-111.2522824,45.2290489
END:VEVENT
END:VCALENDAR