BEGIN:VCALENDAR
VERSION:2.0
PRODID:-//The BoZone - ECPv5.12.0//NONSGML v1.0//EN
CALSCALE:GREGORIAN
METHOD:PUBLISH
X-WR-CALNAME:The BoZone
X-ORIGINAL-URL:https://bozone.com
X-WR-CALDESC:Events for The BoZone
BEGIN:VTIMEZONE
TZID:America/Denver
BEGIN:DAYLIGHT
TZOFFSETFROM:-0700
TZOFFSETTO:-0600
TZNAME:MDT
DTSTART:20250309T090000
END:DAYLIGHT
BEGIN:STANDARD
TZOFFSETFROM:-0600
TZOFFSETTO:-0700
TZNAME:MST
DTSTART:20251102T080000
END:STANDARD
END:VTIMEZONE
BEGIN:VEVENT
DTSTART;TZID=America/Denver:20251231T140000
DTEND;TZID=America/Denver:20251231T140000
DTSTAMP:20260422T211747
CREATED:20251227T002658Z
LAST-MODIFIED:20251227T002658Z
UID:303631-1767189600-1767189600@bozone.com
SUMMARY:NYE Hair Tinsel
DESCRIPTION:Get ready to sparkle this New Year’s Eve at Cultured Roots! Join us for a tinsel in your hair party with our awesome stylist Piola. We’ve got a rainbow of tinsel to choose from\, so you can pick your vibe and shine all night. Just arrive on time with clean hair\, and we’ll have you party-ready in no time! See you there!
URL:https://bozone.com/event/nye-hair-tinsel/
LOCATION:Cultured Roots Salon\, 1520 West Beall\, Bozeman\, MT\, 59715\, United States
CATEGORIES:Arts & Theatre,Miscellanea
END:VEVENT
BEGIN:VEVENT
DTSTART;TZID=America/Denver:20251231T183000
DTEND;TZID=America/Denver:20251231T183000
DTSTAMP:20260422T211748
CREATED:20251124T131806Z
LAST-MODIFIED:20251124T131806Z
UID:302227-1767205800-1767205800@bozone.com
SUMMARY:Sparkle Spectacular New Year's Eve
DESCRIPTION:Celebrate New Year’s Eve with Raison D’être Dance Project the best way we know how – with sparkles and shimmies\, tassels and twirls\, champagne and cheeky moves. Join us for our annual fundraiser and an evening full of sexy surprises\, captivating characters\, glitzy glam-bots\, and shimmering showgirls. Two shows December 31st 6:30pm and 9:30pm at the Rialto in Bozeman. Tickets https://www.raisondetredance.org/sparkle-spectacular-new-years-eve; 21 and over.
URL:https://bozone.com/event/sparkle-spectacular-new-years-eve-2/
LOCATION:The Rialto\, 10 West Main street\, Bozeman\, MT\, 59715\, United States
CATEGORIES:Arts & Theatre,Music
GEO:45.6791025;-111.0375983
X-APPLE-STRUCTURED-LOCATION;VALUE=URI;X-ADDRESS=The Rialto 10 West Main street Bozeman MT 59715 United States;X-APPLE-RADIUS=500;X-TITLE=10 West Main street:geo:-111.0375983,45.6791025
END:VEVENT
BEGIN:VEVENT
DTSTART;TZID=America/Denver:20251231T190000
DTEND;TZID=America/Denver:20251231T190000
DTSTAMP:20260422T211748
CREATED:20251229T212404Z
LAST-MODIFIED:20251229T212404Z
UID:304972-1767207600-1767207600@bozone.com
SUMMARY:Stand Up w/ Sammy Anzer
DESCRIPTION:Stand Up w/ Sammy Anzer\n Wed Dec 31\, 2025 7:00 PM – 8:30 PM Last Best Comedy\, 59715\n\n\n\n\n\n\n\nBuy tickets\n\n\n\n\n\n\nSammy Anzer is an educated street boy turned comedian and Rooster magazine says\,“Anzer’s performances blend joy with contemplation.” He uses his multi-racial background to examine America and has done so while performing alongside DL Hughley\, Deon Cole\, Maria Bamford\, Fahim Anwar\, and Neal Brennan. Sammy’s written for Kevin Hart’s LOL Network and caught ZIWE’s eye for a live interview. His debut album hit #1 on iTunes\, and he’s appeared on PBS Roots of Comedy\, Funny or Die\, and SiriusXM. He’s proud to have raised $20\,000 for St. Jude Children’s Hospital through stand-up and recently made his booked debut at the Apollo. \nGA tickets are $30\n18+ / No Drink Minimum
URL:https://bozone.com/event/stand-up-w-sammy-anzer/
LOCATION:Last Best Comedy\, 321 E Main\, Alley Entrance\, Bozeman\, MT\, 59715\, United States
CATEGORIES:Arts & Theatre,Miscellanea
GEO:45.6795226;-111.0321996
X-APPLE-STRUCTURED-LOCATION;VALUE=URI;X-ADDRESS=Last Best Comedy 321 E Main Alley Entrance Bozeman MT 59715 United States;X-APPLE-RADIUS=500;X-TITLE=321 E Main\, Alley Entrance:geo:-111.0321996,45.6795226
END:VEVENT
BEGIN:VEVENT
DTSTART;TZID=America/Denver:20251231T213000
DTEND;TZID=America/Denver:20251231T213000
DTSTAMP:20260422T211748
CREATED:20251124T131756Z
LAST-MODIFIED:20251124T131756Z
UID:302245-1767216600-1767216600@bozone.com
SUMMARY:Sparkle Spectacular New Year's Eve
DESCRIPTION:Celebrate New Year’s Eve with Raison D’être Dance Project the best way we know how – with sparkles and shimmies\, tassels and twirls\, champagne and cheeky moves. Join us for our annual fundraiser and an evening full of sexy surprises\, captivating characters\, glitzy glam-bots\, and shimmering showgirls. Two shows December 31st 6:30pm and 9:30pm at the Rialto in Bozeman. Tickets https://www.raisondetredance.org/sparkle-spectacular-new-years-eve; 21 and over.
URL:https://bozone.com/event/sparkle-spectacular-new-years-eve/
LOCATION:The Rialto\, 10 West Main street\, Bozeman\, MT\, 59715\, United States
CATEGORIES:Arts & Theatre,Music
GEO:45.6791025;-111.0375983
X-APPLE-STRUCTURED-LOCATION;VALUE=URI;X-ADDRESS=The Rialto 10 West Main street Bozeman MT 59715 United States;X-APPLE-RADIUS=500;X-TITLE=10 West Main street:geo:-111.0375983,45.6791025
END:VEVENT
END:VCALENDAR