BEGIN:VCALENDAR
VERSION:2.0
PRODID:-//The BoZone - ECPv5.12.0//NONSGML v1.0//EN
CALSCALE:GREGORIAN
METHOD:PUBLISH
X-WR-CALNAME:The BoZone
X-ORIGINAL-URL:https://bozone.com
X-WR-CALDESC:Events for The BoZone
BEGIN:VTIMEZONE
TZID:America/Denver
BEGIN:DAYLIGHT
TZOFFSETFROM:-0700
TZOFFSETTO:-0600
TZNAME:MDT
DTSTART:20250309T090000
END:DAYLIGHT
BEGIN:STANDARD
TZOFFSETFROM:-0600
TZOFFSETTO:-0700
TZNAME:MST
DTSTART:20251102T080000
END:STANDARD
END:VTIMEZONE
BEGIN:VEVENT
DTSTART;TZID=America/Denver:20251227T170000
DTEND;TZID=America/Denver:20251227T170000
DTSTAMP:20260423T051429
CREATED:20251124T132347Z
LAST-MODIFIED:20251124T132347Z
UID:302213-1766854800-1766854800@bozone.com
SUMMARY:The Five - The Courtney Collins Collection by Robert Osborn
DESCRIPTION:Join Us December 27th\, Saturday\, from 5 pm to 7 pm at Courtney Collins Fine Art. Courtney Collins Fine Art Gallery in Big Sky will have a special collection of five large-format portrait prints by fine art portrait photographer Robert Osborn.\nThe five 48” x 62” prints included\, printed as large as Osborn can print and framed\, were curated by Collins specifically for her gallery. Collins worked very hard at making a connection with Osborn and he’s been a presence in her gallery since she opened the doors in 2020. Osborn’s portraits create narratives. They tell stories. Reveal uneasy truths. The astounding component of his portraits are the expressions that live under the skin.\nDon’t miss this opportunity to meet with Robert Osborn\, portraiture photographer.
URL:https://bozone.com/event/the-five-the-courtney-collins-collection-by-robert-osborn/
LOCATION:Courtney Collins Fine Art – Big Sky\, 32 Town Center Ave\, C1\, Big Sky\, MT\, 59716\, United States
CATEGORIES:Arts & Theatre
GEO:45.260047;-111.308136
X-APPLE-STRUCTURED-LOCATION;VALUE=URI;X-ADDRESS=Courtney Collins Fine Art – Big Sky 32 Town Center Ave C1 Big Sky MT 59716 United States;X-APPLE-RADIUS=500;X-TITLE=32 Town Center Ave\, C1:geo:-111.308136,45.260047
END:VEVENT
BEGIN:VEVENT
DTSTART;TZID=America/Denver:20251227T193000
DTEND;TZID=America/Denver:20251227T193000
DTSTAMP:20260423T051430
CREATED:20251126T182143Z
LAST-MODIFIED:20251126T182143Z
UID:302606-1766863800-1766863800@bozone.com
SUMMARY:Pete Lee
DESCRIPTION:Pete Lee\nFeel-good stand-up comedy\n\n\n\n\n\n \n\n\n\n\n\n\n\n\n\n\nPete Lee\n\nDec 27 @ 7:30 pm MST\n\n\n\n\n\n\n\n\n\n\nThe first comedian to ever earn a standing ovation on The Tonight Show Starring Jimmy Fallon. \n\n\nPete Lee has been a stand-up comedy veteran for nearly 20 years\, appearing on The Tonight Show nine times\, as well as The Late Show with David Letterman. His wholesome Midwestern brand of stand-up has made him an industry favorite\, earning him the nickname “the nicest man in comedy.” Pete’s joyful humor comes from his Midwestern roots. Pete recently moved to Los Angeles\, California\, and launched a new podcast titled Snugglestorm\, mostly as a vehicle to sit down with LA comics and make new friends in California. But he’ll be visiting his old New York friends often\, because Jimmy Fallon officially named him a regular on The Tonight Show.
URL:https://bozone.com/event/pete-lee/
LOCATION:Warren Miller Performing Arts Center – Big Sky\, 45465 Gallatin Road\, Gallatin Gateway\, MT\, 59730\, United States
CATEGORIES:Arts & Theatre,Miscellanea
GEO:45.2290489;-111.2522824
X-APPLE-STRUCTURED-LOCATION;VALUE=URI;X-ADDRESS=Warren Miller Performing Arts Center – Big Sky 45465 Gallatin Road Gallatin Gateway MT 59730 United States;X-APPLE-RADIUS=500;X-TITLE=45465 Gallatin Road:geo:-111.2522824,45.2290489
END:VEVENT
END:VCALENDAR