BEGIN:VCALENDAR
VERSION:2.0
PRODID:-//The BoZone - ECPv5.12.0//NONSGML v1.0//EN
CALSCALE:GREGORIAN
METHOD:PUBLISH
X-WR-CALNAME:The BoZone
X-ORIGINAL-URL:https://bozone.com
X-WR-CALDESC:Events for The BoZone
BEGIN:VTIMEZONE
TZID:America/Denver
BEGIN:DAYLIGHT
TZOFFSETFROM:-0700
TZOFFSETTO:-0600
TZNAME:MDT
DTSTART:20250309T090000
END:DAYLIGHT
BEGIN:STANDARD
TZOFFSETFROM:-0600
TZOFFSETTO:-0700
TZNAME:MST
DTSTART:20251102T080000
END:STANDARD
END:VTIMEZONE
BEGIN:VEVENT
DTSTART;TZID=America/Denver:20251221T150000
DTEND;TZID=America/Denver:20251221T180000
DTSTAMP:20260423T142214
CREATED:20250409T193313Z
LAST-MODIFIED:20250409T193313Z
UID:287275-1766329200-1766340000@bozone.com
SUMMARY:Holiday Vaudeville
DESCRIPTION:Sunday\, December 21\, 2025\n3:00 PM  6:00 PM\n\n\n\n\n\n\n\n\nOne of the Shane Center’s most popular productions\, this high-energy variety show is a romp through the cherished chestnuts of the season. We’ve assembled another intrepid squad of performers who will amaze and amuse with songs\, skits\, and vigorous acts of vaudevillian virtuosity – all served up with a heaping helping of heart. \n\n\n\n\n\n\nSponsored by Kirk Michels and Conleys Books & Music
URL:https://bozone.com/event/holiday-vaudeville-7/
LOCATION:Shane Lalani Center for the Arts – Livingston\, 415 E. Lewis St.\, Livingston\, MT\, 59047\, United States
CATEGORIES:Arts & Theatre
GEO:45.6628503;-110.5552274
X-APPLE-STRUCTURED-LOCATION;VALUE=URI;X-ADDRESS=Shane Lalani Center for the Arts – Livingston 415 E. Lewis St. Livingston MT 59047 United States;X-APPLE-RADIUS=500;X-TITLE=415 E. Lewis St.:geo:-110.5552274,45.6628503
END:VEVENT
BEGIN:VEVENT
DTSTART;TZID=America/Denver:20251221T150000
DTEND;TZID=America/Denver:20251221T170000
DTSTAMP:20260423T142215
CREATED:20250927T164019Z
LAST-MODIFIED:20250927T164019Z
UID:298311-1766329200-1766336400@bozone.com
SUMMARY:A Christmas Carol
DESCRIPTION:A Christmas Carol\n\n\n\n\n\nMake it a Christmas to Remember…\nMONTANA THEATREWORKS presents\nThe Dickens Holiday Classic – A Christmas Carol\nAdaptation by Jerry Patch – Directed by Mary Jo Ludin\nTickets: $49.00\, $37.00\, and $25.00 (depending on location)\nFriends of The Ellen – Save $10 per ticket until Oct. 3rd (see below) \nWarm up the winter chill with this timeless tale featuring Bob Cratchit\, Tiny Tim\, and that irascible\, misguided miser Ebenezer Scrooge. Witness firsthand as Scrooge is haunted by Jacob Marley\, and the Ghosts of Christmas Past\, Present and Future. Will these spectral visions be enough to change his curmudgeonly ways? Take a trip to 19th Century London to find out. Magically brought to life on stage\, this Ellen Theatre tradition is sure to chase away the gloomiest of holiday humbugs. \nAre you a Friend of The Ellen? Save $10.00 per ticket when making purchases by calling The Ellen Box Office at 406-585-5885 or sending an email with your choice of date and time\, number of tickets\, and preferred seat location. This discount is available to FOTE members until Friday\, October 3rd. \nTo become a Friend of The Ellen\, click HERE to make a tax-deductible donation of $100 or more – and you’ll be eligible to save $10.00 on every ticket until October 3rd. You may also become a member by calling 406-585-5885 or sending an email to The Ellen Theatre Box Office. \nNOTE TO PARENTS: This production of A Christmas Carol is a faithful adaptation of the Charles Dickens book\, which includes visits from four ghosts. Young children may be frightened by the darker and supernatural aspects of this play\, and it is not recommended for those under the age of four. Please Note: If your child is disruptive or a distraction to others\, you will be asked to exit the auditorium until your child is ready to re-enter. \nA Christmas Carol running time: One hour\, 45 minutes\, plus one intermission. \nGET TICKETS
URL:https://bozone.com/event/a-christmas-carol-12/
LOCATION:The Ellen Theatre\, 17 W Main\, Bozeman\, MT\, 59715\, United States
CATEGORIES:Arts & Theatre
GEO:45.6794524;-111.037852
X-APPLE-STRUCTURED-LOCATION;VALUE=URI;X-ADDRESS=The Ellen Theatre 17 W Main Bozeman MT 59715 United States;X-APPLE-RADIUS=500;X-TITLE=17 W Main:geo:-111.037852,45.6794524
END:VEVENT
BEGIN:VEVENT
DTSTART;TZID=America/Denver:20251221T200000
DTEND;TZID=America/Denver:20251221T200000
DTSTAMP:20260423T142215
CREATED:20251126T021516Z
LAST-MODIFIED:20251126T021516Z
UID:302425-1766347200-1766347200@bozone.com
SUMMARY:Comedy: Hunter LLoyd & Kaiser Leib
DESCRIPTION:Dec\n21\n\n\n\n\nSTAND UP COMEDY NIGHT WITH HUNTER LLOYD & KAISER LEIB\n\n\n\n\n\n\n\nJoin us for Stand Up Comedy Night with Hunter Lloyd & Kaiser Leib! Presented in partnership with Bone Dry Comedy. \n8PM\nTickets: $20\, $12 Online Early Bird (limited availability!) \nGET TICKETS HERE
URL:https://bozone.com/event/comedy-hunter-lloyd-kaiser-leib/
LOCATION:The Big Sky Waypoint\, 50 Ousel Falls Road\, Big Sky\, MT\, 59716\, United States
CATEGORIES:Arts & Theatre,Miscellanea
GEO:45.2600817;-111.3084077
X-APPLE-STRUCTURED-LOCATION;VALUE=URI;X-ADDRESS=The Big Sky Waypoint 50 Ousel Falls Road Big Sky MT 59716 United States;X-APPLE-RADIUS=500;X-TITLE=50 Ousel Falls Road:geo:-111.3084077,45.2600817
END:VEVENT
END:VCALENDAR