BEGIN:VCALENDAR
VERSION:2.0
PRODID:-//The BoZone - ECPv5.12.0//NONSGML v1.0//EN
CALSCALE:GREGORIAN
METHOD:PUBLISH
X-WR-CALNAME:The BoZone
X-ORIGINAL-URL:https://bozone.com
X-WR-CALDESC:Events for The BoZone
BEGIN:VTIMEZONE
TZID:America/Denver
BEGIN:DAYLIGHT
TZOFFSETFROM:-0700
TZOFFSETTO:-0600
TZNAME:MDT
DTSTART:20250309T090000
END:DAYLIGHT
BEGIN:STANDARD
TZOFFSETFROM:-0600
TZOFFSETTO:-0700
TZNAME:MST
DTSTART:20251102T080000
END:STANDARD
END:VTIMEZONE
BEGIN:VEVENT
DTSTART;TZID=America/Denver:20251214T150000
DTEND;TZID=America/Denver:20251214T170000
DTSTAMP:20260424T003721
CREATED:20250409T193042Z
LAST-MODIFIED:20250409T193042Z
UID:287271-1765724400-1765731600@bozone.com
SUMMARY:Holiday Vaudeville
DESCRIPTION:Sunday\, December 14\, 2025\n3:00 PM  5:30 PM\n\n\n\n\n\n\n\n\nOne of the Shane Center’s most popular productions\, this high-energy variety show is a romp through the cherished chestnuts of the season. We’ve assembled another intrepid squad of performers who will amaze and amuse with songs\, skits\, and vigorous acts of vaudevillian virtuosity – all served up with a heaping helping of heart. \n\n\n\n\n\n\nSponsored by Kirk Michels and Conleys Books & Music
URL:https://bozone.com/event/holiday-vaudeville-3/
LOCATION:Shane Lalani Center for the Arts – Livingston\, 415 E. Lewis St.\, Livingston\, MT\, 59047\, United States
CATEGORIES:Arts & Theatre
GEO:45.6628503;-110.5552274
X-APPLE-STRUCTURED-LOCATION;VALUE=URI;X-ADDRESS=Shane Lalani Center for the Arts – Livingston 415 E. Lewis St. Livingston MT 59047 United States;X-APPLE-RADIUS=500;X-TITLE=415 E. Lewis St.:geo:-110.5552274,45.6628503
END:VEVENT
BEGIN:VEVENT
DTSTART;TZID=America/Denver:20251214T150000
DTEND;TZID=America/Denver:20251214T170000
DTSTAMP:20260424T003721
CREATED:20250927T163259Z
LAST-MODIFIED:20250927T163259Z
UID:298294-1765724400-1765731600@bozone.com
SUMMARY:A Christmas Carol
DESCRIPTION:A Christmas Carol\n\n\n\n\n\nMake it a Christmas to Remember…\nMONTANA THEATREWORKS presents\nThe Dickens Holiday Classic – A Christmas Carol\nAdaptation by Jerry Patch – Directed by Mary Jo Ludin\nTickets: $49.00\, $37.00\, and $25.00 (depending on location)\nFriends of The Ellen – Save $10 per ticket until Oct. 3rd (see below) \nWarm up the winter chill with this timeless tale featuring Bob Cratchit\, Tiny Tim\, and that irascible\, misguided miser Ebenezer Scrooge. Witness firsthand as Scrooge is haunted by Jacob Marley\, and the Ghosts of Christmas Past\, Present and Future. Will these spectral visions be enough to change his curmudgeonly ways? Take a trip to 19th Century London to find out. Magically brought to life on stage\, this Ellen Theatre tradition is sure to chase away the gloomiest of holiday humbugs. \nAre you a Friend of The Ellen? Save $10.00 per ticket when making purchases by calling The Ellen Box Office at 406-585-5885 or sending an email with your choice of date and time\, number of tickets\, and preferred seat location. This discount is available to FOTE members until Friday\, October 3rd. \nTo become a Friend of The Ellen\, click HERE to make a tax-deductible donation of $100 or more – and you’ll be eligible to save $10.00 on every ticket until October 3rd. You may also become a member by calling 406-585-5885 or sending an email to The Ellen Theatre Box Office. \nNOTE TO PARENTS: This production of A Christmas Carol is a faithful adaptation of the Charles Dickens book\, which includes visits from four ghosts. Young children may be frightened by the darker and supernatural aspects of this play\, and it is not recommended for those under the age of four. Please Note: If your child is disruptive or a distraction to others\, you will be asked to exit the auditorium until your child is ready to re-enter. \nA Christmas Carol running time: One hour\, 45 minutes\, plus one intermission. \nGET TICKETS
URL:https://bozone.com/event/a-christmas-carol-7/
LOCATION:The Ellen Theatre\, 17 W Main\, Bozeman\, MT\, 59715\, United States
CATEGORIES:Arts & Theatre
GEO:45.6794524;-111.037852
X-APPLE-STRUCTURED-LOCATION;VALUE=URI;X-ADDRESS=The Ellen Theatre 17 W Main Bozeman MT 59715 United States;X-APPLE-RADIUS=500;X-TITLE=17 W Main:geo:-111.037852,45.6794524
END:VEVENT
BEGIN:VEVENT
DTSTART;TZID=America/Denver:20251214T170000
DTEND;TZID=America/Denver:20251214T170000
DTSTAMP:20260424T003721
CREATED:20250928T142143Z
LAST-MODIFIED:20250928T142143Z
UID:298501-1765731600-1765731600@bozone.com
SUMMARY:Montana Ballet: The Nutcracker
DESCRIPTION:The Nutcracker\nMontana Ballet in the timeless classic\n\n\n\n\n\n \n\n\n\n\n\n\n\n\n\n\nThe Nutcracker\n\nDec 14 @ 5:00 pm MST\n\n\n\n\n\n\n\n\n\n\nThe cherished holiday performance set to Tchaikovsky’s timeless score.\n\n\n\n\n\n\n\n\n\n\n\n\n\nFirst performed in Russia in 1892\, this legendary ballet has captivated generations of audiences worldwide. \nMontana Ballet Company’s production of The Nutcracker is one of the region’s largest artistic collaborations\, bringing together talented dancers\, local and national choreographers\, guest artists\, live musicians\, and expert designers. Families will be enchanted by the new choreography\, theatrical elements\, and the magic of this iconic ballet. \n\n\n\n\n\n\n\n\n\n\n\n\n\nGET TICKETS\n\nPresented By:\n\nWMPAC\n\n\n\n120 Minutes
URL:https://bozone.com/event/montana-ballet-the-nutcracker/
LOCATION:Warren Miller Performing Arts Center – Big Sky\, 45465 Gallatin Road\, Gallatin Gateway\, MT\, 59730\, United States
CATEGORIES:Arts & Theatre,Miscellanea
GEO:45.2290489;-111.2522824
X-APPLE-STRUCTURED-LOCATION;VALUE=URI;X-ADDRESS=Warren Miller Performing Arts Center – Big Sky 45465 Gallatin Road Gallatin Gateway MT 59730 United States;X-APPLE-RADIUS=500;X-TITLE=45465 Gallatin Road:geo:-111.2522824,45.2290489
END:VEVENT
END:VCALENDAR