BEGIN:VCALENDAR
VERSION:2.0
PRODID:-//The BoZone - ECPv5.12.0//NONSGML v1.0//EN
CALSCALE:GREGORIAN
METHOD:PUBLISH
X-WR-CALNAME:The BoZone
X-ORIGINAL-URL:https://bozone.com
X-WR-CALDESC:Events for The BoZone
BEGIN:VTIMEZONE
TZID:America/Denver
BEGIN:DAYLIGHT
TZOFFSETFROM:-0700
TZOFFSETTO:-0600
TZNAME:MDT
DTSTART:20250309T090000
END:DAYLIGHT
BEGIN:STANDARD
TZOFFSETFROM:-0600
TZOFFSETTO:-0700
TZNAME:MST
DTSTART:20251102T080000
END:STANDARD
END:VTIMEZONE
BEGIN:VEVENT
DTSTART;TZID=America/Denver:20251210T160000
DTEND;TZID=America/Denver:20251210T160000
DTSTAMP:20260424T070509
CREATED:20251124T140435Z
LAST-MODIFIED:20251124T140435Z
UID:302202-1765382400-1765382400@bozone.com
SUMMARY:Northside Holiday Stroll
DESCRIPTION:Join us in Bozeman’s Northeast Neighborhood for an evening of holiday fun. Participating businesses will be open and may be offering discounts\, live music\, food\, activities\, and more! Everyone is welcome.
URL:https://bozone.com/event/northside-holiday-stroll/
LOCATION:Northeast Bozeman\, Bozeman\, MT\, United States
CATEGORIES:Arts & Theatre,Miscellanea
GEO:45.6769979;-111.0429339
END:VEVENT
END:VCALENDAR