BEGIN:VCALENDAR
VERSION:2.0
PRODID:-//The BoZone - ECPv5.12.0//NONSGML v1.0//EN
CALSCALE:GREGORIAN
METHOD:PUBLISH
X-WR-CALNAME:The BoZone
X-ORIGINAL-URL:https://bozone.com
X-WR-CALDESC:Events for The BoZone
BEGIN:VTIMEZONE
TZID:America/Denver
BEGIN:DAYLIGHT
TZOFFSETFROM:-0700
TZOFFSETTO:-0600
TZNAME:MDT
DTSTART:20250309T090000
END:DAYLIGHT
BEGIN:STANDARD
TZOFFSETFROM:-0600
TZOFFSETTO:-0700
TZNAME:MST
DTSTART:20251102T080000
END:STANDARD
END:VTIMEZONE
BEGIN:VEVENT
DTSTART;TZID=America/Denver:20251208T174500
DTEND;TZID=America/Denver:20251208T200000
DTSTAMP:20260424T103856
CREATED:20251124T140235Z
LAST-MODIFIED:20251128T051741Z
UID:302205-1765215900-1765224000@bozone.com
SUMMARY:Paint & Sip - "Up To Gnome Good"
DESCRIPTION:Paint your own festive gnomes at Last Best Place Brewing! Grace will bring everything you need to make your masterpiece\, and drinks will be available for purchase through the venue.
URL:https://bozone.com/event/paint-sip-up-to-gnome-good/
LOCATION:Last Best Place Brewing Co.\, 605 N. 7th Ave\, Bozeman\, MT\, 59715\, United States
CATEGORIES:Arts & Theatre
GEO:45.6857672;-111.0466208
X-APPLE-STRUCTURED-LOCATION;VALUE=URI;X-ADDRESS=Last Best Place Brewing Co. 605 N. 7th Ave Bozeman MT 59715 United States;X-APPLE-RADIUS=500;X-TITLE=605 N. 7th Ave:geo:-111.0466208,45.6857672
END:VEVENT
END:VCALENDAR