BEGIN:VCALENDAR
VERSION:2.0
PRODID:-//The BoZone - ECPv5.12.0//NONSGML v1.0//EN
CALSCALE:GREGORIAN
METHOD:PUBLISH
X-WR-CALNAME:The BoZone
X-ORIGINAL-URL:https://bozone.com
X-WR-CALDESC:Events for The BoZone
BEGIN:VTIMEZONE
TZID:America/Denver
BEGIN:DAYLIGHT
TZOFFSETFROM:-0700
TZOFFSETTO:-0600
TZNAME:MDT
DTSTART:20250309T090000
END:DAYLIGHT
BEGIN:STANDARD
TZOFFSETFROM:-0600
TZOFFSETTO:-0700
TZNAME:MST
DTSTART:20251102T080000
END:STANDARD
END:VTIMEZONE
BEGIN:VEVENT
DTSTART;TZID=America/Denver:20251207T120000
DTEND;TZID=America/Denver:20251207T170000
DTSTAMP:20260424T121146
CREATED:20251128T051454Z
LAST-MODIFIED:20251128T051454Z
UID:303026-1765108800-1765126800@bozone.com
SUMMARY:"Sip & Stacker" Ring-making Class
DESCRIPTION:“Sip & Stacker” Ring-making Class\nSunday\, December 7·12:00 – 4:00pm\n\n\n\n\nLast Best Place Brewing Company\, 605 N 7th Ave\, Bozeman\, MT 59715\, USA\n\n\nnotes\n\n\nMandy\, of Bozeman’s Studio SLVR\, will be hosting a beginner-level ring-making class in the tasting room. Participants will learn the basics of silversmithing & create their own sterling silver stacker ring. $73 gets you all supplies/materials & your first beer! For more info and to sign up\, visit studioslvr.com \nClass times at 12pm & 2pm\, must pre-register\, limited spots available!
URL:https://bozone.com/event/sip-stacker-ring-making-class/
LOCATION:Last Best Place Brewing Co.\, 605 N. 7th Ave\, Bozeman\, MT\, 59715\, United States
CATEGORIES:Arts & Theatre,Classes,Miscellanea
GEO:45.6857672;-111.0466208
X-APPLE-STRUCTURED-LOCATION;VALUE=URI;X-ADDRESS=Last Best Place Brewing Co. 605 N. 7th Ave Bozeman MT 59715 United States;X-APPLE-RADIUS=500;X-TITLE=605 N. 7th Ave:geo:-111.0466208,45.6857672
END:VEVENT
BEGIN:VEVENT
DTSTART;TZID=America/Denver:20251207T150000
DTEND;TZID=America/Denver:20251207T170000
DTSTAMP:20260424T121146
CREATED:20250927T163108Z
LAST-MODIFIED:20250927T163445Z
UID:298290-1765119600-1765126800@bozone.com
SUMMARY:A Christmas Carol
DESCRIPTION:A Christmas Carol\n\n\n\n\n\nMake it a Christmas to Remember…\nMONTANA THEATREWORKS presents\nThe Dickens Holiday Classic – A Christmas Carol\nAdaptation by Jerry Patch – Directed by Mary Jo Ludin\nTickets: $49.00\, $37.00\, and $25.00 (depending on location)\nFriends of The Ellen – Save $10 per ticket until Oct. 3rd (see below) \nWarm up the winter chill with this timeless tale featuring Bob Cratchit\, Tiny Tim\, and that irascible\, misguided miser Ebenezer Scrooge. Witness firsthand as Scrooge is haunted by Jacob Marley\, and the Ghosts of Christmas Past\, Present and Future. Will these spectral visions be enough to change his curmudgeonly ways? Take a trip to 19th Century London to find out. Magically brought to life on stage\, this Ellen Theatre tradition is sure to chase away the gloomiest of holiday humbugs. \nAre you a Friend of The Ellen? Save $10.00 per ticket when making purchases by calling The Ellen Box Office at 406-585-5885 or sending an email with your choice of date and time\, number of tickets\, and preferred seat location. This discount is available to FOTE members until Friday\, October 3rd. \nTo become a Friend of The Ellen\, click HERE to make a tax-deductible donation of $100 or more – and you’ll be eligible to save $10.00 on every ticket until October 3rd. You may also become a member by calling 406-585-5885 or sending an email to The Ellen Theatre Box Office. \nNOTE TO PARENTS: This production of A Christmas Carol is a faithful adaptation of the Charles Dickens book\, which includes visits from four ghosts. Young children may be frightened by the darker and supernatural aspects of this play\, and it is not recommended for those under the age of four. Please Note: If your child is disruptive or a distraction to others\, you will be asked to exit the auditorium until your child is ready to re-enter. \nA Christmas Carol running time: One hour\, 45 minutes\, plus one intermission. \nGET TICKETS
URL:https://bozone.com/event/a-christmas-carol-3/
LOCATION:The Ellen Theatre\, 17 W Main\, Bozeman\, MT\, 59715\, United States
CATEGORIES:Arts & Theatre
GEO:45.6794524;-111.037852
X-APPLE-STRUCTURED-LOCATION;VALUE=URI;X-ADDRESS=The Ellen Theatre 17 W Main Bozeman MT 59715 United States;X-APPLE-RADIUS=500;X-TITLE=17 W Main:geo:-111.037852,45.6794524
END:VEVENT
BEGIN:VEVENT
DTSTART;TZID=America/Denver:20251207T160000
DTEND;TZID=America/Denver:20251207T160000
DTSTAMP:20260424T121146
CREATED:20251025T014819Z
LAST-MODIFIED:20251025T014819Z
UID:300239-1765123200-1765123200@bozone.com
SUMMARY:Christmas Ornament Painting
DESCRIPTION:Join me at Bar 3 Bar-B-Q for a Christmas ornament decorating class. Every artist gets 4 ornaments to decorate\, and you can paint both sides! I’ll provide several designs to choose from\, or you can freehand your own.\n-What: A Christmas ornament decorating party\n-When: Sunday\, December 7th from 4:00-6:00 PM\n-Where: 119 E Main St\, Belgrade\, MT 59714\n-Who: You and your pals\n-Why: Why not?\n-How: Buy a ticket online to reserve your seat \nPS: Please arrive 10 minutes early to grab your drinks and get settled!
URL:https://bozone.com/event/christmas-ornament-painting/
LOCATION:Bar 3 BBQ\, 119 East Main St\, Belgrade\, MT\, 59714\, United States
CATEGORIES:Arts & Theatre,Classes,Miscellanea
GEO:45.7765839;-111.1771994
X-APPLE-STRUCTURED-LOCATION;VALUE=URI;X-ADDRESS=Bar 3 BBQ 119 East Main St Belgrade MT 59714 United States;X-APPLE-RADIUS=500;X-TITLE=119 East Main St:geo:-111.1771994,45.7765839
END:VEVENT
BEGIN:VEVENT
DTSTART;TZID=America/Denver:20251207T160000
DTEND;TZID=America/Denver:20251207T160000
DTSTAMP:20260424T121146
CREATED:20251025T015244Z
LAST-MODIFIED:20251025T015244Z
UID:300241-1765123200-1765123200@bozone.com
SUMMARY:Bending Towards the Light...a Jazz Nativity
DESCRIPTION:It’s back!After a wildly popular Premiere in 2023\, Bending Toward the Light…a Jazz Nativity will be performed December 4th\, 7th\, and 11th in the beautiful sanctuary of Hope Lutheran church with its pitch perfect acoustics. The Directed by Beth Ann Kennedy in collaboration with Montana State University\, featuring Ryan Matzinger and the MSU One o’clock Concert Jazz Ensemble\, Jeni Fleming\, Katherine Kramer\, Jake Fleming\, The Big Sky Voces\, a choir of 50 under the direction of Maren Haynes Marchesini and many wonderful\, Montana singers\, musicians and dancers. By the end of Bending Towards the Light you know you’ve been through something wonderful. Purchase tickets now at www.jazznativity.org/bozeman\nfor questions call 406.640.0300 \n\n\n\nThu Dec 4\, 2025 7:00 PM – 8:30 PM\nSunday\, December 7th at 4:00 PM\nThursday\, December 11th at 7:00 PM\n\n\n\n\nDecember 4th Show\nTicketsDecember 7th Show\nTicketsDecember 11th Show Tickets
URL:https://bozone.com/event/bending-towards-the-light-a-jazz-nativity-2/
LOCATION:Hope Lutheran Church\, 2152 Graf St\, Bozeman\, United States
CATEGORIES:Arts & Theatre,Music
GEO:45.6481929;-111.0659188
X-APPLE-STRUCTURED-LOCATION;VALUE=URI;X-ADDRESS=Hope Lutheran Church 2152 Graf St Bozeman United States;X-APPLE-RADIUS=500;X-TITLE=2152 Graf St:geo:-111.0659188,45.6481929
END:VEVENT
END:VCALENDAR