BEGIN:VCALENDAR
VERSION:2.0
PRODID:-//The BoZone - ECPv5.12.0//NONSGML v1.0//EN
CALSCALE:GREGORIAN
METHOD:PUBLISH
X-WR-CALNAME:The BoZone
X-ORIGINAL-URL:https://bozone.com
X-WR-CALDESC:Events for The BoZone
BEGIN:VTIMEZONE
TZID:America/Denver
BEGIN:DAYLIGHT
TZOFFSETFROM:-0700
TZOFFSETTO:-0600
TZNAME:MDT
DTSTART:20250309T090000
END:DAYLIGHT
BEGIN:STANDARD
TZOFFSETFROM:-0600
TZOFFSETTO:-0700
TZNAME:MST
DTSTART:20251102T080000
END:STANDARD
END:VTIMEZONE
BEGIN:VEVENT
DTSTART;TZID=America/Denver:20251205T150000
DTEND;TZID=America/Denver:20251205T150000
DTSTAMP:20260424T152652
CREATED:20251124T141121Z
LAST-MODIFIED:20251124T141121Z
UID:302201-1764946800-1764946800@bozone.com
SUMMARY:Gangbusters Pottery Holiday Studio Tour and Sale
DESCRIPTION:Join Northside Bozeman’s oldest pottery for an evening of live music\, studio tours\, and shopping. Open to all!\n724 N. Wallace\, 3-9pm
URL:https://bozone.com/event/gangbusters-pottery-holiday-studio-tour-and-sale/
LOCATION:Gangbusters Pottery\, 724 N Wallace\, Suite 3\, Bozeman\, MT\, 59715\, United States
CATEGORIES:Arts & Theatre
GEO:45.6874177;-111.0281945
X-APPLE-STRUCTURED-LOCATION;VALUE=URI;X-ADDRESS=Gangbusters Pottery 724 N Wallace Suite 3 Bozeman MT 59715 United States;X-APPLE-RADIUS=500;X-TITLE=724 N Wallace\, Suite 3:geo:-111.0281945,45.6874177
END:VEVENT
BEGIN:VEVENT
DTSTART;TZID=America/Denver:20251205T170000
DTEND;TZID=America/Denver:20251205T170000
DTSTAMP:20260424T152652
CREATED:20251126T023135Z
LAST-MODIFIED:20251126T023135Z
UID:302439-1764954000-1764954000@bozone.com
SUMMARY:Twas the Night Before Christmas
DESCRIPTION:A Live Radio Performance
URL:https://bozone.com/event/twas-the-night-before-christmas/
LOCATION:Blue Slipper Theatre – Livingston\, 113 East Callender Street\, Livingston\, MT\, 59047\, United States
CATEGORIES:Arts & Theatre
GEO:45.6615548;-110.559691
X-APPLE-STRUCTURED-LOCATION;VALUE=URI;X-ADDRESS=Blue Slipper Theatre – Livingston 113 East Callender Street Livingston MT 59047 United States;X-APPLE-RADIUS=500;X-TITLE=113 East Callender Street:geo:-110.559691,45.6615548
END:VEVENT
BEGIN:VEVENT
DTSTART;TZID=America/Denver:20251205T180000
DTEND;TZID=America/Denver:20251205T180000
DTSTAMP:20260424T152653
CREATED:20251126T023200Z
LAST-MODIFIED:20251126T023200Z
UID:302440-1764957600-1764957600@bozone.com
SUMMARY:Twas the Night Before Christmas
DESCRIPTION:A Live Radio Performance
URL:https://bozone.com/event/twas-the-night-before-christmas-2/
LOCATION:Blue Slipper Theatre – Livingston\, 113 East Callender Street\, Livingston\, MT\, 59047\, United States
CATEGORIES:Arts & Theatre
GEO:45.6615548;-110.559691
X-APPLE-STRUCTURED-LOCATION;VALUE=URI;X-ADDRESS=Blue Slipper Theatre – Livingston 113 East Callender Street Livingston MT 59047 United States;X-APPLE-RADIUS=500;X-TITLE=113 East Callender Street:geo:-110.559691,45.6615548
END:VEVENT
BEGIN:VEVENT
DTSTART;TZID=America/Denver:20251205T183000
DTEND;TZID=America/Denver:20251205T183000
DTSTAMP:20260424T152653
CREATED:20251124T133735Z
LAST-MODIFIED:20251124T133735Z
UID:302209-1764959400-1764959400@bozone.com
SUMMARY:Paint & Sip (BYOB)
DESCRIPTION:Join us at the Farmhouse’s Grand Opening and paint your own Moonlit Mountains. Complimentary charcuterie will be provided\, but feel free to BYOB!
URL:https://bozone.com/event/paint-sip-byob/
LOCATION:The Farmhouse\, 260 Ice Center Lane\, Bozeman\, MT\, 59718\, United States
CATEGORIES:Arts & Theatre
END:VEVENT
BEGIN:VEVENT
DTSTART;TZID=America/Denver:20251205T183000
DTEND;TZID=America/Denver:20251205T183000
DTSTAMP:20260424T152653
CREATED:20251204T223921Z
LAST-MODIFIED:20251204T223921Z
UID:303430-1764959400-1764959400@bozone.com
SUMMARY:One&Only Moonlight Basin’s Inaugural Tree Lighting
DESCRIPTION:Gather in the Main Lobby at One&Only Moonlight Basin and join us as we illuminate the season in spectacular style with our inaugural Holiday Tree Lighting. Beneath the Montana sky\, celebrate the start of the holidays at One&Only\, accompanied by live music\, a “build your own” hot chocolate bar\, and fresh Christmas cookies to warm the evening.
URL:https://bozone.com/event/oneonly-moonlight-basins-inaugural-tree-lighting/
LOCATION:Moonlight Basin\, 66 Mountain Loop Rd\, Big Sky\, MT\, 59716\, United States
CATEGORIES:Arts & Theatre,Miscellanea,Music
GEO:45.300455;-111.4156646
X-APPLE-STRUCTURED-LOCATION;VALUE=URI;X-ADDRESS=Moonlight Basin 66 Mountain Loop Rd Big Sky MT 59716 United States;X-APPLE-RADIUS=500;X-TITLE=66 Mountain Loop Rd:geo:-111.4156646,45.300455
END:VEVENT
BEGIN:VEVENT
DTSTART;TZID=America/Denver:20251205T190000
DTEND;TZID=America/Denver:20251205T190000
DTSTAMP:20260424T152653
CREATED:20251126T023237Z
LAST-MODIFIED:20251126T023237Z
UID:302441-1764961200-1764961200@bozone.com
SUMMARY:Twas the Night Before Christmas
DESCRIPTION:A Live Radio Performance
URL:https://bozone.com/event/twas-the-night-before-christmas-3/
LOCATION:Blue Slipper Theatre – Livingston\, 113 East Callender Street\, Livingston\, MT\, 59047\, United States
CATEGORIES:Arts & Theatre
GEO:45.6615548;-110.559691
X-APPLE-STRUCTURED-LOCATION;VALUE=URI;X-ADDRESS=Blue Slipper Theatre – Livingston 113 East Callender Street Livingston MT 59047 United States;X-APPLE-RADIUS=500;X-TITLE=113 East Callender Street:geo:-110.559691,45.6615548
END:VEVENT
BEGIN:VEVENT
DTSTART;TZID=America/Denver:20251205T190000
DTEND;TZID=America/Denver:20251205T190000
DTSTAMP:20260424T152653
CREATED:20251128T004738Z
LAST-MODIFIED:20251128T004738Z
UID:302874-1764961200-1764961200@bozone.com
SUMMARY:Comedy w/ Lukas Seely
DESCRIPTION:— Get ready for an unforgettable night of laughter as The Good Time Charlie Show brings its hybrid comedy-and-talk-show experience to the brand-new VIP Barber and Whiskey Lounge in Belgrade on Friday\, December 5th.\nThis unique event features special guest Lukas Seely\, a nationally touring comedian with credits on Comedy Central\, Food Network\, and more. The night kicks off with an open mic\, followed by a featured local comedian\, and caps off with a national headliner set—all before the live-streamed TV/Talk Show portion begins.\nAfter the comedy sets\, the audience is invited to stay for a taping of The Good Time Charlie Show\, hosted by Good Time Charlie himself and featuring conversations\, bits\, and behind-the-scenes fun with the performing comedians.\nHeld inside the intimate and stylish VIP Barber and Whiskey Lounge\, seating is extremely limited\, promising a close-up\, high-energy night of stand-up and entertainment.\nEvent Details: \n\nDate: Friday\, December 5th\nLocation: VIP Barber and Whiskey Lounge\, Belgrade\nDoors Open: 7:00 PM\nComedy Begins: 7:15 PM\nAge Restriction: 18+ (21+ for full bar access)\nPerks: Free light bites courtesy of the Local restaurant
URL:https://bozone.com/event/comedy-w-lukas-seely/
LOCATION:VIP Barber and Whiskey\, 11 W Main St\, Belgrade\, MT\, 59714\, United States
CATEGORIES:Arts & Theatre,Miscellanea
END:VEVENT
BEGIN:VEVENT
DTSTART;TZID=America/Denver:20251205T193000
DTEND;TZID=America/Denver:20251205T193000
DTSTAMP:20260424T152653
CREATED:20250927T163030Z
LAST-MODIFIED:20250927T163030Z
UID:298287-1764963000-1764963000@bozone.com
SUMMARY:A Christmas Carol
DESCRIPTION:A Christmas Carol\n\n\n\n\n\nMake it a Christmas to Remember…\nMONTANA THEATREWORKS presents\nThe Dickens Holiday Classic – A Christmas Carol\nAdaptation by Jerry Patch – Directed by Mary Jo Ludin\nTickets: $49.00\, $37.00\, and $25.00 (depending on location)\nFriends of The Ellen – Save $10 per ticket until Oct. 3rd (see below) \nWarm up the winter chill with this timeless tale featuring Bob Cratchit\, Tiny Tim\, and that irascible\, misguided miser Ebenezer Scrooge. Witness firsthand as Scrooge is haunted by Jacob Marley\, and the Ghosts of Christmas Past\, Present and Future. Will these spectral visions be enough to change his curmudgeonly ways? Take a trip to 19th Century London to find out. Magically brought to life on stage\, this Ellen Theatre tradition is sure to chase away the gloomiest of holiday humbugs. \nAre you a Friend of The Ellen? Save $10.00 per ticket when making purchases by calling The Ellen Box Office at 406-585-5885 or sending an email with your choice of date and time\, number of tickets\, and preferred seat location. This discount is available to FOTE members until Friday\, October 3rd. \nTo become a Friend of The Ellen\, click HERE to make a tax-deductible donation of $100 or more – and you’ll be eligible to save $10.00 on every ticket until October 3rd. You may also become a member by calling 406-585-5885 or sending an email to The Ellen Theatre Box Office. \nNOTE TO PARENTS: This production of A Christmas Carol is a faithful adaptation of the Charles Dickens book\, which includes visits from four ghosts. Young children may be frightened by the darker and supernatural aspects of this play\, and it is not recommended for those under the age of four. Please Note: If your child is disruptive or a distraction to others\, you will be asked to exit the auditorium until your child is ready to re-enter. \nA Christmas Carol running time: One hour\, 45 minutes\, plus one intermission. \nGET TICKETS
URL:https://bozone.com/event/a-christmas-carol/
LOCATION:The Ellen Theatre\, 17 W Main\, Bozeman\, MT\, 59715\, United States
CATEGORIES:Arts & Theatre
GEO:45.6794524;-111.037852
X-APPLE-STRUCTURED-LOCATION;VALUE=URI;X-ADDRESS=The Ellen Theatre 17 W Main Bozeman MT 59715 United States;X-APPLE-RADIUS=500;X-TITLE=17 W Main:geo:-111.037852,45.6794524
END:VEVENT
BEGIN:VEVENT
DTSTART;TZID=America/Denver:20251205T193000
DTEND;TZID=America/Denver:20251205T193000
DTSTAMP:20260424T152653
CREATED:20251008T052817Z
LAST-MODIFIED:20251008T052817Z
UID:299751-1764963000-1764963000@bozone.com
SUMMARY:Holiday Noir
DESCRIPTION:December 5 & 6\n7:30pm\nEmerson Center for the Arts & Culture\n18+ \nIn a season saturated with nostalgia\, the Emerson’s Holiday Noir is a daring disruption that invites the community to embrace a more unexpected (and adult) option. With a cast of over 60 local artists\, this holiday variety show thrives on individuality and creative expression from all types of performers. It’s part comedy\, part cabaret\, and all heart; a fully immersive experience designed to entertain and electrify in equal measure. So hitch up your reindeer\, cause it’s time to sleigh! Tickets are officially on sale and trust us- you do not want to miss this show! \nTickets from $36+ \nTo purchase tickets\, visit www.theEmerson.org\nSearch for “Holiday Noir” (in Bozeman) on Eventbrite.com\nor copy/paste this link into your browser: https://www.eventbrite.com/cc/holiday-noir-2025-4630593
URL:https://bozone.com/event/holiday-noir/
LOCATION:Emerson Center for Arts and Culture\, MT\, United States
CATEGORIES:Arts & Theatre
GEO:46.8796822;-110.3625658
END:VEVENT
END:VCALENDAR