BEGIN:VCALENDAR
VERSION:2.0
PRODID:-//The BoZone - ECPv5.12.0//NONSGML v1.0//EN
CALSCALE:GREGORIAN
METHOD:PUBLISH
X-WR-CALNAME:The BoZone
X-ORIGINAL-URL:https://bozone.com
X-WR-CALDESC:Events for The BoZone
BEGIN:VTIMEZONE
TZID:America/Denver
BEGIN:DAYLIGHT
TZOFFSETFROM:-0700
TZOFFSETTO:-0600
TZNAME:MDT
DTSTART:20250309T090000
END:DAYLIGHT
BEGIN:STANDARD
TZOFFSETFROM:-0600
TZOFFSETTO:-0700
TZNAME:MST
DTSTART:20251102T080000
END:STANDARD
END:VTIMEZONE
BEGIN:VEVENT
DTSTART;TZID=America/Denver:20251204T170000
DTEND;TZID=America/Denver:20251204T170000
DTSTAMP:20260424T171329
CREATED:20251114T204432Z
LAST-MODIFIED:20251114T204432Z
UID:302092-1764867600-1764867600@bozone.com
SUMMARY:Madrigal Dinner
DESCRIPTION:The Arts Council of Big Sky is pleased announce that the 28th annual Madrigal Dinner is returning to BUCK’s T- 4\, on Thursday\, December 4\, 2025 at 5 p.m. This magical Big Sky tradition is a production of the Montana State University School of Music and is considered by many as the kick-off of the holiday season!\nTickets are by advanced reservation only and include a rustic dinner with festive music from the Montana State University Montanans\, the MSU Brass Quintet and Voces Luminis. \nThe evening begins with a no-host bar at 5 p.m.\, followed by seating for the dinner promptly at 6 p.m.\, in preparation for the Ceremonial Procession of the Lord and Lady of the Manor and their guests. Olde English customs are the theme throughout the evening\, including fanfares introducing the Ceremonial Procession\, the Wassail Bowl and Christmas Toast\, the Boar’s Head Procession and the Flaming Pudding Dessert. The Montanans serenade guests throughout the evening and are joined by Voces Luminis (ssaa) for the concert finale. The dinner closes with the audience joining the musicians in singing familiar carols. This year marks the 60thth annual Madrigal Dinner\, produced by the MSU School of Music\, and the 28th year the production has traveled to Big Sky. \nYou will have the opportunity to request seating near guests outside of your party through a questionnaire prompted AFTER you make your purchase. We will do our best to accommodate all requests! If you have any questions or need more information please call 995-2742.
URL:https://bozone.com/event/madrigal-dinner/
LOCATION:Buck’s T-4 Lodge\, 46625 Gallatin Rd\, Big Sky\, MT\, 59716\, United States
CATEGORIES:Arts & Theatre
GEO:45.2597544;-111.2544426
X-APPLE-STRUCTURED-LOCATION;VALUE=URI;X-ADDRESS=Buck’s T-4 Lodge 46625 Gallatin Rd Big Sky MT 59716 United States;X-APPLE-RADIUS=500;X-TITLE=46625 Gallatin Rd:geo:-111.2544426,45.2597544
END:VEVENT
BEGIN:VEVENT
DTSTART;TZID=America/Denver:20251204T190000
DTEND;TZID=America/Denver:20251204T190000
DTSTAMP:20260424T171329
CREATED:20251025T015157Z
LAST-MODIFIED:20251025T015157Z
UID:300290-1764874800-1764874800@bozone.com
SUMMARY:Bending Towards the Light...a Jazz Nativity
DESCRIPTION:It’s back!After a wildly popular Premiere in 2023\, Bending Toward the Light…a Jazz Nativity will be performed December 4th\, 7th\, and 11th in the beautiful sanctuary of Hope Lutheran church with its pitch perfect acoustics. The Directed by Beth Ann Kennedy in collaboration with Montana State University\, featuring Ryan Matzinger and the MSU One o’clock Concert Jazz Ensemble\, Jeni Fleming\, Katherine Kramer\, Jake Fleming\, The Big Sky Voces\, a choir of 50 under the direction of Maren Haynes Marchesini and many wonderful\, Montana singers\, musicians and dancers. By the end of Bending Towards the Light you know you’ve been through something wonderful. Purchase tickets now at www.jazznativity.org/bozeman\nfor questions call 406.640.0300 \n\n\n\nThu Dec 4\, 2025 7:00 PM – 8:30 PM\nSunday\, December 7th at 4:00 PM\nThursday\, December 11th at 7:00 PM\n\n\n\n\nDecember 4th Show\nTicketsDecember 7th Show\nTicketsDecember 11th Show Tickets
URL:https://bozone.com/event/bending-towards-the-light-a-jazz-nativity/
LOCATION:Hope Lutheran Church\, 2152 Graf St\, Bozeman\, United States
CATEGORIES:Arts & Theatre,Music
GEO:45.6481929;-111.0659188
X-APPLE-STRUCTURED-LOCATION;VALUE=URI;X-ADDRESS=Hope Lutheran Church 2152 Graf St Bozeman United States;X-APPLE-RADIUS=500;X-TITLE=2152 Graf St:geo:-111.0659188,45.6481929
END:VEVENT
END:VCALENDAR