BEGIN:VCALENDAR
VERSION:2.0
PRODID:-//The BoZone - ECPv5.12.0//NONSGML v1.0//EN
CALSCALE:GREGORIAN
METHOD:PUBLISH
X-WR-CALNAME:The BoZone
X-ORIGINAL-URL:https://bozone.com
X-WR-CALDESC:Events for The BoZone
BEGIN:VTIMEZONE
TZID:America/Denver
BEGIN:DAYLIGHT
TZOFFSETFROM:-0700
TZOFFSETTO:-0600
TZNAME:MDT
DTSTART:20250309T090000
END:DAYLIGHT
BEGIN:STANDARD
TZOFFSETFROM:-0600
TZOFFSETTO:-0700
TZNAME:MST
DTSTART:20251102T080000
END:STANDARD
END:VTIMEZONE
BEGIN:VEVENT
DTSTART;TZID=America/Denver:20251123T110000
DTEND;TZID=America/Denver:20251123T110000
DTSTAMP:20260425T105247
CREATED:20250918T132000Z
LAST-MODIFIED:20250918T132000Z
UID:297646-1763895600-1763895600@bozone.com
SUMMARY:MBC’s Tea with Clara
DESCRIPTION:This special event is a must for families and children! Enjoy: Nutcracker Performance Highlights ~ Dancing with Clara ~ Fine Tea & Treats ~ Keepsake Photos & Special Boutique ~ Mimosa Bar. Tea with Clara will be held at the Kimpton Armory on Sunday\, November 23\, 2025 at 11 a.m. To purchase tickets visit www.montanaballet.org or call 406-582-8702.
URL:https://bozone.com/event/mbcs-tea-with-clara/
LOCATION:Kimpton Armory Hotel\, 24 W Mendenhall St\, Bozeman\, MT\, 59715\, United States
CATEGORIES:Arts & Theatre,Miscellanea,Music
GEO:45.6800443;-111.0380169
X-APPLE-STRUCTURED-LOCATION;VALUE=URI;X-ADDRESS=Kimpton Armory Hotel 24 W Mendenhall St Bozeman MT 59715 United States;X-APPLE-RADIUS=500;X-TITLE=24 W Mendenhall St:geo:-111.0380169,45.6800443
END:VEVENT
BEGIN:VEVENT
DTSTART;TZID=America/Denver:20251123T140000
DTEND;TZID=America/Denver:20251123T140000
DTSTAMP:20260425T105247
CREATED:20251010T220657Z
LAST-MODIFIED:20251010T220657Z
UID:299880-1763906400-1763906400@bozone.com
SUMMARY:Quilting
DESCRIPTION:Connect with other quilters. This quilting program is for everyone!\n• If you’re a beginner\, come and learn how to quilt with easy instructions and hands on help.\n• Bring a current project and socialize with other quilters.\n• Work on a block of the month project exclusive to library patrons. Every month will be a new block that you can make using the provided scrap fabric. There’s no commitment\, each block can function as its own unit or make a full quilt at the end of the year. The theme for the block project in 2025 is houses. \nScrap fabric for the monthly blocks\, sewing machines and other equipment will be provided. Feel free to bring your own sewing machine and tools if you prefer. \nQuestions? Contact Liz DeVries at edevries@bozeman.net\, (406) 582-2409.
URL:https://bozone.com/event/quilting-2/
LOCATION:Bozeman Public Library\, 626 East Main Street\, Bozeman\, MT\, 59715\, United States
CATEGORIES:Arts & Theatre,Classes
GEO:45.6785823;-111.0270991
X-APPLE-STRUCTURED-LOCATION;VALUE=URI;X-ADDRESS=Bozeman Public Library 626 East Main Street Bozeman MT 59715 United States;X-APPLE-RADIUS=500;X-TITLE=626 East Main Street:geo:-111.0270991,45.6785823
END:VEVENT
BEGIN:VEVENT
DTSTART;TZID=America/Denver:20251123T140000
DTEND;TZID=America/Denver:20251123T170000
DTSTAMP:20260425T105247
CREATED:20251111T174631Z
LAST-MODIFIED:20251111T174631Z
UID:302019-1763906400-1763917200@bozone.com
SUMMARY:Gallatin High School Theater Club presents Legally Blonde - The Musical
DESCRIPTION:Gallatin High School Theatre Club presents Legally Blonde – The Musical\nA bubbly and seemingly superficial sorority queen is dumped by her boyfriend\, leading her to enroll in Harvard Law School to win him back. There\, she challenges stereotypes and discovers her own capabilities\, proving that intelligence and determination can be found in unexpected places. Along the way\, she finds friendship and self-discovery\, defying expectations and achieving unexpected success. \nShowings: Nov 21st @ 7pm\, Nov 22nd @ 7pm\, Nov 23rd @ 2pm \nLocation: Gallatin High School’s Johnson Auditorium \nTickets: General admission $15\, Students $5\, all available at the door. \nFor more infomation call GHS at (406) 522-4600. \nSupport youth theatre and your Raptors!
URL:https://bozone.com/event/gallatin-high-school-theater-club-presents-legally-blonde-the-musical-3/
LOCATION:Gallatin High School – GHS\, 4455 Annie St\, Bozeman\, MT\, 59718\, United States
CATEGORIES:Arts & Theatre
GEO:45.6893412;-111.1106
X-APPLE-STRUCTURED-LOCATION;VALUE=URI;X-ADDRESS=Gallatin High School – GHS 4455 Annie St Bozeman MT 59718 United States;X-APPLE-RADIUS=500;X-TITLE=4455 Annie St:geo:-111.1106,45.6893412
END:VEVENT
BEGIN:VEVENT
DTSTART;TZID=America/Denver:20251123T150000
DTEND;TZID=America/Denver:20251123T170000
DTSTAMP:20260425T105248
CREATED:20250930T013349Z
LAST-MODIFIED:20250930T013349Z
UID:299595-1763910000-1763917200@bozone.com
SUMMARY:The Aliens
DESCRIPTION:Nov\n23\n\n\n\n\nThe Aliens
URL:https://bozone.com/event/the-aliens-6/
LOCATION:Blue Slipper Theatre – Livingston\, 113 East Callender Street\, Livingston\, MT\, 59047\, United States
CATEGORIES:Arts & Theatre
GEO:45.6615548;-110.559691
X-APPLE-STRUCTURED-LOCATION;VALUE=URI;X-ADDRESS=Blue Slipper Theatre – Livingston 113 East Callender Street Livingston MT 59047 United States;X-APPLE-RADIUS=500;X-TITLE=113 East Callender Street:geo:-110.559691,45.6615548
END:VEVENT
BEGIN:VEVENT
DTSTART;TZID=America/Denver:20251123T150000
DTEND;TZID=America/Denver:20251123T150000
DTSTAMP:20260425T105248
CREATED:20251029T194121Z
LAST-MODIFIED:20251029T194121Z
UID:301443-1763910000-1763910000@bozone.com
SUMMARY:It’s A Wonderful Life - A Radio Play
DESCRIPTION:https://mailchi.mp/ada3ad1e3a16/auditions-on-june-20th-21st-for-in-your-dreams-and-more-from-open-door-theatre-14682690?e=d6a14a1361
URL:https://bozone.com/event/its-a-wonderful-life-a-radio-play-4/
LOCATION:Martin-Campeau House\, 419 South Grand Avenue\, Bozeman\, MT\, 59715\, United States
CATEGORIES:Arts & Theatre
GEO:45.6745649;-111.0405347
X-APPLE-STRUCTURED-LOCATION;VALUE=URI;X-ADDRESS=Martin-Campeau House 419 South Grand Avenue Bozeman MT 59715 United States;X-APPLE-RADIUS=500;X-TITLE=419 South Grand Avenue:geo:-111.0405347,45.6745649
END:VEVENT
BEGIN:VEVENT
DTSTART;TZID=America/Denver:20251123T170000
DTEND;TZID=America/Denver:20251123T170000
DTSTAMP:20260425T105248
CREATED:20251010T221950Z
LAST-MODIFIED:20251010T221950Z
UID:299922-1763917200-1763917200@bozone.com
SUMMARY:Anaconda Ensemble Theatre presents 'The Rope Trick'
DESCRIPTION:Anaconda Ensemble Theatre presents the World Premiere of\n‘The Rope Trick’ by Steven San Luis \nWritten by Steven San Luis (NYC)\nDirected by Tessa Welsh (Livingston\, MT)\nStage Manager/Assistant Director: Nikki Johnson (Anaconda\, MT)\nAssistant Stage Manager: Kinsley Kelly (Anaconda\, MT)\nProduced by Jackie Vetter (Anaconda\, MT) \nThe all Montana local cast features Anne Peacock\, Caden Tippett and Jackie Vetter.\n______ \nThe show will be presented November 14th\, 15th\, 21st and 22nd at 7 pm\n& the 16th and the 23rd at 5 pm\nMontana Hotel – Tammany Ballroom\n200 Main St.\nAnaconda\, MT \nRun time is 90 mins with no intermission \nTickets are:\n$20 for Students/Seniors\n$25 for general admission\n$35 for priority seating general admission (Rows 1 – 3\, first come first serve) \nTickets are on sale October 24th: https://anacondaensembletheatre.simpletix.com/\n__________ \nSynopsis of ‘The Rope Trick’: The Rational Thinkers Society is hosting an intimate conversational event on the topic of historical seances – and you’re invited. Witness Diana\, the Society Outreach Coordinator and her assistant\, Shelby\, as they interview Helen Webb\, the granddaughter of a woman who could speak with the dead. Check in at the front table when you arrive\, and please note that the electrical system in the building is an old one. If at any time the lights begin to flicker\, just remember: . . . There’s no such thing as ghosts. \nRated PG-13 (if you have questions about this rating – please email jackie@anacondaensembletheatre.com ) \nThis show is sponsored by the Tammis Day Foundation and The Tri-M Foundation.\n_______ \nHave questions? Email Jackie@anacondaensembletheatre.com or call/text 406-200-8084
URL:https://bozone.com/event/anaconda-ensemble-theatre-presents-the-rope-trick-5/
LOCATION:Old Montana Hotel\, 200 Main St.\, Anaconda\, MT\, 59711\, United States
CATEGORIES:Arts & Theatre
GEO:46.1290171;-112.9535824
X-APPLE-STRUCTURED-LOCATION;VALUE=URI;X-ADDRESS=Old Montana Hotel 200 Main St. Anaconda MT 59711 United States;X-APPLE-RADIUS=500;X-TITLE=200 Main St.:geo:-112.9535824,46.1290171
END:VEVENT
END:VCALENDAR