BEGIN:VCALENDAR
VERSION:2.0
PRODID:-//The BoZone - ECPv5.12.0//NONSGML v1.0//EN
CALSCALE:GREGORIAN
METHOD:PUBLISH
X-WR-CALNAME:The BoZone
X-ORIGINAL-URL:https://bozone.com
X-WR-CALDESC:Events for The BoZone
BEGIN:VTIMEZONE
TZID:America/Denver
BEGIN:DAYLIGHT
TZOFFSETFROM:-0700
TZOFFSETTO:-0600
TZNAME:MDT
DTSTART:20250309T090000
END:DAYLIGHT
BEGIN:STANDARD
TZOFFSETFROM:-0600
TZOFFSETTO:-0700
TZNAME:MST
DTSTART:20251102T080000
END:STANDARD
END:VTIMEZONE
BEGIN:VEVENT
DTSTART;TZID=America/Denver:20251113T190000
DTEND;TZID=America/Denver:20251113T190000
DTSTAMP:20260425T093955
CREATED:20250928T134444Z
LAST-MODIFIED:20250928T134444Z
UID:298494-1763060400-1763060400@bozone.com
SUMMARY:Arsenic and Old Lace
DESCRIPTION:Arsenic and Old Lace\nA hilarious blend of murder\, mayhem\, and mistaken identity\n\n\n\n\n\n \n\n\n\n\n\n\n\n\n\n\nArsenic and Old Lace\n\nNov 13 @ 7:00 pm\nNov 14 @ 7:00 pm MST\n\n\n\n\n\n\n\n\n\n\nA timeless favorite of stage and screen\, Arsenic and Old Lace is a wickedly funny dark comedy that has kept audiences laughing for over 80 years. \n\n\nWritten by Joseph Kesselring and first staged on Broadway in 1941\, the play cleverly mixes farce with the macabre. It centers on the seemingly sweet Brewster sisters\, Abby and Martha\, whose idea of “charity” involves poisoning lonely old men with elderberry wine. Their eccentric nephew Teddy\, who believes he is President Theodore Roosevelt\, helps bury the evidence\, while their drama-critic nephew Mortimer uncovers the family’s deadly secret—just as his criminal brother Jonathan returns home. Fast-paced and hilariously twisted\, the play became a Broadway hit and was adapted into Frank Capra’s classic 1944 film. \n\n\n\n\n\nBig Sky Community Theatre has been gathering locals to the stage annually since 2013 with the purpose of entertaining\, inspiring\, and enlightening audiences. Funded through Big Sky School District’s Adult Education Program\, the theater group comprises volunteer community members of all backgrounds and levels of stage experience. \n\n\n\n\n\n\n\n\n\n\n\n\n\n\n\n\n\n\nGET TICKETS\n\nPresented By:\nBig Sky Community Theatre\n\n75 Minutes
URL:https://bozone.com/event/arsenic-and-old-lace/
LOCATION:Warren Miller Performing Arts Center – Big Sky\, 45465 Gallatin Road\, Gallatin Gateway\, MT\, 59730\, United States
CATEGORIES:Arts & Theatre
GEO:45.2290489;-111.2522824
X-APPLE-STRUCTURED-LOCATION;VALUE=URI;X-ADDRESS=Warren Miller Performing Arts Center – Big Sky 45465 Gallatin Road Gallatin Gateway MT 59730 United States;X-APPLE-RADIUS=500;X-TITLE=45465 Gallatin Road:geo:-111.2522824,45.2290489
END:VEVENT
BEGIN:VEVENT
DTSTART;TZID=America/Denver:20251113T190000
DTEND;TZID=America/Denver:20251113T190000
DTSTAMP:20260425T093956
CREATED:20251025T025518Z
LAST-MODIFIED:20251111T162858Z
UID:300340-1763060400-1763060400@bozone.com
SUMMARY:Little Women: A Play.
DESCRIPTION:Bozeman Actors Theatre proudly presents Little Women\, a captivating stage adaptation by Heather Chrisler based on Louisa May Alcott’s beloved novel. Join us for an unforgettable journey through love\, loss\, and sisterhood from November 6–16\, 2025\, at the Yellowstone Theological Institute Barn\, located at 83 Rowland Rd\, Bozeman\, MT.\nThis all-ages production brings the March sisters to life with fresh energy and heartfelt emotion\, celebrating the enduring power of family and dreams. Whether you’re a longtime fan or discovering the story for the first time\, this is a theatrical experience you won’t want to miss.\n Spread the word\, bring your friends\, and support local theatre!\nFor tickets and more information\, visit the BozemanActorsTheatre.com website.\nLet’s fill the seats and hearts this November. See you at the show!
URL:https://bozone.com/event/little-women-a-play-4/
LOCATION:Yellowstone Theological Institute\, 83 Rowland Rd\, Bozeman\, MT\, 59715\, United States
CATEGORIES:Arts & Theatre
GEO:45.6586728;-111.0553279
X-APPLE-STRUCTURED-LOCATION;VALUE=URI;X-ADDRESS=Yellowstone Theological Institute 83 Rowland Rd Bozeman MT 59715 United States;X-APPLE-RADIUS=500;X-TITLE=83 Rowland Rd:geo:-111.0553279,45.6586728
END:VEVENT
END:VCALENDAR