BEGIN:VCALENDAR
VERSION:2.0
PRODID:-//The BoZone - ECPv5.12.0//NONSGML v1.0//EN
CALSCALE:GREGORIAN
METHOD:PUBLISH
X-WR-CALNAME:The BoZone
X-ORIGINAL-URL:https://bozone.com
X-WR-CALDESC:Events for The BoZone
BEGIN:VTIMEZONE
TZID:America/Denver
BEGIN:DAYLIGHT
TZOFFSETFROM:-0700
TZOFFSETTO:-0600
TZNAME:MDT
DTSTART:20250309T090000
END:DAYLIGHT
BEGIN:STANDARD
TZOFFSETFROM:-0600
TZOFFSETTO:-0700
TZNAME:MST
DTSTART:20251102T080000
END:STANDARD
END:VTIMEZONE
BEGIN:VEVENT
DTSTART;TZID=America/Denver:20251108T180000
DTEND;TZID=America/Denver:20251108T180000
DTSTAMP:20260423T113045
CREATED:20251029T210441Z
LAST-MODIFIED:20251029T210441Z
UID:301452-1762624800-1762624800@bozone.com
SUMMARY:Raucous Refuge - a Comedy Fundraiser
DESCRIPTION:Nov 8th! Come down to @ponderosasocial and help us spread some love and joy. All for a great cause! Get your tickets here! \nhttps://events.sellout.io/0VIwGJWNO7 \nDonations go to the International Rescue Committee. Facilitated by Gallatin Refugee Connections \nFeaturing the amazing talents of @seaswell \, @charliemulluk \, Rachelle Parish\, @charlieofdoom \, and myself! \nIf you can’t make it to the show\, please consider donating! Sharing can also go a long way
URL:https://bozone.com/event/raucous-refuge-a-comedy-fundraiser/
LOCATION:Ponderosa Social Club\, 515 W Aspen\, Bozeman\, MT\, 59715\, United States
CATEGORIES:Arts & Theatre,Miscellanea
GEO:45.687753;-111.0446275
X-APPLE-STRUCTURED-LOCATION;VALUE=URI;X-ADDRESS=Ponderosa Social Club 515 W Aspen Bozeman MT 59715 United States;X-APPLE-RADIUS=500;X-TITLE=515 W Aspen:geo:-111.0446275,45.687753
END:VEVENT
BEGIN:VEVENT
DTSTART;TZID=America/Denver:20251108T183000
DTEND;TZID=America/Denver:20251108T183000
DTSTAMP:20260423T113045
CREATED:20251025T025440Z
LAST-MODIFIED:20251025T025440Z
UID:300338-1762626600-1762626600@bozone.com
SUMMARY:Little Women: A Play.
DESCRIPTION:Bozeman Actors Theatre proudly presents Little Women\, a captivating stage adaptation by Heather Chrisler based on Louisa May Alcott’s beloved novel. Join us for an unforgettable journey through love\, loss\, and sisterhood from November 6–16\, 2025\, at the Yellowstone Theological Institute Barn\, located at 83 Rowland Rd\, Bozeman\, MT.\nThis all-ages production brings the March sisters to life with fresh energy and heartfelt emotion\, celebrating the enduring power of family and dreams. Whether you’re a longtime fan or discovering the story for the first time\, this is a theatrical experience you won’t want to miss.\n Spread the word\, bring your friends\, and support local theatre!\nFor tickets and more information\, visit the BozemanActorsTheatre.com website.\nLet’s fill the seats and hearts this November. See you at the show!
URL:https://bozone.com/event/little-women-a-play-2/
LOCATION:Yellowstone Theological Institute\, 83 Rowland Rd\, Bozeman\, MT\, 59715\, United States
CATEGORIES:Arts & Theatre
GEO:45.6586728;-111.0553279
X-APPLE-STRUCTURED-LOCATION;VALUE=URI;X-ADDRESS=Yellowstone Theological Institute 83 Rowland Rd Bozeman MT 59715 United States;X-APPLE-RADIUS=500;X-TITLE=83 Rowland Rd:geo:-111.0553279,45.6586728
END:VEVENT
BEGIN:VEVENT
DTSTART;TZID=America/Denver:20251108T190000
DTEND;TZID=America/Denver:20251108T190000
DTSTAMP:20260423T113045
CREATED:20251027T152336Z
LAST-MODIFIED:20251027T152747Z
UID:300791-1762628400-1762628400@bozone.com
SUMMARY:The Princess Bride
DESCRIPTION:The Hawks Theatre Co. Presents The Princess Bride\nBozeman High School Auditorium\nNovember 1\, 2025 @ 7:00pm – 9:00pm\nThe Hawks Theatre Co. Presents The Princess Bride! Come see this fantastic play full of adventure\, humour\, and romance. Modeled directly off the award-winning movie\, this play will transport you to the Kingdom of Flourin with the amazing sets and costumes. Support local youth theatre and your Hawks! Shows are at the Bozeman High School auditorium. Tickets are $10 for students and $15 for general admission
URL:https://bozone.com/event/the-princess-bride-5/
LOCATION:Bozeman High School – BHS\, 205 N 11th\, Bozeman\, MT\, 59715\, United States
CATEGORIES:Arts & Theatre
GEO:45.6826669;-111.0520329
X-APPLE-STRUCTURED-LOCATION;VALUE=URI;X-ADDRESS=Bozeman High School – BHS 205 N 11th Bozeman MT 59715 United States;X-APPLE-RADIUS=500;X-TITLE=205 N 11th:geo:-111.0520329,45.6826669
END:VEVENT
BEGIN:VEVENT
DTSTART;TZID=America/Denver:20251108T193000
DTEND;TZID=America/Denver:20251108T193000
DTSTAMP:20260423T113045
CREATED:20250409T192521Z
LAST-MODIFIED:20250409T192521Z
UID:287256-1762630200-1762630200@bozone.com
SUMMARY:The Hunchback of Notre Dame
DESCRIPTION:Saturday\, November 8\, 2025\n7:30 PM  10:00 PM\n\n\n\n\n\n\n\n\nDeformed bell-ringer Quasimodo is held captive by the cruel archdeacon Dom Claude Frollo. After he escapes for the day to experience the Festival of Fools\, he meets the beautiful Romani woman\, Esmeralda. When Frollo embarks on a mission to destroy the Roma\, it’s up to Quasimodo to save them all. \n\n\n\n\n\n\nSponsored by Foodworks and Chico Hot Springs Resort.
URL:https://bozone.com/event/the-hunchback-of-notre-dame-12/
LOCATION:Shane Lalani Center for the Arts – Livingston\, 415 E. Lewis St.\, Livingston\, MT\, 59047\, United States
CATEGORIES:Arts & Theatre
GEO:45.6628503;-110.5552274
X-APPLE-STRUCTURED-LOCATION;VALUE=URI;X-ADDRESS=Shane Lalani Center for the Arts – Livingston 415 E. Lewis St. Livingston MT 59047 United States;X-APPLE-RADIUS=500;X-TITLE=415 E. Lewis St.:geo:-110.5552274,45.6628503
END:VEVENT
END:VCALENDAR