BEGIN:VCALENDAR
VERSION:2.0
PRODID:-//The BoZone - ECPv5.12.0//NONSGML v1.0//EN
CALSCALE:GREGORIAN
METHOD:PUBLISH
X-WR-CALNAME:The BoZone
X-ORIGINAL-URL:https://bozone.com
X-WR-CALDESC:Events for The BoZone
BEGIN:VTIMEZONE
TZID:America/Denver
BEGIN:DAYLIGHT
TZOFFSETFROM:-0700
TZOFFSETTO:-0600
TZNAME:MDT
DTSTART:20250309T090000
END:DAYLIGHT
BEGIN:STANDARD
TZOFFSETFROM:-0600
TZOFFSETTO:-0700
TZNAME:MST
DTSTART:20251102T080000
END:STANDARD
END:VTIMEZONE
BEGIN:VEVENT
DTSTART;TZID=America/Denver:20251101T140000
DTEND;TZID=America/Denver:20251101T170000
DTSTAMP:20260423T001051
CREATED:20250930T221227Z
LAST-MODIFIED:20250930T221227Z
UID:299631-1762005600-1762016400@bozone.com
SUMMARY:Hawks Theatre Co. Presents The Princess Bride
DESCRIPTION:The Hawks Theatre Co. Presents The Princess Bride! Come see this fantastic play full of adventure\, humour\, and romance. Modeled directly off the award-winning movie\, this play will transport you to the Kingdom of Flourin with the amazing sets and costumes. Support local youth theatre and your Hawks! Our show dates are November 1st at 2 pm and 7 pm\, November 2nd at 2 pm\, November 7th at 7 pm\, November 8th at 7 pm\, and November 9th at 2 pm. Shows are at the Bozeman High School auditorium. Tickets are $10 for students and $15 for general admission. Buy tickets at the door or online at this link: https://bsd7.revtrak.net/drama/#/list
URL:https://bozone.com/event/hawks-theatre-co-presents-the-princess-bride/
LOCATION:Bozeman High School – BHS\, 205 N 11th\, Bozeman\, MT\, 59715\, United States
CATEGORIES:Arts & Theatre
GEO:45.6826669;-111.0520329
X-APPLE-STRUCTURED-LOCATION;VALUE=URI;X-ADDRESS=Bozeman High School – BHS 205 N 11th Bozeman MT 59715 United States;X-APPLE-RADIUS=500;X-TITLE=205 N 11th:geo:-111.0520329,45.6826669
END:VEVENT
BEGIN:VEVENT
DTSTART;TZID=America/Denver:20251101T180000
DTEND;TZID=America/Denver:20251101T180000
DTSTAMP:20260423T001051
CREATED:20250928T183117Z
LAST-MODIFIED:20250928T183117Z
UID:298629-1762020000-1762020000@bozone.com
SUMMARY:Elise Event
DESCRIPTION:Elise Event\nMSU Black Box Theater \n\nSaturday\, November 1\, 2025 at 6:00pmThe Elise Event is a chance for friends of Montana Shakespeare in the Parks to gather and raise support for MSIP’s Shakespeare in the Schools program. Join us for a performance of this year’s Shakespeare in the Schools’ production of Richard III. The performance will be followed by a lively Q&A and mingling with the cast\, MSIP Artistic Director & Staff\, dinner\, and a partially-hosted bar. The Elise Event will take place Saturday\, November 1st at 6:00 PM at the Black Box Theater on MSU’s campus.  \nLearn more about the Elise Event.\n\nTicket Information\nArtistic Director’s Circle members may reserve their premium tickets beginning September 15th by contacting MSIP Associate Artistic Director\, Riley O’Toole at riley.otoole@montana.edu or 406-994-3906. Learn more about becoming an ADC member here! \nTickets go on sale to the public October 1st. \nAll ticket sales directly benefit the Shakespeare in the Schools program. \nDon’t miss this rare opportunity to see Richard III in the intimacy of our Black Box Theater. \nCatch a special performance of the 2025 Shakespeare in the Schools production and explore the world of the play through a vibrant Q&A with the cast and director\, Riley O’Toole. Enjoy live music\, mingle with the cast and creative team\, and savor delicious hors d’oeuvres and desserts\, with wine catered by Plonk.
URL:https://bozone.com/event/elise-event/
LOCATION:Black Box Theater – MSU\, Montana State University\, Bozeman\, MT\, 59715\, United States
CATEGORIES:Arts & Theatre
GEO:45.6698941;-111.0589906
X-APPLE-STRUCTURED-LOCATION;VALUE=URI;X-ADDRESS=Black Box Theater – MSU Montana State University Bozeman MT 59715 United States;X-APPLE-RADIUS=500;X-TITLE=Montana State University:geo:-111.0589906,45.6698941
END:VEVENT
BEGIN:VEVENT
DTSTART;TZID=America/Denver:20251101T180000
DTEND;TZID=America/Denver:20251101T180000
DTSTAMP:20260423T001052
CREATED:20251008T032446Z
LAST-MODIFIED:20251008T032720Z
UID:299760-1762020000-1762020000@bozone.com
SUMMARY:The Elise Event: Benefiting Shakespeare in the Schools
DESCRIPTION:The Elise Event is a chance for friends of Montana Shakespeare in the Parks to gather and raise support for MSIP’s Shakespeare in the Schools program.\nJoin us for a performance of this year’s Shakespeare in the Schools’ production of Richard III. The performance will be followed by a lively Q&A and mingling with the cast\, MSIP Artistic Director & Staff\, catered wine\, heavy hors d’oeuvres\, and desserts. \nThe Elise Event will take place Saturday\, November 1st at 6:00 PM at the Black Box Theater on MSU’s campus. \nArtistic Director’s Circle members may reserve their premium tickets by contacting MSIP Associate Artistic Director\, Riley O’Toole at riley.otoole@montana.edu \nTickets are on sale at:https://secure.lglforms.com/form_engine/s/7h1Q0ln_51n0_8nRKIKOpA \nAll ticket sales directly benefit the Shakespeare in the Schools program. \nMore information about MSIP can be found on our website: https://shakespeareintheparks.org/ or call 406-994-3310.
URL:https://bozone.com/event/the-elise-event-benefiting-shakespeare-in-the-schools/
LOCATION:Black Box Theater – MSU\, Montana State University\, Bozeman\, MT\, 59715\, United States
CATEGORIES:Arts & Theatre
GEO:45.6698941;-111.0589906
X-APPLE-STRUCTURED-LOCATION;VALUE=URI;X-ADDRESS=Black Box Theater – MSU Montana State University Bozeman MT 59715 United States;X-APPLE-RADIUS=500;X-TITLE=Montana State University:geo:-111.0589906,45.6698941
END:VEVENT
BEGIN:VEVENT
DTSTART;TZID=America/Denver:20251101T190000
DTEND;TZID=America/Denver:20251101T190000
DTSTAMP:20260423T001052
CREATED:20251027T152203Z
LAST-MODIFIED:20251027T152722Z
UID:300788-1762023600-1762023600@bozone.com
SUMMARY:The Princess Bride
DESCRIPTION:The Hawks Theatre Co. Presents The Princess Bride\nBozeman High School Auditorium\nNovember 1\, 2025 @ 7:00pm – 9:00pm\nThe Hawks Theatre Co. Presents The Princess Bride! Come see this fantastic play full of adventure\, humour\, and romance. Modeled directly off the award-winning movie\, this play will transport you to the Kingdom of Flourin with the amazing sets and costumes. Support local youth theatre and your Hawks! Shows are at the Bozeman High School auditorium. Tickets are $10 for students and $15 for general admission
URL:https://bozone.com/event/the-princess-bride-2/
LOCATION:Bozeman High School – BHS\, 205 N 11th\, Bozeman\, MT\, 59715\, United States
CATEGORIES:Arts & Theatre
GEO:45.6826669;-111.0520329
X-APPLE-STRUCTURED-LOCATION;VALUE=URI;X-ADDRESS=Bozeman High School – BHS 205 N 11th Bozeman MT 59715 United States;X-APPLE-RADIUS=500;X-TITLE=205 N 11th:geo:-111.0520329,45.6826669
END:VEVENT
BEGIN:VEVENT
DTSTART;TZID=America/Denver:20251101T193000
DTEND;TZID=America/Denver:20251101T193000
DTSTAMP:20260423T001052
CREATED:20250409T192212Z
LAST-MODIFIED:20250409T192212Z
UID:287252-1762025400-1762025400@bozone.com
SUMMARY:The Hunchback of Notre Dame
DESCRIPTION:The Hunchback of Notre Dame\n\nSaturday\, November 1\, 2025\n7:30 PM  10:00 PM\n\n\n\n\n\n\n\n\nDeformed bell-ringer Quasimodo is held captive by the cruel archdeacon Dom Claude Frollo. After he escapes for the day to experience the Festival of Fools\, he meets the beautiful Romani woman\, Esmeralda. When Frollo embarks on a mission to destroy the Roma\, it’s up to Quasimodo to save them all. \n\n\n\n\n\n\nSponsored by Foodworks and Chico Hot Springs Resort.
URL:https://bozone.com/event/the-hunchback-of-notre-dame-8/
LOCATION:Shane Lalani Center for the Arts – Livingston\, 415 E. Lewis St.\, Livingston\, MT\, 59047\, United States
CATEGORIES:Arts & Theatre
GEO:45.6628503;-110.5552274
X-APPLE-STRUCTURED-LOCATION;VALUE=URI;X-ADDRESS=Shane Lalani Center for the Arts – Livingston 415 E. Lewis St. Livingston MT 59047 United States;X-APPLE-RADIUS=500;X-TITLE=415 E. Lewis St.:geo:-110.5552274,45.6628503
END:VEVENT
END:VCALENDAR