BEGIN:VCALENDAR
VERSION:2.0
PRODID:-//The BoZone - ECPv5.12.0//NONSGML v1.0//EN
CALSCALE:GREGORIAN
METHOD:PUBLISH
X-WR-CALNAME:The BoZone
X-ORIGINAL-URL:https://bozone.com
X-WR-CALDESC:Events for The BoZone
BEGIN:VTIMEZONE
TZID:America/Denver
BEGIN:DAYLIGHT
TZOFFSETFROM:-0700
TZOFFSETTO:-0600
TZNAME:MDT
DTSTART:20240310T090000
END:DAYLIGHT
BEGIN:STANDARD
TZOFFSETFROM:-0600
TZOFFSETTO:-0700
TZNAME:MST
DTSTART:20241103T080000
END:STANDARD
END:VTIMEZONE
BEGIN:VEVENT
DTSTART;TZID=America/Denver:20241209T180000
DTEND;TZID=America/Denver:20241209T200000
DTSTAMP:20260420T063148
CREATED:20241014T164344Z
LAST-MODIFIED:20241014T164344Z
UID:271848-1733767200-1733774400@bozone.com
SUMMARY:Holiday Wreath Workshop
DESCRIPTION:Join me for a holiday wreath workshop — create a custom wreath to brighten your front door.\nLocation: Gallatin Gateway Community Center \n145 Mill Street\, Gallatin Gateway\, MT \nWe are offering the following workshop times: \n– Sunday\, November 24th\, 2024\, 10:00 am – 12:00 pm \n– Saturday\, November 30th\, 10:00 am – 12:00 pm \n– Monday\, December 9th\, 6:00 pm – 8:00 pm \nIn this workshop\, you will create your own custom evergreen wreath to display this holiday season. We will provide all the materials you need to leave with a beautifully decorated wreath that can hang on your door and bring some light to the darkest time of year. Accouterments will include dried fruit\, pinecones\, dried flowers\, ribbon\, and other fun and fancy additions to make your custom wreath sparkle. We may be biased\, but this may just be the perfect way to get in the holiday spirit! \nThe workshop fee includes all materials. Feel free to bring extra items you might want to add to your wreath. Morning workshops will include coffee/tea and pastries. Evening workshops will include wine (for those 21+) and charcuterie. \nIf you would like to book a private workshop\, please email info@goodnaturedflowerfarm.com for more information. A minimum of 5 people is required.
URL:https://bozone.com/event/holiday-wreath-workshop-2024-12-09/
LOCATION:Gallatin Gateway Community Center\, 145 Mill St.\, Gallatin Gateway\, United States
CATEGORIES:Arts & Theatre,Classes,Miscellanea
GEO:45.591374;-111.2002376
X-APPLE-STRUCTURED-LOCATION;VALUE=URI;X-ADDRESS=Gallatin Gateway Community Center 145 Mill St. Gallatin Gateway United States;X-APPLE-RADIUS=500;X-TITLE=145 Mill St.:geo:-111.2002376,45.591374
END:VEVENT
END:VCALENDAR