BEGIN:VCALENDAR
VERSION:2.0
PRODID:-//The BoZone - ECPv5.12.0//NONSGML v1.0//EN
CALSCALE:GREGORIAN
METHOD:PUBLISH
X-WR-CALNAME:The BoZone
X-ORIGINAL-URL:https://bozone.com
X-WR-CALDESC:Events for The BoZone
BEGIN:VTIMEZONE
TZID:America/Denver
BEGIN:DAYLIGHT
TZOFFSETFROM:-0700
TZOFFSETTO:-0600
TZNAME:MDT
DTSTART:20240310T090000
END:DAYLIGHT
BEGIN:STANDARD
TZOFFSETFROM:-0600
TZOFFSETTO:-0700
TZNAME:MST
DTSTART:20241103T080000
END:STANDARD
END:VTIMEZONE
BEGIN:VEVENT
DTSTART;TZID=America/Denver:20241207T200000
DTEND;TZID=America/Denver:20241207T200000
DTSTAMP:20260420T094400
CREATED:20240926T225123Z
LAST-MODIFIED:20240926T225123Z
UID:270666-1733601600-1733601600@bozone.com
SUMMARY:Jacob Marley’s Christmas Carol
DESCRIPTION:Jacob Marley was Scrooge’s business partner in life\, and the closest thing he had to a friend. In death\, he returns to issue Scrooge a warning\, serving as a manifestation of the consequences of greed. He has earned his punishment due to the sins he committed in life and explains that Scrooge can expect the same\, unless he changes his ways. \nMarley’s presence kickstarts a series of events that leads to Scrooge’s transformation\, and it also instills into the story a sense of urgency right from the beginning as Marley explains the depth of his suffering. He is weighed down by the chain of his sins; the links are forged of cashboxes\, padlocks\, ledgers\, and steel purses\, things the greedy businessman valued most highly when he was alive and which now constitute a fitting sort of eternal comeuppance. Marley informs Scrooge that he too has fashioned himself a chain\, though his is invisible\, and consists of an additional seven years’ worth of greed. Part of Marley’s punishment has been to watch Scrooge make the same mistakes he did\, unable to warn him\, and although Marley is granted no means of escaping his own fate\, he capitalizes on the opportunity to warn his only friend.
URL:https://bozone.com/event/jacob-marleys-christmas-carol-2024-12-07/
LOCATION:Blue Slipper Theatre – Livingston\, 113 East Callender Street\, Livingston\, MT\, 59047\, United States
CATEGORIES:Arts & Theatre
GEO:45.6615548;-110.559691
X-APPLE-STRUCTURED-LOCATION;VALUE=URI;X-ADDRESS=Blue Slipper Theatre – Livingston 113 East Callender Street Livingston MT 59047 United States;X-APPLE-RADIUS=500;X-TITLE=113 East Callender Street:geo:-110.559691,45.6615548
END:VEVENT
END:VCALENDAR