BEGIN:VCALENDAR
VERSION:2.0
PRODID:-//The BoZone - ECPv5.12.0//NONSGML v1.0//EN
CALSCALE:GREGORIAN
METHOD:PUBLISH
X-WR-CALNAME:The BoZone
X-ORIGINAL-URL:https://bozone.com
X-WR-CALDESC:Events for The BoZone
BEGIN:VTIMEZONE
TZID:America/Denver
BEGIN:DAYLIGHT
TZOFFSETFROM:-0700
TZOFFSETTO:-0600
TZNAME:MDT
DTSTART:20240310T090000
END:DAYLIGHT
BEGIN:STANDARD
TZOFFSETFROM:-0600
TZOFFSETTO:-0700
TZNAME:MST
DTSTART:20241103T080000
END:STANDARD
END:VTIMEZONE
BEGIN:VEVENT
DTSTART;TZID=America/Denver:20240825T140000
DTEND;TZID=America/Denver:20240825T140000
DTSTAMP:20260422T142304
CREATED:20240720T203844Z
LAST-MODIFIED:20240720T203844Z
UID:266756-1724594400-1724594400@bozone.com
SUMMARY:Every Brilliant Thing by Duncan Macmillan
DESCRIPTION:Award-winning play Every Brilliant Thing will run at MSU Strand Union Ballroom August 16\,17 and again August 23\,24\,25. There will be a special talk back with Suffer Out Loud director Cassie Jackson after the matinee on the 25th. Every Brilliant Thing is the story of a boy’s handwritten list to cheer up his despondent mom. This surprising comedy is a touching ode to humanity that reminds us to pay attention to life’s smallest joys.\nFor more info go to www.hughburroughs.com or call 406.595.3298\nCome to the MSU Strand Union South Entrance. Your receipt will serve as your ticket.
URL:https://bozone.com/event/every-brilliant-thing-by-duncan-macmillan-2024-08-25/
LOCATION:MSU – SUB\, 751 W Grant St.\, Bozeman\, MT\, 59715\, United States
CATEGORIES:Arts & Theatre
GEO:45.6667557;-111.04981
X-APPLE-STRUCTURED-LOCATION;VALUE=URI;X-ADDRESS=MSU – SUB 751 W Grant St. Bozeman MT 59715 United States;X-APPLE-RADIUS=500;X-TITLE=751 W Grant St.:geo:-111.04981,45.6667557
END:VEVENT
BEGIN:VEVENT
DTSTART;TZID=America/Denver:20240825T150000
DTEND;TZID=America/Denver:20240825T170000
DTSTAMP:20260422T142304
CREATED:20240428T025538Z
LAST-MODIFIED:20240727T204711Z
UID:260862-1724598000-1724605200@bozone.com
SUMMARY:ONCE (THE MUSICAL)
DESCRIPTION:ONCE (THE MUSICAL)\n\n\n\n\n\nBy Enda Walsh \nDirected by Stephanie Burda \nAugust 23-25 and August 29-September 1 \nTickets available for season ticket holders on July 5. Tickets for the general public available on July 12. To reserve your seats\, click the button below. If you purchase tickets using your cellphone\, you will need to use the best seat available option\, which is not necessarily the best seat! It is better to use your laptop or pad which will give you the option to choose your own seat. You can also reserve tickets by calling the Blue Slipper at 406-222-7720. \nSELECT SEATS NOW \nSell tickets online with Ticketleap
URL:https://bozone.com/event/once-the-musical-2024-08-25/
LOCATION:Blue Slipper Theatre – Livingston\, 113 East Callender Street\, Livingston\, MT\, 59047\, United States
CATEGORIES:Arts & Theatre
GEO:45.6615548;-110.559691
X-APPLE-STRUCTURED-LOCATION;VALUE=URI;X-ADDRESS=Blue Slipper Theatre – Livingston 113 East Callender Street Livingston MT 59047 United States;X-APPLE-RADIUS=500;X-TITLE=113 East Callender Street:geo:-110.559691,45.6615548
END:VEVENT
BEGIN:VEVENT
DTSTART;TZID=America/Denver:20240825T160000
DTEND;TZID=America/Denver:20240825T160000
DTSTAMP:20260422T142304
CREATED:20240629T134616Z
LAST-MODIFIED:20240629T134616Z
UID:265784-1724601600-1724601600@bozone.com
SUMMARY:Six Viewpoints Workshop
DESCRIPTION:Led by Isabel Shaida\, the Six Viewpoints Workshops at Tinworks Art are free\, public programs inspired by Montana-based artist Mary Overlie (1946-2020) and her creation of Six Viewpoints for understanding body and relationship to space. Six Viewpoints is a technique of improvisation and observation between the participant and the outside world that deconstructs performance into six studies: space\, shape\, time\, emotion\, movement and story. The participant becomes the artist. Dates are July 14th\, 21st and 28th and August 4th\, 18th and 25th.
URL:https://bozone.com/event/six-viewpoints-workshop-2024-08-25/
LOCATION:Tinworks Art\, 719 N. Ida Ave\, Bozeman\, MT\, 59715\, United States
CATEGORIES:Arts & Theatre,Miscellanea
GEO:45.6873502;-111.0277418
X-APPLE-STRUCTURED-LOCATION;VALUE=URI;X-ADDRESS=Tinworks Art 719 N. Ida Ave Bozeman MT 59715 United States;X-APPLE-RADIUS=500;X-TITLE=719 N. Ida Ave:geo:-111.0277418,45.6873502
END:VEVENT
END:VCALENDAR