BEGIN:VCALENDAR
VERSION:2.0
PRODID:-//The BoZone - ECPv5.12.0//NONSGML v1.0//EN
CALSCALE:GREGORIAN
METHOD:PUBLISH
X-WR-CALNAME:The BoZone
X-ORIGINAL-URL:https://bozone.com
X-WR-CALDESC:Events for The BoZone
BEGIN:VTIMEZONE
TZID:America/Denver
BEGIN:DAYLIGHT
TZOFFSETFROM:-0700
TZOFFSETTO:-0600
TZNAME:MDT
DTSTART:20240310T090000
END:DAYLIGHT
BEGIN:STANDARD
TZOFFSETFROM:-0600
TZOFFSETTO:-0700
TZNAME:MST
DTSTART:20241103T080000
END:STANDARD
END:VTIMEZONE
BEGIN:VEVENT
DTSTART;TZID=America/Denver:20240621T200000
DTEND;TZID=America/Denver:20240621T200000
DTSTAMP:20260421T201450
CREATED:20240425T001924Z
LAST-MODIFIED:20240425T001924Z
UID:260161-1719000000-1719000000@bozone.com
SUMMARY:MT Shakespeare 'Winter's Tale'
DESCRIPTION:
URL:https://bozone.com/event/mt-shakespeare-winters-tale-2024-06-21/
LOCATION:MSU Duck Pond\, Montana State University\, Bozeman\, MT\, 59715\, United States
CATEGORIES:Arts & Theatre
GEO:45.6667557;-111.04981
X-APPLE-STRUCTURED-LOCATION;VALUE=URI;X-ADDRESS=MSU Duck Pond Montana State University Bozeman MT 59715 United States;X-APPLE-RADIUS=500;X-TITLE=Montana State University:geo:-111.04981,45.6667557
END:VEVENT
END:VCALENDAR