BEGIN:VCALENDAR
VERSION:2.0
PRODID:-//The BoZone - ECPv5.12.0//NONSGML v1.0//EN
CALSCALE:GREGORIAN
METHOD:PUBLISH
X-WR-CALNAME:The BoZone
X-ORIGINAL-URL:https://bozone.com
X-WR-CALDESC:Events for The BoZone
BEGIN:VTIMEZONE
TZID:America/Denver
BEGIN:DAYLIGHT
TZOFFSETFROM:-0700
TZOFFSETTO:-0600
TZNAME:MDT
DTSTART:20240310T090000
END:DAYLIGHT
BEGIN:STANDARD
TZOFFSETFROM:-0600
TZOFFSETTO:-0700
TZNAME:MST
DTSTART:20241103T080000
END:STANDARD
END:VTIMEZONE
BEGIN:VEVENT
DTSTART;TZID=America/Denver:20240425T190000
DTEND;TZID=America/Denver:20240425T190000
DTSTAMP:20260420T005400
CREATED:20240322T221944Z
LAST-MODIFIED:20240322T221944Z
UID:257496-1714071600-1714071600@bozone.com
SUMMARY:Second Annual Duo Dash Tournament
DESCRIPTION:The second annual Duo Dash Tournament will take place over 4 weeks on Thursdays nights at Last Best Comedy in the comedic heart of the Rockies\, Bozeman\, MT.\nWhat is the Duo Dash Tournament? Two-person improv teams submit to compete. Each team will create a unique and distinct form or show and the audience will decide who survives and who is cast aside. On the 4th Thursday of the tournament\, the “round of champions” as it is known far and wide\, the top two teams from each of the preliminary rounds will face off to determine which duo is the 2024 Duo Dash Champion and walk among legends for all eternity! Help us choose the winner! \nTickets are just $15 for the night. $5 for MSU Students. \n18+ / No Drink Minimum
URL:https://bozone.com/event/second-annual-duo-dash-tournament-2024-04-25/
LOCATION:Last Best Comedy\, 321 E Main\, Alley Entrance\, Bozeman\, MT\, 59715\, United States
CATEGORIES:Arts & Theatre
GEO:45.6795226;-111.0321996
X-APPLE-STRUCTURED-LOCATION;VALUE=URI;X-ADDRESS=Last Best Comedy 321 E Main Alley Entrance Bozeman MT 59715 United States;X-APPLE-RADIUS=500;X-TITLE=321 E Main\, Alley Entrance:geo:-111.0321996,45.6795226
END:VEVENT
END:VCALENDAR