BEGIN:VCALENDAR
VERSION:2.0
PRODID:-//The BoZone - ECPv5.12.0//NONSGML v1.0//EN
CALSCALE:GREGORIAN
METHOD:PUBLISH
X-WR-CALNAME:The BoZone
X-ORIGINAL-URL:https://bozone.com
X-WR-CALDESC:Events for The BoZone
BEGIN:VTIMEZONE
TZID:America/Denver
BEGIN:DAYLIGHT
TZOFFSETFROM:-0700
TZOFFSETTO:-0600
TZNAME:MDT
DTSTART:20240310T090000
END:DAYLIGHT
BEGIN:STANDARD
TZOFFSETFROM:-0600
TZOFFSETTO:-0700
TZNAME:MST
DTSTART:20241103T080000
END:STANDARD
END:VTIMEZONE
BEGIN:VEVENT
DTSTART;TZID=America/Denver:20240419T173000
DTEND;TZID=America/Denver:20240419T173000
DTSTAMP:20260422T180539
CREATED:20240322T224107Z
LAST-MODIFIED:20240322T224107Z
UID:257504-1713547800-1713547800@bozone.com
SUMMARY:Happy Hour Open Mic
DESCRIPTION:Join us for Happy Hour Open Mic with host Jon Jacobs! With $4 Beer\, Wine\, Wells and sets\, this is the perfect end of the week activity. Grab your office mates and come try your hand at some comedy. Sign-ups start at 5.\nNO TICKETS NEEDED for this event. \nWith a special featured guest every week! \n18+ / No Drink Minimum
URL:https://bozone.com/event/happy-hour-open-mic-2024-04-19/
LOCATION:Last Best Comedy\, 321 E Main\, Alley Entrance\, Bozeman\, MT\, 59715\, United States
CATEGORIES:Arts & Theatre
GEO:45.6795226;-111.0321996
X-APPLE-STRUCTURED-LOCATION;VALUE=URI;X-ADDRESS=Last Best Comedy 321 E Main Alley Entrance Bozeman MT 59715 United States;X-APPLE-RADIUS=500;X-TITLE=321 E Main\, Alley Entrance:geo:-111.0321996,45.6795226
END:VEVENT
END:VCALENDAR