BEGIN:VCALENDAR
VERSION:2.0
PRODID:-//The BoZone - ECPv5.12.0//NONSGML v1.0//EN
CALSCALE:GREGORIAN
METHOD:PUBLISH
X-WR-CALNAME:The BoZone
X-ORIGINAL-URL:https://bozone.com
X-WR-CALDESC:Events for The BoZone
BEGIN:VTIMEZONE
TZID:America/Denver
BEGIN:DAYLIGHT
TZOFFSETFROM:-0700
TZOFFSETTO:-0600
TZNAME:MDT
DTSTART:20260308T090000
END:DAYLIGHT
BEGIN:STANDARD
TZOFFSETFROM:-0600
TZOFFSETTO:-0700
TZNAME:MST
DTSTART:20261101T080000
END:STANDARD
END:VTIMEZONE
BEGIN:VEVENT
DTSTART;TZID=America/Denver:20260904T180000
DTEND;TZID=America/Denver:20260904T180000
DTSTAMP:20260425T210959
CREATED:20260423T173455Z
LAST-MODIFIED:20260423T173644Z
UID:316481-1788544800-1788544800@bozone.com
SUMMARY:MSiP: "The Merchant of Venice"
DESCRIPTION:Blake Pavilion \nThe full tour schedule can be found on MSIP’s website. \nhttp://www.montana.edu/news/25232
URL:https://bozone.com/event/msip-the-merchant-of-venice-5/
LOCATION:Shane Lalani Center for the Arts – Livingston\, 415 E. Lewis St.\, Livingston\, MT\, 59047\, United States
CATEGORIES:Arts & Theatre
GEO:45.6628503;-110.5552274
X-APPLE-STRUCTURED-LOCATION;VALUE=URI;X-ADDRESS=Shane Lalani Center for the Arts – Livingston 415 E. Lewis St. Livingston MT 59047 United States;X-APPLE-RADIUS=500;X-TITLE=415 E. Lewis St.:geo:-110.5552274,45.6628503
END:VEVENT
BEGIN:VEVENT
DTSTART;TZID=America/Denver:20260904T193000
DTEND;TZID=America/Denver:20260904T193000
DTSTAMP:20260425T210959
CREATED:20260329T001530Z
LAST-MODIFIED:20260329T001530Z
UID:314462-1788550200-1788550200@bozone.com
SUMMARY:Kyle Shobe and the Walk ‘Em Boys
DESCRIPTION:Kyle Shobe and the Walk ‘Em Boys \nSeptember 4th 2026 7:30pm\nCountry Dance/Live Music\nFriday\, September 04 2026Buy Tickets
URL:https://bozone.com/event/kyle-shobe-and-the-walk-em-boys-2/
LOCATION:Music Ranch Montana – LV\, 4664 Old Yellowstone Trl N\, Livingston\, MT\, 59047\, United States
CATEGORIES:Music
GEO:45.526551;-110.61857
X-APPLE-STRUCTURED-LOCATION;VALUE=URI;X-ADDRESS=Music Ranch Montana – LV 4664 Old Yellowstone Trl N Livingston MT 59047 United States;X-APPLE-RADIUS=500;X-TITLE=4664 Old Yellowstone Trl N:geo:-110.61857,45.526551
END:VEVENT
END:VCALENDAR