BEGIN:VCALENDAR
VERSION:2.0
PRODID:-//The BoZone - ECPv5.12.0//NONSGML v1.0//EN
CALSCALE:GREGORIAN
METHOD:PUBLISH
X-WR-CALNAME:The BoZone
X-ORIGINAL-URL:https://bozone.com
X-WR-CALDESC:Events for The BoZone
BEGIN:VTIMEZONE
TZID:America/Denver
BEGIN:DAYLIGHT
TZOFFSETFROM:-0700
TZOFFSETTO:-0600
TZNAME:MDT
DTSTART:20260308T090000
END:DAYLIGHT
BEGIN:STANDARD
TZOFFSETFROM:-0600
TZOFFSETTO:-0700
TZNAME:MST
DTSTART:20261101T080000
END:STANDARD
END:VTIMEZONE
BEGIN:VEVENT
DTSTART;TZID=America/Denver:20260829T110000
DTEND;TZID=America/Denver:20260829T220000
DTSTAMP:20260425T120819
CREATED:20260219T182951Z
LAST-MODIFIED:20260219T183055Z
UID:311098-1788001200-1788040800@bozone.com
SUMMARY:Creekside Revival
DESCRIPTION:Creekside Revival – Night 2 of 3\n\nSaturday\, August 29\, 2026\n11:00 AM  10:00 PM\n\n\n\n\n\n\n\n\nThree days of jammin’ by the creek with 15 bands from across the country. Andy Dunnigan (Missoula\, MT)\, Arkansauce (Fayetville\, AR)\, Armchair Boogie (Madison\, WI)\, The Bo Show (Virginia City\, MT)\, The Cullen Brothers Band (Livingston\, MT)\, Front Porch (Eureka Springs\, AR)\, High Country Hustle (Durango\, CO)\, Honeyholler (Bozeman\, MT)\, Jampoke (Bozeman\, MT)\, North Fork Crossing (Bozeman\, MT)\, Pickin’ Pear (Cincinnati\, OH)\, Scott Stewart (Crested Butte\, CO)\, Shawn Swain (Telluride\, CO)\, Sicard Hollow (Nashville\, TN)\, Silas Herman & The Tone Unit (Nederland\, CO)\, Valley Flower (Austin\, TX)\, Wes Urbaniak (Billings\, MT) \nFriday – Andy Dunnigan\, Armchair Boogie\, High Country Hustle\, Pickin’ Pear\, North Fork Crossing\, Scott Stewart\, Valley Flower \nSaturday – Andy Dunnigan\, Arkansauce\, Armchair Boogie\, The Bo Show\, Front Porch\, Honeyholler\, Scott Stewart\, Shawn Swain\, Sicard Hollow\, Silas Herman & The Tone Unit\, Valley Flower\, Wes Urbaniak \nSunday – Arkansauce\, The Cullen Brothers Band\, Front Porch\, High Country Hustle\, Jampoke\, North Fork Crossing\, Scott Stewart\, Sicard Hollow\, Silas Herman & The Tone Unit \n\n\n\n\n\nPurchase Saturday\n\n\n\n\nPurchase Three Night Pass\n\n\n\n\n\nFriday Advance $30 || Saturday Advance $40 || Sunday FREE || Ticket prices increase by $10 the day of the show \nOr purchase a Crash Pad\, Canvas Tent or Tent Spot (Includes two tickets)
URL:https://bozone.com/event/creekside-revival-2/
LOCATION:Pine Creek Lodge – LV\, 2496 East River Road\, Livingston\, United States
CATEGORIES:Music
GEO:45.5076317;-110.5635992
X-APPLE-STRUCTURED-LOCATION;VALUE=URI;X-ADDRESS=Pine Creek Lodge – LV 2496 East River Road Livingston United States;X-APPLE-RADIUS=500;X-TITLE=2496 East River Road:geo:-110.5635992,45.5076317
END:VEVENT
BEGIN:VEVENT
DTSTART;TZID=America/Denver:20260829T180000
DTEND;TZID=America/Denver:20260829T180000
DTSTAMP:20260425T120819
CREATED:20260423T005506Z
LAST-MODIFIED:20260423T005506Z
UID:316435-1788026400-1788026400@bozone.com
SUMMARY:Lettuce – Cook Tour
DESCRIPTION:Lettuce – Cook Tour\n\n\nSat\, Aug 29 – Doors @ 6pm\nAll Ages Welcome.\nTickets $40 \n\nMore Info
URL:https://bozone.com/event/lettuce-cook-tour/
LOCATION:Old Saloon – Emigrant\, 210 Railroad Lane\, Emigrant\, MT\, 59027\, United States
CATEGORIES:Music
GEO:45.369298;-110.734056
X-APPLE-STRUCTURED-LOCATION;VALUE=URI;X-ADDRESS=Old Saloon – Emigrant 210 Railroad Lane Emigrant MT 59027 United States;X-APPLE-RADIUS=500;X-TITLE=210 Railroad Lane:geo:-110.734056,45.369298
END:VEVENT
BEGIN:VEVENT
DTSTART;TZID=America/Denver:20260829T193000
DTEND;TZID=America/Denver:20260829T193000
DTSTAMP:20260425T120819
CREATED:20260329T001428Z
LAST-MODIFIED:20260329T001428Z
UID:314461-1788031800-1788031800@bozone.com
SUMMARY:Jimmy Fortune
DESCRIPTION:Jimmy Fortune \nAugust 29th 2026 7:30pm (with band)\nShows/Concerts/Other Events\nSaturday\, August 29 2026Buy Tickets
URL:https://bozone.com/event/jimmy-fortune/
LOCATION:Music Ranch Montana – LV\, 4664 Old Yellowstone Trl N\, Livingston\, MT\, 59047\, United States
CATEGORIES:Music
GEO:45.526551;-110.61857
X-APPLE-STRUCTURED-LOCATION;VALUE=URI;X-ADDRESS=Music Ranch Montana – LV 4664 Old Yellowstone Trl N Livingston MT 59047 United States;X-APPLE-RADIUS=500;X-TITLE=4664 Old Yellowstone Trl N:geo:-110.61857,45.526551
END:VEVENT
END:VCALENDAR