BEGIN:VCALENDAR
VERSION:2.0
PRODID:-//The BoZone - ECPv5.12.0//NONSGML v1.0//EN
CALSCALE:GREGORIAN
METHOD:PUBLISH
X-WR-CALNAME:The BoZone
X-ORIGINAL-URL:https://bozone.com
X-WR-CALDESC:Events for The BoZone
BEGIN:VTIMEZONE
TZID:America/Denver
BEGIN:DAYLIGHT
TZOFFSETFROM:-0700
TZOFFSETTO:-0600
TZNAME:MDT
DTSTART:20260308T090000
END:DAYLIGHT
BEGIN:STANDARD
TZOFFSETFROM:-0600
TZOFFSETTO:-0700
TZNAME:MST
DTSTART:20261101T080000
END:STANDARD
END:VTIMEZONE
BEGIN:VEVENT
DTSTART;TZID=America/Denver:20260814T153000
DTEND;TZID=America/Denver:20260814T153000
DTSTAMP:20260422T131343
CREATED:20260416T023012Z
LAST-MODIFIED:20260416T023012Z
UID:316002-1786721400-1786721400@bozone.com
SUMMARY:Forget Me Knot Fest
DESCRIPTION:Set against one of the most breathtaking mountain backdrops in the country at the gateway to Yellowstone’s northeast entrance in Cooke City\, Montana\, the Forget Me Knot Music & Art Festival returns for its third year on Friday\, August 14 and Saturday\, August 15. The must-attend summer festival will continue its growth this August – blending live music\, local art and mountain-town charm.\nThis year’s music lineup features an exciting mix of regional talent. \nFriday performances will be headlined by\nZech Peabody (3:30 PM) and\nParker Brown and The Bleeding Hearts (5:30 PM)\nPan Blanco (7:30 PM) \nSaturday’s lineup showcases\nHolland Dotson (1:30 PM)\,\nWes Urbaniak and The Mountain Folk (3:30 PM)\,\nKalyn Beasley (5:30 PM)\, and\nSTiLGONE (7:30 PM). \nMore information about the artists and festival schedule is available at www.forgetmeknotfest.org. \nFull festival passes for both Friday and Saturday are only $80 and go on sale Friday\, April 17 at 9 AM at the festival website (www.forgetmeknotfest.org). Friday day passes ($35) and Saturday day passes ($55) will also be available for purchase on April 17.\nIn addition to live music\, festivalgoers can explore a vibrant selection of art vendors\, food trucks\, and beverage offerings\, creating a full weekend experience for all ages. \nThe mission of the Forget Me Knot Music & Art Festival is to celebrate the best in regional music and art while highlighting the stunning landscape surrounding Cooke City and Silver Gate\, Montana. The event also plays an important role in strengthening community spirit.
URL:https://bozone.com/event/forget-me-knot-fest/
LOCATION:Cooke City\, MT\, Cooke City\, MT\, 59081\, United States
CATEGORIES:Miscellanea,Music
GEO:45.0300341;-109.9196353
END:VEVENT
BEGIN:VEVENT
DTSTART;TZID=America/Denver:20260814T190000
DTEND;TZID=America/Denver:20260814T190000
DTSTAMP:20260422T131343
CREATED:20260328T150658Z
LAST-MODIFIED:20260328T150658Z
UID:314355-1786734000-1786734000@bozone.com
SUMMARY:Stand-Up w/ Daniel Eachus @ 7 & 9
DESCRIPTION:Friday Night Stand-Up w/ Daniel Eachus\n\n\nFri\n\,\nAug\n\n14\n at\n7:00 pm\n\n and\n9:00 pm\n\n\n\nGet Tickets!
URL:https://bozone.com/event/stand-up-w-daniel-eachus-7-9/
LOCATION:Last Best Comedy\, 321 E Main\, Alley Entrance\, Bozeman\, MT\, 59715\, United States
CATEGORIES:Arts & Theatre,Miscellanea
GEO:45.6795226;-111.0321996
X-APPLE-STRUCTURED-LOCATION;VALUE=URI;X-ADDRESS=Last Best Comedy 321 E Main Alley Entrance Bozeman MT 59715 United States;X-APPLE-RADIUS=500;X-TITLE=321 E Main\, Alley Entrance:geo:-111.0321996,45.6795226
END:VEVENT
END:VCALENDAR