BEGIN:VCALENDAR
VERSION:2.0
PRODID:-//The BoZone - ECPv5.12.0//NONSGML v1.0//EN
CALSCALE:GREGORIAN
METHOD:PUBLISH
X-WR-CALNAME:The BoZone
X-ORIGINAL-URL:https://bozone.com
X-WR-CALDESC:Events for The BoZone
BEGIN:VTIMEZONE
TZID:America/Denver
BEGIN:DAYLIGHT
TZOFFSETFROM:-0700
TZOFFSETTO:-0600
TZNAME:MDT
DTSTART:20260308T090000
END:DAYLIGHT
BEGIN:STANDARD
TZOFFSETFROM:-0600
TZOFFSETTO:-0700
TZNAME:MST
DTSTART:20261101T080000
END:STANDARD
END:VTIMEZONE
BEGIN:VEVENT
DTSTART;TZID=America/Denver:20260807T150000
DTEND;TZID=America/Denver:20260807T220000
DTSTAMP:20260421T190456
CREATED:20260412T131526Z
LAST-MODIFIED:20260412T132017Z
UID:315858-1786114800-1786140000@bozone.com
SUMMARY:Sweet Pea Festival 2026
DESCRIPTION:August 7-9\, 2026 | Lindley Park | Bozeman\, MT \nGET YOUR WRISTBAND
URL:https://bozone.com/event/sweet-pea-festival-2026/
LOCATION:Lindley Park\, East Main St.\, Bozeman\, United States
CATEGORIES:Arts & Theatre,Miscellanea,Music
GEO:45.6793327;-111.0222364
X-APPLE-STRUCTURED-LOCATION;VALUE=URI;X-ADDRESS=Lindley Park East Main St. Bozeman United States;X-APPLE-RADIUS=500;X-TITLE=East Main St.:geo:-111.0222364,45.6793327
END:VEVENT
BEGIN:VEVENT
DTSTART;TZID=America/Denver:20260807T160000
DTEND;TZID=America/Denver:20260807T170000
DTSTAMP:20260421T190456
CREATED:20251230T034759Z
LAST-MODIFIED:20251230T034759Z
UID:305139-1786118400-1786122000@bozone.com
SUMMARY:Rappin The Rivers Festival
DESCRIPTION:Fri Aug 7th @4:00pm\n\nRappin The Rivers Festival\nThe Bridge at Three Fork
URL:https://bozone.com/event/rappin-the-rivers-festival/
LOCATION:The Bridge – Three Forks\, 1865 Highway 2\, Three Forks\, MT\, 59752\, United States
CATEGORIES:Music
GEO:45.81859;-111.779592
X-APPLE-STRUCTURED-LOCATION;VALUE=URI;X-ADDRESS=The Bridge – Three Forks 1865 Highway 2 Three Forks MT 59752 United States;X-APPLE-RADIUS=500;X-TITLE=1865 Highway 2:geo:-111.779592,45.81859
END:VEVENT
BEGIN:VEVENT
DTSTART;TZID=America/Denver:20260807T180000
DTEND;TZID=America/Denver:20260807T180000
DTSTAMP:20260421T190456
CREATED:20260114T193544Z
LAST-MODIFIED:20260114T193544Z
UID:305450-1786125600-1786125600@bozone.com
SUMMARY:Grateful Dead Night
DESCRIPTION:
URL:https://bozone.com/event/grateful-dead-night-10/
LOCATION:Red Tractor Pizza\, 1007 W Main St\, Bozeman\, MT\, 59715\, United States
CATEGORIES:Music
GEO:45.6796038;-111.0507294
X-APPLE-STRUCTURED-LOCATION;VALUE=URI;X-ADDRESS=Red Tractor Pizza 1007 W Main St Bozeman MT 59715 United States;X-APPLE-RADIUS=500;X-TITLE=1007 W Main St:geo:-111.0507294,45.6796038
END:VEVENT
BEGIN:VEVENT
DTSTART;TZID=America/Denver:20260807T180000
DTEND;TZID=America/Denver:20260807T180000
DTSTAMP:20260421T190456
CREATED:20260412T122826Z
LAST-MODIFIED:20260412T122826Z
UID:315706-1786125600-1786125600@bozone.com
SUMMARY:Dominick Antonelli
DESCRIPTION:Dominick Antonelli is on his first national tour and will be sharing his second to last show at The Pony Bar in Pony\, MT on Friday August 7th\, 2026 from 6-8pm. Come out for an evening of original music\, stories from the road\, and wonderful drinks and food. We look forward to seeing you!
URL:https://bozone.com/event/dominick-antonelli/
LOCATION:Pony Bar – Pony\, MT\, 108 Broadway St\, Pony\, MT\, 59747\, United States
CATEGORIES:Music
GEO:45.6574277;-111.895949
X-APPLE-STRUCTURED-LOCATION;VALUE=URI;X-ADDRESS=Pony Bar – Pony MT 108 Broadway St Pony MT 59747 United States;X-APPLE-RADIUS=500;X-TITLE=108 Broadway St:geo:-111.895949,45.6574277
END:VEVENT
BEGIN:VEVENT
DTSTART;TZID=America/Denver:20260807T190000
DTEND;TZID=America/Denver:20260807T190000
DTSTAMP:20260421T190456
CREATED:20260420T135508Z
LAST-MODIFIED:20260420T135508Z
UID:316149-1786129200-1786129200@bozone.com
SUMMARY:The Brothers Comatose
DESCRIPTION:The Brothers Comatose\n\nFriday\, August 7\, 2026\n7:00 PM  10:00 PM\n\n\n\n\n\n\n\n\n\nThe Brothers Comatose \n$30 ADVANCE – $40 DAY OF SHOW \n\n\n\n\n\n\nPurchase\n\n\n\n\n\n\nOr purchase a Canvas Tent or Tent Spot (Includes two tickets)
URL:https://bozone.com/event/the-brothers-comatose-3/
LOCATION:Pine Creek Lodge – LV\, 2496 East River Road\, Livingston\, United States
CATEGORIES:Music
GEO:45.5076317;-110.5635992
X-APPLE-STRUCTURED-LOCATION;VALUE=URI;X-ADDRESS=Pine Creek Lodge – LV 2496 East River Road Livingston United States;X-APPLE-RADIUS=500;X-TITLE=2496 East River Road:geo:-110.5635992,45.5076317
END:VEVENT
BEGIN:VEVENT
DTSTART;TZID=America/Denver:20260807T193000
DTEND;TZID=America/Denver:20260807T193000
DTSTAMP:20260421T190456
CREATED:20260329T000837Z
LAST-MODIFIED:20260329T000837Z
UID:314449-1786131000-1786131000@bozone.com
SUMMARY:Dean Miller - Tribute to His Dad\, Roger Miller
DESCRIPTION:Dean Miller – Tribute to His Dad\, Roger Miller \n8-07-26 7:30pm (with band)\nShows/Concerts/Other Events\nFriday\, August 07 2026Buy Tickets
URL:https://bozone.com/event/dean-miller-tribute-to-his-dad-roger-miller/
LOCATION:Music Ranch Montana – LV\, 4664 Old Yellowstone Trl N\, Livingston\, MT\, 59047\, United States
CATEGORIES:Music
GEO:45.526551;-110.61857
X-APPLE-STRUCTURED-LOCATION;VALUE=URI;X-ADDRESS=Music Ranch Montana – LV 4664 Old Yellowstone Trl N Livingston MT 59047 United States;X-APPLE-RADIUS=500;X-TITLE=4664 Old Yellowstone Trl N:geo:-110.61857,45.526551
END:VEVENT
END:VCALENDAR