BEGIN:VCALENDAR
VERSION:2.0
PRODID:-//The BoZone - ECPv5.12.0//NONSGML v1.0//EN
CALSCALE:GREGORIAN
METHOD:PUBLISH
X-WR-CALNAME:The BoZone
X-ORIGINAL-URL:https://bozone.com
X-WR-CALDESC:Events for The BoZone
BEGIN:VTIMEZONE
TZID:America/Denver
BEGIN:DAYLIGHT
TZOFFSETFROM:-0700
TZOFFSETTO:-0600
TZNAME:MDT
DTSTART:20260308T090000
END:DAYLIGHT
BEGIN:STANDARD
TZOFFSETFROM:-0600
TZOFFSETTO:-0700
TZNAME:MST
DTSTART:20261101T080000
END:STANDARD
END:VTIMEZONE
BEGIN:VEVENT
DTSTART;TZID=America/Denver:20260721T193000
DTEND;TZID=America/Denver:20260721T193000
DTSTAMP:20260420T071102
CREATED:20260207T235852Z
LAST-MODIFIED:20260207T235852Z
UID:308104-1784662200-1784662200@bozone.com
SUMMARY:Post Malone with Jelly Roll & Carter Faith
DESCRIPTION:Post Malone will perform live in concert at the Washington-Grizzly Stadium in Missoula\, MT on Tuesday\, July 21\, 2026 with Jelly Roll & Carter Faith.
URL:https://bozone.com/event/post-malone-with-jelly-roll-carter-faith/
LOCATION:Washington-Grizzly Stadium – Missoula\, 32 Campus Dr\, Missoula\, MT\, 59812\, United States
CATEGORIES:Music
GEO:46.8633149;-113.9803321
X-APPLE-STRUCTURED-LOCATION;VALUE=URI;X-ADDRESS=Washington-Grizzly Stadium – Missoula 32 Campus Dr Missoula MT 59812 United States;X-APPLE-RADIUS=500;X-TITLE=32 Campus Dr:geo:-113.9803321,46.8633149
END:VEVENT
END:VCALENDAR