BEGIN:VCALENDAR
VERSION:2.0
PRODID:-//The BoZone - ECPv5.12.0//NONSGML v1.0//EN
CALSCALE:GREGORIAN
METHOD:PUBLISH
X-WR-CALNAME:The BoZone
X-ORIGINAL-URL:https://bozone.com
X-WR-CALDESC:Events for The BoZone
BEGIN:VTIMEZONE
TZID:America/Denver
BEGIN:DAYLIGHT
TZOFFSETFROM:-0700
TZOFFSETTO:-0600
TZNAME:MDT
DTSTART:20260308T090000
END:DAYLIGHT
BEGIN:STANDARD
TZOFFSETFROM:-0600
TZOFFSETTO:-0700
TZNAME:MST
DTSTART:20261101T080000
END:STANDARD
END:VTIMEZONE
BEGIN:VEVENT
DTSTART;TZID=America/Denver:20260720T090000
DTEND;TZID=America/Denver:20260720T090000
DTSTAMP:20260420T085233
CREATED:20251227T033839Z
LAST-MODIFIED:20251227T033839Z
UID:303780-1784538000-1784538000@bozone.com
SUMMARY:International Conference on Diabetes and Endocrinology 2026
DESCRIPTION:Dear Esteemed Colleagues\, Researchers\, and Innovators!It is with great honor and anticipation that we welcome you to the 2nd International Conference on Diabetes and Endocrinology\, to be held in the historic and inspiring city of Paris\, France\, on July 20–21\, 2026.\nTheme: “Global Perspectives on Endocrine Health and Diabetes”\nWe are delighted to cordially invite professionals from around the world to participate in the International Conference on Diabetes and Endocrinology 2026\, hosted by Intelli Meetings. This prestigious event offers a unique platform for Endocrinologists\, healthcare professionals\, academics\, and researchers to connect\, share insights\, and collaborate across global boundaries.\nMore about us: https://diabetesconferences.org/\nRegister: https://diabetesconferences.org/registration
URL:https://bozone.com/event/international-conference-on-diabetes-and-endocrinology-2026/
LOCATION:Virtual Event\, Bozeman\, MT\, 59715\, United States
CATEGORIES:Lectures
GEO:46.8796822;-110.3625658
END:VEVENT
END:VCALENDAR