BEGIN:VCALENDAR
VERSION:2.0
PRODID:-//The BoZone - ECPv5.12.0//NONSGML v1.0//EN
CALSCALE:GREGORIAN
METHOD:PUBLISH
X-WR-CALNAME:The BoZone
X-ORIGINAL-URL:https://bozone.com
X-WR-CALDESC:Events for The BoZone
BEGIN:VTIMEZONE
TZID:America/Denver
BEGIN:DAYLIGHT
TZOFFSETFROM:-0700
TZOFFSETTO:-0600
TZNAME:MDT
DTSTART:20260308T090000
END:DAYLIGHT
BEGIN:STANDARD
TZOFFSETFROM:-0600
TZOFFSETTO:-0700
TZNAME:MST
DTSTART:20261101T080000
END:STANDARD
END:VTIMEZONE
BEGIN:VEVENT
DTSTART;TZID=America/Denver:20260717T163000
DTEND;TZID=America/Denver:20260717T163000
DTSTAMP:20260420T023547
CREATED:20260117T223313Z
LAST-MODIFIED:20260117T223313Z
UID:305571-1784305800-1784305800@bozone.com
SUMMARY:Tape B x Levity
DESCRIPTION:Logjam Presents is pleased to welcome Tape B x Levity for a live concert performance at the KettleHouse Amphitheater on Friday\, July 17\, 2026.
URL:https://bozone.com/event/tape-b-x-levity/
LOCATION:KettleHouse Amphitheater – Bonner\, MT\, 605 Cold Smoke Lane\, Bonner\, MT\, 59823\, United States
CATEGORIES:Music
GEO:46.8752493;-113.8629842
X-APPLE-STRUCTURED-LOCATION;VALUE=URI;X-ADDRESS=KettleHouse Amphitheater – Bonner MT 605 Cold Smoke Lane Bonner MT 59823 United States;X-APPLE-RADIUS=500;X-TITLE=605 Cold Smoke Lane:geo:-113.8629842,46.8752493
END:VEVENT
BEGIN:VEVENT
DTSTART;TZID=America/Denver:20260717T180000
DTEND;TZID=America/Denver:20260717T180000
DTSTAMP:20260420T023547
CREATED:20260220T225354Z
LAST-MODIFIED:20260220T225354Z
UID:311399-1784311200-1784311200@bozone.com
SUMMARY:Charles Wesley Godwin
DESCRIPTION:Charles Wesley Godwin\n\n\nFri\, Jul 17 – Doors @ 6pm\nAll Ages Welcome \n\n\nMore Info
URL:https://bozone.com/event/charles-wesley-godwin-2/
LOCATION:Old Saloon – Emigrant\, 210 Railroad Lane\, Emigrant\, MT\, 59027\, United States
CATEGORIES:Music
GEO:45.369298;-110.734056
X-APPLE-STRUCTURED-LOCATION;VALUE=URI;X-ADDRESS=Old Saloon – Emigrant 210 Railroad Lane Emigrant MT 59027 United States;X-APPLE-RADIUS=500;X-TITLE=210 Railroad Lane:geo:-110.734056,45.369298
END:VEVENT
BEGIN:VEVENT
DTSTART;TZID=America/Denver:20260717T190000
DTEND;TZID=America/Denver:20260717T190000
DTSTAMP:20260420T023548
CREATED:20260131T004117Z
LAST-MODIFIED:20260220T201245Z
UID:307658-1784314800-1784314800@bozone.com
SUMMARY:The Last Revel w/ Western Wallflower
DESCRIPTION:The Last Revel\n\nFriday\, July 17\, 2026\n7:00 PM  10:00 PM\n\n\n\n\n\n\n\n\nTHE LAST REVEL \n\n\n\n\n\nPurchase\n\n\n\n\n\nOr purchase a Crash Pad\, Canvas Tent or Tent Spot (Includes two tickets)
URL:https://bozone.com/event/the-last-revel/
LOCATION:Pine Creek Lodge – LV\, 2496 East River Road\, Livingston\, United States
CATEGORIES:Music
GEO:45.5076317;-110.5635992
X-APPLE-STRUCTURED-LOCATION;VALUE=URI;X-ADDRESS=Pine Creek Lodge – LV 2496 East River Road Livingston United States;X-APPLE-RADIUS=500;X-TITLE=2496 East River Road:geo:-110.5635992,45.5076317
END:VEVENT
BEGIN:VEVENT
DTSTART;TZID=America/Denver:20260717T193000
DTEND;TZID=America/Denver:20260717T193000
DTSTAMP:20260420T023548
CREATED:20260327T213231Z
LAST-MODIFIED:20260327T215207Z
UID:314069-1784316600-1784316600@bozone.com
SUMMARY:Stone Temple Pilots w/ Local H
DESCRIPTION:Stone Temple Pilots w/ Local H\nBig Sky Country State Fair\n\n\nJuly 17\, 2026 7:30 PM \n\nDoors Open: 6:30 PM \nhttps://www.etix.com/ticket/p/39414829
URL:https://bozone.com/event/stone-temple-pilots-w-local-h/
LOCATION:GCF – Gallatin County Fairgrounds – GCF\, 901 N Black\, Bozeman\, United States
CATEGORIES:Music
GEO:45.6885954;-111.0358461
X-APPLE-STRUCTURED-LOCATION;VALUE=URI;X-ADDRESS=GCF – Gallatin County Fairgrounds – GCF 901 N Black Bozeman United States;X-APPLE-RADIUS=500;X-TITLE=901 N Black:geo:-111.0358461,45.6885954
END:VEVENT
END:VCALENDAR