BEGIN:VCALENDAR
VERSION:2.0
PRODID:-//The BoZone - ECPv5.12.0//NONSGML v1.0//EN
CALSCALE:GREGORIAN
METHOD:PUBLISH
X-WR-CALNAME:The BoZone
X-ORIGINAL-URL:https://bozone.com
X-WR-CALDESC:Events for The BoZone
BEGIN:VTIMEZONE
TZID:America/Denver
BEGIN:DAYLIGHT
TZOFFSETFROM:-0700
TZOFFSETTO:-0600
TZNAME:MDT
DTSTART:20260308T090000
END:DAYLIGHT
BEGIN:STANDARD
TZOFFSETFROM:-0600
TZOFFSETTO:-0700
TZNAME:MST
DTSTART:20261101T080000
END:STANDARD
END:VTIMEZONE
BEGIN:VEVENT
DTSTART;VALUE=DATE:20260330
DTEND;VALUE=DATE:20260331
DTSTAMP:20260419T074354
CREATED:20260208T005045Z
LAST-MODIFIED:20260208T005045Z
UID:308172-1774828800-1774915199@bozone.com
SUMMARY:Anne Frank: A History for Today Exhibit
DESCRIPTION:Anne Frank: A History for Today Exhibit \nExplore the life of Anne Frank in this exhibit from the University of South Carolina’s Anne Frank Center. The exhibit follows Anne’s life from her birth through her death in a concentration camp\, to the eventual publication of her diary.\nThe exhibit is available for self-guided walkthrough during all library open hours. Docents will be intermittently present. \nThe exhibit will run March 2-31.\nExhibit Opening Reception: Wednesday\, March 4 at 6 PM in the Community Room. Montana Senator Cora Neumann\, a granddaughter of Holocaust Refugees\, will speak at the opening reception. \nSponsored by the Bozeman Library Friends and Foundation. \n\nMon – Thurs: 10 AM – 8 PM\nFri: 10 AM – 6 PM\nSat: 10 AM – 5 PM\nSun: 1 PM – 5 PM \n\n\nCome Visit\n626 E. Main Street\nBozeman\, Montana 59715\nPH: (406) 582-2400 \n\n\nConnect With Us\nhttps://www.instagram.com/bozemanlibrary\n \nhttps://www.youtube.com/channel/UCjsVpxNUADs7nxZz4fuZlMQ \nhttps://www.facebook.com/BozemanPublicLibrary/ \n\nBozeman Public Library
URL:https://bozone.com/event/anne-frank-a-history-for-today-exhibit-28/
LOCATION:Bozeman Public Library\, 626 East Main Street\, Bozeman\, MT\, 59715\, United States
CATEGORIES:Arts & Theatre,Miscellanea
GEO:45.6785823;-111.0270991
X-APPLE-STRUCTURED-LOCATION;VALUE=URI;X-ADDRESS=Bozeman Public Library 626 East Main Street Bozeman MT 59715 United States;X-APPLE-RADIUS=500;X-TITLE=626 East Main Street:geo:-111.0270991,45.6785823
END:VEVENT
BEGIN:VEVENT
DTSTART;TZID=America/Denver:20260330T111500
DTEND;TZID=America/Denver:20260330T140000
DTSTAMP:20260419T074354
CREATED:20260326T131802Z
LAST-MODIFIED:20260326T132242Z
UID:313458-1774869300-1774879200@bozone.com
SUMMARY:Public Skate
DESCRIPTION:Public Skate\n\n\n\n\nCheck-in at Ticket Booth is required prior to skating. \nAdult: $10\nYouth $7\nAges 5 and under: Free \nAdult 11x Punch Card: $100\nAdult Season Pass: $180\nYouth 11x Punch Card: $70\nYouth Season Pass: $125 \nSkate rental: $5 per pair.\nTicket Booth staff will assist with skate rentals.\n(No Sticks & Pucks)
URL:https://bozone.com/event/public-skate-59/
LOCATION:Bottcher Rink – GCF Fairgrounds\, Gallatin Fairgrounds\, Bozeman\, MT\, United States
CATEGORIES:Miscellanea,Sporting Events
GEO:45.7291612;-111.0686314
X-APPLE-STRUCTURED-LOCATION;VALUE=URI;X-ADDRESS=Bottcher Rink – GCF Fairgrounds Gallatin Fairgrounds Bozeman MT United States;X-APPLE-RADIUS=500;X-TITLE=Gallatin Fairgrounds:geo:-111.0686314,45.7291612
END:VEVENT
BEGIN:VEVENT
DTSTART;TZID=America/Denver:20260330T130000
DTEND;TZID=America/Denver:20260330T140000
DTSTAMP:20260419T074354
CREATED:20260328T022608Z
LAST-MODIFIED:20260328T022608Z
UID:314243-1774875600-1774879200@bozone.com
SUMMARY:Knit for the Resistance
DESCRIPTION:Knit for the Resistance\nDate: March 30\, 2026\nTime: 1:00 pm – 2:00 pm\nVenue: Steep Mountain Teahouse\nLocation: 402 E. Main Street\, BozemanCategory: Community Gathering\nYou know it’s bad when the knitters show up! Join us at Steep Mountain Teahouse every Monday at 1pm to work on Resistance hats or your own knitting project\, have a tasty beverage and enjoy good company. Steep Mountain Teahouse is located at 402 E. Main Street. \nMore Info
URL:https://bozone.com/event/knit-for-the-resistance/
LOCATION:Steep Mountain Teahouse\, 402 E. Main St\, Bozeman\, MT\, 59715\, United States
CATEGORIES:Miscellanea
GEO:45.6790158;-111.0318357
X-APPLE-STRUCTURED-LOCATION;VALUE=URI;X-ADDRESS=Steep Mountain Teahouse 402 E. Main St Bozeman MT 59715 United States;X-APPLE-RADIUS=500;X-TITLE=402 E. Main St:geo:-111.0318357,45.6790158
END:VEVENT
BEGIN:VEVENT
DTSTART;TZID=America/Denver:20260330T143000
DTEND;TZID=America/Denver:20260330T163000
DTSTAMP:20260419T074354
CREATED:20260328T023616Z
LAST-MODIFIED:20260328T023616Z
UID:314244-1774881000-1774888200@bozone.com
SUMMARY:Signature Gathering Training – Transparent Election Initiative
DESCRIPTION:Signature Gathering Training – Transparent Election Initiative\nDate: March 30\, 2026\nTime: 2:30 pm – 4:30 pm\nVenue: OnlineOrganizer: Transparent Election Initiative\nCategory: Ballot Signature Gathering Training\nLet’s get corporate influence OUT OF MONTANA’S ELECTIONS! The Transparent Election Initiative is ready to start collecting signatures! Can you help? If so\, you’ll need to complete training to collect signatures. (It’s important.) You can train on-line on Monday\, March 30th at 2:30pm. Click on “More Info” for the meeting link. \nMore Info
URL:https://bozone.com/event/signature-gathering-training-transparent-election-initiative/
LOCATION:Virtual Event\, Bozeman\, MT\, 59715\, United States
CATEGORIES:Classes,Lectures,Miscellanea
GEO:46.8796822;-110.3625658
END:VEVENT
BEGIN:VEVENT
DTSTART;TZID=America/Denver:20260330T160000
DTEND;TZID=America/Denver:20260330T160000
DTSTAMP:20260419T074355
CREATED:20260228T014408Z
LAST-MODIFIED:20260228T014408Z
UID:312612-1774886400-1774886400@bozone.com
SUMMARY:Pints for Crosscut
DESCRIPTION:Trails and Mountain Biking Night!\nCrosscut Mountain Sports Center is a nonprofit outdoor recreation and education hub located in Bridger Canyon near Bozeman\, Montana. We offer year-round\, human-powered activities including Nordic skiing\, mountain biking\, biathlon\, and outdoor education programs for people of all ages and abilities\, all focused on connecting our community with nature.
URL:https://bozone.com/event/pints-for-crosscut/
LOCATION:MAP Brewing\, 510 Manley Road\, Bozeman\, United States
CATEGORIES:Miscellanea
GEO:45.7033151;-111.0401931
X-APPLE-STRUCTURED-LOCATION;VALUE=URI;X-ADDRESS=MAP Brewing 510 Manley Road Bozeman United States;X-APPLE-RADIUS=500;X-TITLE=510 Manley Road:geo:-111.0401931,45.7033151
END:VEVENT
BEGIN:VEVENT
DTSTART;TZID=America/Denver:20260330T173000
DTEND;TZID=America/Denver:20260330T173000
DTSTAMP:20260419T074355
CREATED:20260325T110907Z
LAST-MODIFIED:20260325T110907Z
UID:313199-1774891800-1774891800@bozone.com
SUMMARY:Dolores: Film Screening
DESCRIPTION:Free film screening of award-winning documentary\, Dolores\, highlighting the life and work of Dolores Huertas\, co-founder of the nation’s first farmworkers union who tirelessly fought for racial and labor justice.\nWho is Dolores Huerta? One of the most important\, yet least known activists of our time\, Dolores Huerta was an equal partner in founding the first farm workers union with César Chávez. Tirelessly leading the fight for racial and labor justice\, Huerta evolved into one of the most defiant feminists of the 20th century — and she continues the fight to this day\, in her late 80s. With unprecedented access to this intensely private mother of 11\, Peter Bratt’s film Dolores chronicles Huerta’s life from her childhood in Stockton\, California to her early years with the United Farm Workers\, from her work with the headline-making grape boycott launched in 1965 to her role in the feminist movement of the ’70s\, to her continued work as a fearless activist. Featuring interviews with Gloria Steinem\, Luis Valdez\, Angela Davis\, her children and more\, Dolores is an intimate and inspiring portrait of a passionate champion of the oppressed and an indomitable woman willing to accept the personal sacrifices involved in committing one’s life to social change. \nIntroductory remarks will be given by Mayra del Carmen\, assistant professor of Psychology at MSU. Refreshments will be provided.
URL:https://bozone.com/event/dolores-film-screening/
LOCATION:MSU Procrastinator Theater\, Montana State University\, Bozeman\, MT\, 59715\, United States
CATEGORIES:Movies
GEO:45.6662479;-111.0476822
X-APPLE-STRUCTURED-LOCATION;VALUE=URI;X-ADDRESS=MSU Procrastinator Theater Montana State University Bozeman MT 59715 United States;X-APPLE-RADIUS=500;X-TITLE=Montana State University:geo:-111.0476822,45.6662479
END:VEVENT
BEGIN:VEVENT
DTSTART;TZID=America/Denver:20260330T173000
DTEND;TZID=America/Denver:20260330T173000
DTSTAMP:20260419T074355
CREATED:20260328T023602Z
LAST-MODIFIED:20260328T023602Z
UID:314245-1774891800-1774891800@bozone.com
SUMMARY:Bozeman Data Center Panel Discussion
DESCRIPTION:Bozeman Data Center Panel Discussion\nDate: March 30\, 2026\nTime: 5:30 pm – 7:30 pm\nVenue: Gallatin Gateway Community Center\nLocation: 145 Mill Street\, Gallatin Gateway\nOrganizer: Montana Environmental Information Center (MEIC)\nCategory: Community Gathering\, Education\nJoin MEIC\, Montanans for Affordable Energy (MAE) and partners in Bozeman on March 30 from 5:30-7:30p at the Gallatin Gateway Community Center for a panel discussion to hear the latest updates on the data centers being proposed\, impacts to our resources\, and how we can organize and take action to protect our communities and our future. Please click “More Info” to register. \nMore Info
URL:https://bozone.com/event/bozeman-data-center-panel-discussion/
LOCATION:Gallatin Gateway Community Center\, 145 Mill St.\, Gallatin Gateway\, United States
CATEGORIES:Miscellanea
GEO:45.591374;-111.2002376
X-APPLE-STRUCTURED-LOCATION;VALUE=URI;X-ADDRESS=Gallatin Gateway Community Center 145 Mill St. Gallatin Gateway United States;X-APPLE-RADIUS=500;X-TITLE=145 Mill St.:geo:-111.2002376,45.591374
END:VEVENT
BEGIN:VEVENT
DTSTART;TZID=America/Denver:20260330T180000
DTEND;TZID=America/Denver:20260330T180000
DTSTAMP:20260419T074355
CREATED:20250826T032541Z
LAST-MODIFIED:20260225T045700Z
UID:296616-1774893600-1774893600@bozone.com
SUMMARY:Wildrye Trivia
DESCRIPTION:
URL:https://bozone.com/event/wildrye-trivia-13/
LOCATION:WildRye Distilling\, 101 E Oak St Suite 1E\, Bozeman\, MT\, 59715\, United States
CATEGORIES:Miscellanea
GEO:45.6929833;-111.0340753
X-APPLE-STRUCTURED-LOCATION;VALUE=URI;X-ADDRESS=WildRye Distilling 101 E Oak St Suite 1E Bozeman MT 59715 United States;X-APPLE-RADIUS=500;X-TITLE=101 E Oak St Suite 1E:geo:-111.0340753,45.6929833
END:VEVENT
BEGIN:VEVENT
DTSTART;TZID=America/Denver:20260330T180000
DTEND;TZID=America/Denver:20260330T180000
DTSTAMP:20260419T074355
CREATED:20260225T051116Z
LAST-MODIFIED:20260225T051116Z
UID:312128-1774893600-1774893600@bozone.com
SUMMARY:Sawdust R0CK’N Bingo
DESCRIPTION:
URL:https://bozone.com/event/sawdust-r0ckn-bingo-5/
LOCATION:Sawdust & Steel Brewery – Three Forks\, 123 W. Elm St\, Three Forks\, MT\, 59752\, United States
CATEGORIES:Miscellanea
GEO:45.8906499;-111.5547465
X-APPLE-STRUCTURED-LOCATION;VALUE=URI;X-ADDRESS=Sawdust & Steel Brewery – Three Forks 123 W. Elm St Three Forks MT 59752 United States;X-APPLE-RADIUS=500;X-TITLE=123 W. Elm St:geo:-111.5547465,45.8906499
END:VEVENT
BEGIN:VEVENT
DTSTART;TZID=America/Denver:20260330T180000
DTEND;TZID=America/Denver:20260330T180000
DTSTAMP:20260419T074355
CREATED:20260326T151225Z
LAST-MODIFIED:20260326T151225Z
UID:313571-1774893600-1774893600@bozone.com
SUMMARY:Tom Georges
DESCRIPTION:Mar\n30\n\n\n\n\n\nTom Georges\n\n\n\n6:00 PM – 8:00 PM\n\n\n\nHorn and Cantle Saloon
URL:https://bozone.com/event/tom-georges/
LOCATION:Horn and Cantle Saloon – Big Sky\, 800 Lone Mountain Ranch Rd\, Big Sky\, MT\, 59730\, United States
CATEGORIES:Music
GEO:45.2755088;-111.322818
X-APPLE-STRUCTURED-LOCATION;VALUE=URI;X-ADDRESS=Horn and Cantle Saloon – Big Sky 800 Lone Mountain Ranch Rd Big Sky MT 59730 United States;X-APPLE-RADIUS=500;X-TITLE=800 Lone Mountain Ranch Rd:geo:-111.322818,45.2755088
END:VEVENT
BEGIN:VEVENT
DTSTART;TZID=America/Denver:20260330T190000
DTEND;TZID=America/Denver:20260330T190000
DTSTAMP:20260419T074355
CREATED:20250826T032847Z
LAST-MODIFIED:20260225T045945Z
UID:296632-1774897200-1774897200@bozone.com
SUMMARY:Bacchus Trivia
DESCRIPTION:
URL:https://bozone.com/event/bacchus-trivia-7/
LOCATION:Bacchus Pub\, 105 W Main St #1a\, Bozeman\, MT\, 59715\, United States
CATEGORIES:Miscellanea
GEO:45.6795553;-111.0390452
X-APPLE-STRUCTURED-LOCATION;VALUE=URI;X-ADDRESS=Bacchus Pub 105 W Main St #1a Bozeman MT 59715 United States;X-APPLE-RADIUS=500;X-TITLE=105 W Main St #1a:geo:-111.0390452,45.6795553
END:VEVENT
BEGIN:VEVENT
DTSTART;TZID=America/Denver:20260330T190000
DTEND;TZID=America/Denver:20260330T190000
DTSTAMP:20260419T074355
CREATED:20260326T151338Z
LAST-MODIFIED:20260326T151338Z
UID:313572-1774897200-1774897200@bozone.com
SUMMARY:Tuesday Night Rodeo Club
DESCRIPTION:Mar\n30\n\n\n\n\n\nTuesday Night Rodeo Club\n\n\n\n7:00 PM – 9:00 PM\n\n\n\nMontage Alpenglow Lounge
URL:https://bozone.com/event/tuesday-night-rodeo-club/
LOCATION:Montage Alpenglow Lounge – Big Sky\, 995 Settlement Trail\, Big Sky\, MT\, 59716\, United States
CATEGORIES:Music
GEO:45.2589401;-111.3686277
X-APPLE-STRUCTURED-LOCATION;VALUE=URI;X-ADDRESS=Montage Alpenglow Lounge – Big Sky 995 Settlement Trail Big Sky MT 59716 United States;X-APPLE-RADIUS=500;X-TITLE=995 Settlement Trail:geo:-111.3686277,45.2589401
END:VEVENT
BEGIN:VEVENT
DTSTART;TZID=America/Denver:20260330T200000
DTEND;TZID=America/Denver:20260330T200000
DTSTAMP:20260419T074355
CREATED:20251127T202448Z
LAST-MODIFIED:20260220T002017Z
UID:302785-1774900800-1774900800@bozone.com
SUMMARY:Eagles Comedy Open Mic Night
DESCRIPTION:
URL:https://bozone.com/event/eagles-comedy-open-mic-night/
LOCATION:Eagles Bar\, 316 E Main Street\, Bozeman\, MT\, 59715\, United States
CATEGORIES:Arts & Theatre,Miscellanea
GEO:45.6790336;-111.0324891
X-APPLE-STRUCTURED-LOCATION;VALUE=URI;X-ADDRESS=Eagles Bar 316 E Main Street Bozeman MT 59715 United States;X-APPLE-RADIUS=500;X-TITLE=316 E Main Street:geo:-111.0324891,45.6790336
END:VEVENT
BEGIN:VEVENT
DTSTART;TZID=America/Denver:20260330T210000
DTEND;TZID=America/Denver:20260330T210000
DTSTAMP:20260419T074355
CREATED:20260226T035905Z
LAST-MODIFIED:20260226T035905Z
UID:312369-1774904400-1774904400@bozone.com
SUMMARY:American Monday Karaoke
DESCRIPTION:
URL:https://bozone.com/event/american-monday-karaoke-8/
LOCATION:American Legion – Bozeman\, 225 E Main St.\, Bozeman\, MT\, 59715\, United States
CATEGORIES:Music
GEO:45.6796356;-111.0334576
X-APPLE-STRUCTURED-LOCATION;VALUE=URI;X-ADDRESS=American Legion – Bozeman 225 E Main St. Bozeman MT 59715 United States;X-APPLE-RADIUS=500;X-TITLE=225 E Main St.:geo:-111.0334576,45.6796356
END:VEVENT
END:VCALENDAR