BEGIN:VCALENDAR
VERSION:2.0
PRODID:-//The BoZone - ECPv5.12.0//NONSGML v1.0//EN
CALSCALE:GREGORIAN
METHOD:PUBLISH
X-WR-CALNAME:The BoZone
X-ORIGINAL-URL:https://bozone.com
X-WR-CALDESC:Events for The BoZone
BEGIN:VTIMEZONE
TZID:America/Denver
BEGIN:DAYLIGHT
TZOFFSETFROM:-0700
TZOFFSETTO:-0600
TZNAME:MDT
DTSTART:20260308T090000
END:DAYLIGHT
BEGIN:STANDARD
TZOFFSETFROM:-0600
TZOFFSETTO:-0700
TZNAME:MST
DTSTART:20261101T080000
END:STANDARD
END:VTIMEZONE
BEGIN:VEVENT
DTSTART;TZID=America/Denver:20260224T120000
DTEND;TZID=America/Denver:20260224T130000
DTSTAMP:20260420T102804
CREATED:20260128T184926Z
LAST-MODIFIED:20260128T184926Z
UID:306933-1771934400-1771938000@bozone.com
SUMMARY:Virtual Author Talk - Smithsonian Curator Emeritus Tom Crouch
DESCRIPTION:Virtual Author Talk – Smithsonian Curator Emeritus Tom Crouch\nTuesday\, February 24: 12:00pm – 1:00pm\n Virtual Program\nAge group:   Adults\nevent type:  Arts & Culture\nSmithson’s Gamble: The Incredible History Behind the World’s Largest Museum.
URL:https://bozone.com/event/virtual-author-talk-smithsonian-curator-emeritus-tom-crouch/
LOCATION:Virtual Event\, Bozeman\, MT\, 59715\, United States
CATEGORIES:Lectures
GEO:46.8796822;-110.3625658
END:VEVENT
BEGIN:VEVENT
DTSTART;TZID=America/Denver:20260224T163000
DTEND;TZID=America/Denver:20260224T170000
DTSTAMP:20260420T102804
CREATED:20260131T010451Z
LAST-MODIFIED:20260131T010451Z
UID:307659-1771950600-1771952400@bozone.com
SUMMARY:Parent University
DESCRIPTION:https://headwatersacademy.org
URL:https://bozone.com/event/parent-university/
LOCATION:Headwaters Academy\, 1005 Durston Rd\, Bozeman\, 59718\, United States
CATEGORIES:Miscellanea
GEO:45.6669152;-111.043388
X-APPLE-STRUCTURED-LOCATION;VALUE=URI;X-ADDRESS=Headwaters Academy 1005 Durston Rd Bozeman 59718 United States;X-APPLE-RADIUS=500;X-TITLE=1005 Durston Rd:geo:-111.043388,45.6669152
END:VEVENT
BEGIN:VEVENT
DTSTART;TZID=America/Denver:20260224T173000
DTEND;TZID=America/Denver:20260224T173000
DTSTAMP:20260420T102804
CREATED:20260128T185038Z
LAST-MODIFIED:20260128T185038Z
UID:306934-1771954200-1771954200@bozone.com
SUMMARY:Nonfiction Writers Group
DESCRIPTION:Nonfiction Writers Group\nTuesday\, February 24: 5:30pm – 7:30pm\n BPL – Ponderosa Room\nAge group:   Adults\nevent type:  Arts & Culture\nNonfiction Writers Group offers mutual support\, and considerate\, constructive feedback on works in progress.
URL:https://bozone.com/event/nonfiction-writers-group-18/
LOCATION:Bozeman Public Library\, 626 East Main Street\, Bozeman\, MT\, 59715\, United States
CATEGORIES:Miscellanea
GEO:45.6785823;-111.0270991
X-APPLE-STRUCTURED-LOCATION;VALUE=URI;X-ADDRESS=Bozeman Public Library 626 East Main Street Bozeman MT 59715 United States;X-APPLE-RADIUS=500;X-TITLE=626 East Main Street:geo:-111.0270991,45.6785823
END:VEVENT
BEGIN:VEVENT
DTSTART;TZID=America/Denver:20260224T173000
DTEND;TZID=America/Denver:20260224T173000
DTSTAMP:20260420T102804
CREATED:20260128T185144Z
LAST-MODIFIED:20260128T185144Z
UID:306935-1771954200-1771954200@bozone.com
SUMMARY:Cookie Decorating: Royal Icing
DESCRIPTION:Cookie Decorating: Royal Icing\nTuesday\, February 24: 5:30pm – 7:00pm\n BPL – The Kitchen Table\nAge group:   Adults\nevent type:  Creative Labs\, Arts & Culture\nLearn how to use royal icing to decorate cookies with Sweet E Cookie Company.\nRegister
URL:https://bozone.com/event/cookie-decorating-royal-icing/
LOCATION:Bozeman Public Library\, 626 East Main Street\, Bozeman\, MT\, 59715\, United States
CATEGORIES:Classes,Miscellanea
GEO:45.6785823;-111.0270991
X-APPLE-STRUCTURED-LOCATION;VALUE=URI;X-ADDRESS=Bozeman Public Library 626 East Main Street Bozeman MT 59715 United States;X-APPLE-RADIUS=500;X-TITLE=626 East Main Street:geo:-111.0270991,45.6785823
END:VEVENT
BEGIN:VEVENT
DTSTART;TZID=America/Denver:20260224T180000
DTEND;TZID=America/Denver:20260224T180000
DTSTAMP:20260420T102804
CREATED:20250427T202411Z
LAST-MODIFIED:20251229T211523Z
UID:288524-1771956000-1771956000@bozone.com
SUMMARY:Last Best Trivia!
DESCRIPTION:
URL:https://bozone.com/event/last-best-trivia-2/
LOCATION:Last Best Place Brewing Co.\, 605 N. 7th Ave\, Bozeman\, MT\, 59715\, United States
CATEGORIES:Miscellanea
GEO:45.6857672;-111.0466208
X-APPLE-STRUCTURED-LOCATION;VALUE=URI;X-ADDRESS=Last Best Place Brewing Co. 605 N. 7th Ave Bozeman MT 59715 United States;X-APPLE-RADIUS=500;X-TITLE=605 N. 7th Ave:geo:-111.0466208,45.6857672
END:VEVENT
BEGIN:VEVENT
DTSTART;TZID=America/Denver:20260224T180000
DTEND;TZID=America/Denver:20260224T180000
DTSTAMP:20260420T102804
CREATED:20260128T160653Z
LAST-MODIFIED:20260128T160653Z
UID:306774-1771956000-1771956000@bozone.com
SUMMARY:Zander Chovanes
DESCRIPTION:Feb\n24\n\n\n\n\n\nZander Chovanes\n\n\n\n6:00 PM – 9:00 PM\n\n\n\nMoonshack
URL:https://bozone.com/event/zander-chovanes-11/
LOCATION:Moonshack – One&Only Moonlight Basin\, 77 Roosevelt Road\, Big Sky\, MT\, 59716\, United States
CATEGORIES:Music
END:VEVENT
BEGIN:VEVENT
DTSTART;TZID=America/Denver:20260224T180000
DTEND;TZID=America/Denver:20260224T180000
DTSTAMP:20260420T102805
CREATED:20260128T160842Z
LAST-MODIFIED:20260128T160842Z
UID:306773-1771956000-1771956000@bozone.com
SUMMARY:Tuesday Night Rodeo Club
DESCRIPTION:Feb\n24\n\n\n\n\n\nTuesday Night Rodeo Club\n\n\n\n6:00 PM – 8:00 PM\n\n\n\nHorn and Cantle Saloon
URL:https://bozone.com/event/tuesday-night-rodeo-club-63/
LOCATION:Horn and Cantle Saloon – Big Sky\, 800 Lone Mountain Ranch Rd\, Big Sky\, MT\, 59730\, United States
CATEGORIES:Music
GEO:45.2755088;-111.322818
X-APPLE-STRUCTURED-LOCATION;VALUE=URI;X-ADDRESS=Horn and Cantle Saloon – Big Sky 800 Lone Mountain Ranch Rd Big Sky MT 59730 United States;X-APPLE-RADIUS=500;X-TITLE=800 Lone Mountain Ranch Rd:geo:-111.322818,45.2755088
END:VEVENT
BEGIN:VEVENT
DTSTART;TZID=America/Denver:20260224T190000
DTEND;TZID=America/Denver:20260224T190000
DTSTAMP:20260420T102805
CREATED:20260128T160753Z
LAST-MODIFIED:20260128T160753Z
UID:306775-1771959600-1771959600@bozone.com
SUMMARY:Ryan Kelly
DESCRIPTION:Feb\n24\n\n\n\n\n\nRyan Kelly\n\n\n\n7:00 PM – 9:00 PM\n\n\n\nMontage Alpenglow Lounge
URL:https://bozone.com/event/ryan-kelly-14/
LOCATION:Montage Alpenglow Lounge – Big Sky\, 995 Settlement Trail\, Big Sky\, MT\, 59716\, United States
CATEGORIES:Music
GEO:45.2589401;-111.3686277
X-APPLE-STRUCTURED-LOCATION;VALUE=URI;X-ADDRESS=Montage Alpenglow Lounge – Big Sky 995 Settlement Trail Big Sky MT 59716 United States;X-APPLE-RADIUS=500;X-TITLE=995 Settlement Trail:geo:-111.3686277,45.2589401
END:VEVENT
BEGIN:VEVENT
DTSTART;TZID=America/Denver:20260224T190000
DTEND;TZID=America/Denver:20260224T190000
DTSTAMP:20260420T102805
CREATED:20260131T020556Z
LAST-MODIFIED:20260131T020556Z
UID:307710-1771959600-1771959600@bozone.com
SUMMARY:Spring Choir Concert
DESCRIPTION:Tuesday\, February 24\, 2026\n\n\nSpring Choir Concert\n 7:30pm\n Howard Hall Reynolds Recital Hall\, Howard Hall\, room 108\nTICKETS: $15 General\, $5 MSU Student\, PreK-12 FREE
URL:https://bozone.com/event/spring-choir-concert/
LOCATION:MSU Reynolds Recital Hall\, Bozeman\, United States
CATEGORIES:Music
GEO:45.6769979;-111.0429339
END:VEVENT
BEGIN:VEVENT
DTSTART;TZID=America/Denver:20260224T200000
DTEND;TZID=America/Denver:20260224T200000
DTSTAMP:20260420T102805
CREATED:20260128T160941Z
LAST-MODIFIED:20260128T160941Z
UID:306776-1771963200-1771963200@bozone.com
SUMMARY:Tips Up Open Mic Night
DESCRIPTION:Feb\n24\n\n\n\n\n\nTips Up Open Mic Night\n\n\n\n8:00 PM\n\n\n\nTips Up
URL:https://bozone.com/event/tips-up-open-mic-night-15/
LOCATION:Tips Up – Big Sky\, 76 Town Center Ave\, Big Sky\, MT\, 59716\, United States
CATEGORIES:Music
GEO:45.2599334;-111.3070373
X-APPLE-STRUCTURED-LOCATION;VALUE=URI;X-ADDRESS=Tips Up – Big Sky 76 Town Center Ave Big Sky MT 59716 United States;X-APPLE-RADIUS=500;X-TITLE=76 Town Center Ave:geo:-111.3070373,45.2599334
END:VEVENT
BEGIN:VEVENT
DTSTART;TZID=America/Denver:20260224T210000
DTEND;TZID=America/Denver:20260224T210000
DTSTAMP:20260420T102805
CREATED:20260201T031052Z
LAST-MODIFIED:20260201T031052Z
UID:307894-1771966800-1771966800@bozone.com
SUMMARY:My Favorite Thing
DESCRIPTION:Feb\n24\n\n\n\n\nLIVE MUSIC: MY FAVORITE THING\n\n\n\n\n\n\n\nJoin us for live music by the Waypoint’s house band\, My Favorite Thing.
URL:https://bozone.com/event/my-favorite-thing-12/
LOCATION:The Big Sky Waypoint\, 50 Ousel Falls Road\, Big Sky\, MT\, 59716\, United States
CATEGORIES:Music
GEO:45.2600817;-111.3084077
X-APPLE-STRUCTURED-LOCATION;VALUE=URI;X-ADDRESS=The Big Sky Waypoint 50 Ousel Falls Road Big Sky MT 59716 United States;X-APPLE-RADIUS=500;X-TITLE=50 Ousel Falls Road:geo:-111.3084077,45.2600817
END:VEVENT
END:VCALENDAR