BEGIN:VCALENDAR
VERSION:2.0
PRODID:-//The BoZone - ECPv5.12.0//NONSGML v1.0//EN
CALSCALE:GREGORIAN
METHOD:PUBLISH
X-WR-CALNAME:The BoZone
X-ORIGINAL-URL:https://bozone.com
X-WR-CALDESC:Events for The BoZone
BEGIN:VTIMEZONE
TZID:America/Denver
BEGIN:DAYLIGHT
TZOFFSETFROM:-0700
TZOFFSETTO:-0600
TZNAME:MDT
DTSTART:20260308T090000
END:DAYLIGHT
BEGIN:STANDARD
TZOFFSETFROM:-0600
TZOFFSETTO:-0700
TZNAME:MST
DTSTART:20261101T080000
END:STANDARD
END:VTIMEZONE
BEGIN:VEVENT
DTSTART;TZID=America/Denver:20260220T090000
DTEND;TZID=America/Denver:20260220T090000
DTSTAMP:20260420T183534
CREATED:20251227T032423Z
LAST-MODIFIED:20251227T032423Z
UID:303749-1771578000-1771578000@bozone.com
SUMMARY:Project Management Essentials & CAPM®
DESCRIPTION:— The Jake Jabs College of Business and Entrepreneurship at Montana State University will offer a noncredit project management course in February\, preparing participants to take a certification exam. Registration closes on Wednesday\, Feb. 18.\nThe course\, titled “Project Management Essentials and Certified Associate in Project Management Exam Prep\,” will take place from 9 a.m. to 5 p.m. Feb. 20-22 in Jabs Hall on MSU’s campus. It also includes an online component in Canvas\, MSU’s learning management system. The course does not require prerequisite work and is open to the public\, including MSU students\, those with a high school diploma or professionals with minimal project management experience. \nStudents will learn core project management principles\, including leadership skills\, plan-based methodologies\, business analysis approaches and Agile frameworks for workflow organization\, to successfully lead projects in a dynamic business environment. The course will satisfy the 23-hour project management education requirement for certification\, preparing students to take the Certified Associate in Project Management exam. \nThe course costs $975\, with continuing education units available for an additional $25.\nMSU faculty\, staff and students are eligible for a discount code during registration. To obtain the code\, contact Michelle Haught\, instructor in the business college\, at michelle.haught@montana.edu using an MSU email address. \nCourse registration is supported by MSU Academic Technology and Outreach and is available online.
URL:https://bozone.com/event/project-management-essentials-capm/
LOCATION:Montana State University\, Bozeman\, United States
CATEGORIES:Classes
GEO:45.6769979;-111.0429339
END:VEVENT
BEGIN:VEVENT
DTSTART;TZID=America/Denver:20260220T090000
DTEND;TZID=America/Denver:20260220T093000
DTSTAMP:20260420T183534
CREATED:20260126T230312Z
LAST-MODIFIED:20260126T230312Z
UID:306022-1771578000-1771579800@bozone.com
SUMMARY:Virtual Fossil Fridays
DESCRIPTION:******THIS EVENT REPEATS ON THE FOLLOWING DATES:\nFebruary  20\, 27\nMarch 6\, 13\, 20\, 27\nApril 3\, 10\, 17\, 24\n******\n9-10 a.m.\nFree for all via Zoom \nJoin Outreach Program Manager Ashley Hall and Museum Educator Specialist\, MaggieJo Widdicombe\, via Zoom on most Fridays to dig deeper into paleontology with interviews from international paleontologists\, drawing tutorials\, featured fossil “deep dives”\, and more. Themes vary by week. Bring your curiosity and questions!\nPlease note that themes and episode dates are subject to change or cancellation. \nhttps://mor.ticketapp.org/portal/product/42/events
URL:https://bozone.com/event/virtual-fossil-fridays-8/
LOCATION:Virtual Event\, Bozeman\, MT\, 59715\, United States
CATEGORIES:Classes
GEO:46.8796822;-110.3625658
END:VEVENT
BEGIN:VEVENT
DTSTART;TZID=America/Denver:20260220T090000
DTEND;TZID=America/Denver:20260220T170000
DTSTAMP:20260420T183534
CREATED:20260129T215703Z
LAST-MODIFIED:20260129T220006Z
UID:307325-1771578000-1771606800@bozone.com
SUMMARY:Yellowstone Summit Hosted by A Yellowstone Life
DESCRIPTION:Yellowstone Summit is a 4-day online event where Yellowstone lovers across the globe can get insider park updates from leading experts\, see the park through the eyes of renowned photographers and artists\, find tips for planning a trip\, learn new insights for better park experiences\, deepen their understanding of the park\, and engage in meaningful conversations with speakers and with each other about the past\, present\, and future of Yellowstone. \nFrom February 19-22\, 2026\, Yellowstone enthusiasts from around the globe will connect virtually to learn\, share\, and celebrate the wonders of the world’s first national park.\nThis four-day event features over 30 sessions from renowned speakers\, including park researchers\, naturalists\, artists\, and photographers. Whether you’re a first-time visitor or a lifelong enthusiast\, the Summit offers something for everyone. \nThe Summit is fully virtual\, allowing attendees from around the globe to join. Tickets are just $15 for a General Pass\, with a VIP Pass available for $59 offering unlimited access to recordings\, live Q&A\, and exclusive community interactions. \nHosted by A Yellowstone Life\, this virtual gathering provides an affordable platform for attendees to deepen their understanding of Yellowstone and engage in meaningful conversations with both speakers and fellow enthusiasts. A portion of proceeds supports Yellowstone Forever\, the park’s nonprofit partner\, funding conservation and education projects. \nDon’t miss this chance to experience Yellowstone like never before! For more info and to register\, visit \nwww.YellowstoneSummit.com
URL:https://bozone.com/event/yellowstone-summit-hosted-by-a-yellowstone-life-2/
LOCATION:Virtual Event\, Bozeman\, MT\, 59715\, United States
CATEGORIES:Miscellanea
GEO:46.8796822;-110.3625658
END:VEVENT
BEGIN:VEVENT
DTSTART;TZID=America/Denver:20260220T100000
DTEND;TZID=America/Denver:20260220T170000
DTSTAMP:20260420T183534
CREATED:20260127T214608Z
LAST-MODIFIED:20260127T214608Z
UID:306286-1771581600-1771606800@bozone.com
SUMMARY:Winter Crazy Days 2026
DESCRIPTION:Winter Crazy Days 2026\nDowntown Bozeman\nDTNBZN Events\nFebruary 20 – 22\, 2026 – All Day\nThe Downtown Bozeman Association is pleased to announce the Winter Crazy Days sale is back and will take place after Presidents’ Day & Valentine’s Weekend\, on February 20th-22nd. \nWinter Crazy Days\, also known as the “best winter sale in Bozeman”\, will offer amazing sales\, specials\, and promotions throughout the holiday weekend. Expect to find some of the best deals on winter merchandise and inventory sales from downtown retailers\, as well as dine-in and take-out specials from restaurants\, bars\, and coffee shops alike! Please note\, hours and days may vary per business. \nThere is no cost for shoppers or businesses to participate in Winter Crazy Days.
URL:https://bozone.com/event/winter-crazy-days-2026/
LOCATION:Downtown Bozeman\, Bozeman\, MT\, 59715\, United States
CATEGORIES:Miscellanea
GEO:45.6769979;-111.0429339
END:VEVENT
BEGIN:VEVENT
DTSTART;TZID=America/Denver:20260220T130000
DTEND;TZID=America/Denver:20260220T141500
DTSTAMP:20260420T183534
CREATED:20260128T032537Z
LAST-MODIFIED:20260128T032537Z
UID:306496-1771592400-1771596900@bozone.com
SUMMARY:Public Skate
DESCRIPTION:Public Skate- Click here for more information\nFriday\, February 20·1:00 – 2:15pm\n\n\n\nnotes\n\nCheck-in at Ticket Booth is required prior to skating. \nAdult: $10\nYouth $7\nAges 5 and under: Free \nAdult 11x Punch Card: $100\nAdult Season Pass: $180\nYouth 11x Punch Card: $70\nYouth Season Pass: $125 \nSkate rental: $5 per pair.\nTicket Booth staff will assist with skate rentals.\n(No Sticks & Pucks)
URL:https://bozone.com/event/public-skate-42/
LOCATION:Ressler Rink – GCF\, Gallatin Fairgrounds\, Bozeman\, MT\, 59715\, United States
CATEGORIES:Sporting Events
GEO:45.689199;-111.037633
X-APPLE-STRUCTURED-LOCATION;VALUE=URI;X-ADDRESS=Ressler Rink – GCF Gallatin Fairgrounds Bozeman MT 59715 United States;X-APPLE-RADIUS=500;X-TITLE=Gallatin Fairgrounds:geo:-111.037633,45.689199
END:VEVENT
BEGIN:VEVENT
DTSTART;TZID=America/Denver:20260220T130000
DTEND;TZID=America/Denver:20260220T160000
DTSTAMP:20260420T183534
CREATED:20260128T155210Z
LAST-MODIFIED:20260128T155210Z
UID:306744-1771592400-1771603200@bozone.com
SUMMARY:Checkmates
DESCRIPTION:Feb\n20\n\n\n\n\n\nCheckmates\n\n\n\n1:00 PM – 4:00 PM\n\n\n\nThe Landing
URL:https://bozone.com/event/checkmates/
LOCATION:The Landing at One&Only Moonlight Basin\, 108 Roosevelt Road\, Big Sky\, 59716
CATEGORIES:Music
GEO:45.2617806;-111.3080244
X-APPLE-STRUCTURED-LOCATION;VALUE=URI;X-ADDRESS=The Landing at One&Only Moonlight Basin 108 Roosevelt Road Big Sky 59716;X-APPLE-RADIUS=500;X-TITLE=108 Roosevelt Road:geo:-111.3080244,45.2617806
END:VEVENT
BEGIN:VEVENT
DTSTART;TZID=America/Denver:20260220T130000
DTEND;TZID=America/Denver:20260220T160000
DTSTAMP:20260420T183534
CREATED:20260218T003227Z
LAST-MODIFIED:20260218T003227Z
UID:310859-1771592400-1771603200@bozone.com
SUMMARY:Douglass Day Transcribe-a-thon
DESCRIPTION:Douglass Day Transcribe-a-thon<https://calendar.lib.montana.edu/event/16092608>: Daily from 1 to 4 p.m. through Feb. 20 in the Renne Library. Part of the MSU Library’s Informed Citizenry Initiative\, the transcribe-a-thon honors author\, abolitionist and civil rights champion Frederick Douglass. The event is centered around crowdsourced transcription of Library of Congress collections and will feature music\, speakers and voter registration.\n*   Student Common
URL:https://bozone.com/event/douglass-day-transcribe-a-thon/
LOCATION:MSU Library – MSU\, Centennial Mall - MSU\, Bozeman\, MT\, 59717\, United States
CATEGORIES:Miscellanea
GEO:45.6670217;-111.0493916
X-APPLE-STRUCTURED-LOCATION;VALUE=URI;X-ADDRESS=MSU Library – MSU Centennial Mall - MSU Bozeman MT 59717 United States;X-APPLE-RADIUS=500;X-TITLE=Centennial Mall - MSU:geo:-111.0493916,45.6670217
END:VEVENT
BEGIN:VEVENT
DTSTART;TZID=America/Denver:20260220T150000
DTEND;TZID=America/Denver:20260220T180000
DTSTAMP:20260420T183534
CREATED:20260128T035341Z
LAST-MODIFIED:20260128T035341Z
UID:306553-1771599600-1771610400@bozone.com
SUMMARY:Kevlove
DESCRIPTION:Friday\, Feb 20\, 3-6 PM\nKevlove\nAprès Ski DJ Set — Mountain Village Plaza
URL:https://bozone.com/event/kevlove/
LOCATION:Mountain Village Plaza – Big Sky\, 50 Big Sky Resort Road\, Big Sky\, MT\, 59716\, United States
CATEGORIES:Music
GEO:45.2857407;-111.4012409
X-APPLE-STRUCTURED-LOCATION;VALUE=URI;X-ADDRESS=Mountain Village Plaza – Big Sky 50 Big Sky Resort Road Big Sky MT 59716 United States;X-APPLE-RADIUS=500;X-TITLE=50 Big Sky Resort Road:geo:-111.4012409,45.2857407
END:VEVENT
BEGIN:VEVENT
DTSTART;TZID=America/Denver:20260220T160000
DTEND;TZID=America/Denver:20260220T180000
DTSTAMP:20260420T183535
CREATED:20260129T035410Z
LAST-MODIFIED:20260129T035410Z
UID:307210-1771603200-1771610400@bozone.com
SUMMARY:Ryan Kelly
DESCRIPTION:02/20: Ryan Kelly
URL:https://bozone.com/event/ryan-kelly-15/
LOCATION:Field and Stream Lodge – Bozeman\, 5 Baxter Lane\, Bozeman\, MT\, 59715\, United States
CATEGORIES:Music
GEO:45.6952242;-111.0479208
X-APPLE-STRUCTURED-LOCATION;VALUE=URI;X-ADDRESS=Field and Stream Lodge – Bozeman 5 Baxter Lane Bozeman MT 59715 United States;X-APPLE-RADIUS=500;X-TITLE=5 Baxter Lane:geo:-111.0479208,45.6952242
END:VEVENT
BEGIN:VEVENT
DTSTART;TZID=America/Denver:20260220T173000
DTEND;TZID=America/Denver:20260220T173000
DTSTAMP:20260420T183535
CREATED:20260128T005526Z
LAST-MODIFIED:20260128T005526Z
UID:306448-1771608600-1771608600@bozone.com
SUMMARY:Tessy Lou
DESCRIPTION:Tessy Lou\nFriday\, February 20\n⋅5:30 – 7:30pm
URL:https://bozone.com/event/tessy-lou-5/
LOCATION:Willies Distillery – Ennis\, 312 E Main Street\, Ennis\, MT\, 59729\, United States
CATEGORIES:Music
GEO:45.3490537;-111.7259957
X-APPLE-STRUCTURED-LOCATION;VALUE=URI;X-ADDRESS=Willies Distillery – Ennis 312 E Main Street Ennis MT 59729 United States;X-APPLE-RADIUS=500;X-TITLE=312 E Main Street:geo:-111.7259957,45.3490537
END:VEVENT
BEGIN:VEVENT
DTSTART;TZID=America/Denver:20260220T180000
DTEND;TZID=America/Denver:20260220T180000
DTSTAMP:20260420T183535
CREATED:20251227T032537Z
LAST-MODIFIED:20251227T032537Z
UID:303747-1771610400-1771610400@bozone.com
SUMMARY:Menagerie of the Imaginary Puppet Petting Zoo & Mini Parade
DESCRIPTION:Kick off the Menagerie of the Imaginary Lantern Parade with a magical\, accessible evening at the Gallatin County Fairgrounds. Meet the three giant lantern puppets up close and enjoy a mini-parade perfect for our smallest magical fans or anyone who prefers an easy walk. This family-friendly event invites everyone to witness the glowing art\, and celebrate light\, imagination\, and the joy of community.
URL:https://bozone.com/event/menagerie-of-the-imaginary-puppet-petting-zoo-mini-parade/
LOCATION:GCF – Gallatin County Fairgrounds – GCF\, 901 N Black\, Bozeman\, United States
CATEGORIES:Arts & Theatre
GEO:45.6885954;-111.0358461
X-APPLE-STRUCTURED-LOCATION;VALUE=URI;X-ADDRESS=GCF – Gallatin County Fairgrounds – GCF 901 N Black Bozeman United States;X-APPLE-RADIUS=500;X-TITLE=901 N Black:geo:-111.0358461,45.6885954
END:VEVENT
BEGIN:VEVENT
DTSTART;TZID=America/Denver:20260220T180000
DTEND;TZID=America/Denver:20260220T180000
DTSTAMP:20260420T183535
CREATED:20260126T050343Z
LAST-MODIFIED:20260126T050343Z
UID:305965-1771610400-1771610400@bozone.com
SUMMARY:Community Meeting
DESCRIPTION:The Bozeman Dharma Center’s annual community meeting is an opportunity for the board members and staff of the BDC to share the organization’s goals and get feedback from the community. Hear about actions taken based on last year’s community meeting feedback\, get updates about the finances and direction of the organization and connect with the current members of the Board of Directors. Friday February 20th. Come at 5:30 to socialize\, the meeting will start at 6 PM. www.bozemandharmacenter.org. 406-219-2140. Free! Open to all.
URL:https://bozone.com/event/community-meeting/
LOCATION:Bozeman Dharma Center\, 1019 E Main\, Bozeman\, MT\, 59715\, United States
CATEGORIES:Miscellanea
GEO:45.6803554;-111.0229517
X-APPLE-STRUCTURED-LOCATION;VALUE=URI;X-ADDRESS=Bozeman Dharma Center 1019 E Main Bozeman MT 59715 United States;X-APPLE-RADIUS=500;X-TITLE=1019 E Main:geo:-111.0229517,45.6803554
END:VEVENT
BEGIN:VEVENT
DTSTART;TZID=America/Denver:20260220T180000
DTEND;TZID=America/Denver:20260220T180000
DTSTAMP:20260420T183535
CREATED:20260128T035421Z
LAST-MODIFIED:20260128T035421Z
UID:306554-1771610400-1771610400@bozone.com
SUMMARY:Abby Webster Duo
DESCRIPTION:Friday\, Feb 20\, 6-9 PM\nAbby Webster Duo\nLive Music — Vista Hall
URL:https://bozone.com/event/abby-webster-duo-6/
LOCATION:Vista Hall – Big Sky Resort\, 50 Big Sky Resort Rd\, Big Sky\, MT\, 59716\, United States
CATEGORIES:Music
GEO:45.2857407;-111.4012409
X-APPLE-STRUCTURED-LOCATION;VALUE=URI;X-ADDRESS=Vista Hall – Big Sky Resort 50 Big Sky Resort Rd Big Sky MT 59716 United States;X-APPLE-RADIUS=500;X-TITLE=50 Big Sky Resort Rd:geo:-111.4012409,45.2857407
END:VEVENT
BEGIN:VEVENT
DTSTART;TZID=America/Denver:20260220T180000
DTEND;TZID=America/Denver:20260220T180000
DTSTAMP:20260420T183535
CREATED:20260128T155303Z
LAST-MODIFIED:20260128T155303Z
UID:306746-1771610400-1771610400@bozone.com
SUMMARY:Chandler Huntley
DESCRIPTION:Feb\n20\n\n\n\n\n\nChandler Huntley\n\n\n\n6:00 PM – 8:00 PM\n\n\n\nHorn and Cantle Saloon
URL:https://bozone.com/event/chandler-huntley-78/
LOCATION:Horn and Cantle Saloon – Big Sky\, 800 Lone Mountain Ranch Rd\, Big Sky\, MT\, 59730\, United States
CATEGORIES:Music
GEO:45.2755088;-111.322818
X-APPLE-STRUCTURED-LOCATION;VALUE=URI;X-ADDRESS=Horn and Cantle Saloon – Big Sky 800 Lone Mountain Ranch Rd Big Sky MT 59730 United States;X-APPLE-RADIUS=500;X-TITLE=800 Lone Mountain Ranch Rd:geo:-111.322818,45.2755088
END:VEVENT
BEGIN:VEVENT
DTSTART;TZID=America/Denver:20260220T180000
DTEND;TZID=America/Denver:20260220T180000
DTSTAMP:20260420T183535
CREATED:20260201T232252Z
LAST-MODIFIED:20260201T232252Z
UID:307913-1771610400-1771610400@bozone.com
SUMMARY:Lindzy Neilsen
DESCRIPTION:
URL:https://bozone.com/event/lindzy-neilsen/
LOCATION:Pony Bar – Pony\, MT\, 108 Broadway St\, Pony\, MT\, 59747\, United States
CATEGORIES:Music
GEO:45.6574277;-111.895949
X-APPLE-STRUCTURED-LOCATION;VALUE=URI;X-ADDRESS=Pony Bar – Pony MT 108 Broadway St Pony MT 59747 United States;X-APPLE-RADIUS=500;X-TITLE=108 Broadway St:geo:-111.895949,45.6574277
END:VEVENT
BEGIN:VEVENT
DTSTART;TZID=America/Denver:20260220T180000
DTEND;TZID=America/Denver:20260220T180000
DTSTAMP:20260420T183535
CREATED:20260208T033522Z
LAST-MODIFIED:20260208T033522Z
UID:308222-1771610400-1771610400@bozone.com
SUMMARY:Ella Rae Cole
DESCRIPTION:Ella Rae Cole\n\nFriday\, February 20\, 2026\n6:00 PM  8:00 PM\n\n\nTune Up
URL:https://bozone.com/event/ella-rae-cole-8/
LOCATION:Tune Up Bar\, 24 W Mendenhall St\, Bozeman\, MT\, 59715\, United States
CATEGORIES:Music
GEO:45.6800443;-111.038017
X-APPLE-STRUCTURED-LOCATION;VALUE=URI;X-ADDRESS=Tune Up Bar 24 W Mendenhall St Bozeman MT 59715 United States;X-APPLE-RADIUS=500;X-TITLE=24 W Mendenhall St:geo:-111.038017,45.6800443
END:VEVENT
BEGIN:VEVENT
DTSTART;TZID=America/Denver:20260220T180000
DTEND;TZID=America/Denver:20260220T180000
DTSTAMP:20260420T183535
CREATED:20260214T193101Z
LAST-MODIFIED:20260214T193101Z
UID:310829-1771610400-1771610400@bozone.com
SUMMARY:Likeness: The Art of Seeing Each Other Reception
DESCRIPTION:Likeness: The Art of Seeing Each Other will be on display at the Livingston Center for Art and Culture from February 10th through March 7th. \nCo-Curated by Executive Director Kathy Bekedam and Board Member Ashley Noble\, Likeness embraces the many ways artists capture connection\, empathy and individuality. After reviewing the artist submissions\, Ashley said: Each artist approached the theme differently. We have realistic\, abstract\, symbolic – everything is very subjective\, which is pretty cool.” \nThe public is invited to an Artists Reception on Friday\, February 20th\, from 6-8 pm. The Center is located at 119 South Main Street in historic downtown Livingston. For more information\, contact the Center at (406) 222-5222 or visit http://www.livingstoncenter.org/
URL:https://bozone.com/event/likeness-the-art-of-seeing-each-other-reception/
LOCATION:Livingston Center for Art and Culture\, 119 S Main Street\, Livingston\, United States
CATEGORIES:Arts & Theatre
GEO:45.6606745;-110.5589017
X-APPLE-STRUCTURED-LOCATION;VALUE=URI;X-ADDRESS=Livingston Center for Art and Culture 119 S Main Street Livingston United States;X-APPLE-RADIUS=500;X-TITLE=119 S Main Street:geo:-110.5589017,45.6606745
END:VEVENT
BEGIN:VEVENT
DTSTART;TZID=America/Denver:20260220T190000
DTEND;TZID=America/Denver:20260220T190000
DTSTAMP:20260420T183535
CREATED:20251129T185107Z
LAST-MODIFIED:20251129T185107Z
UID:303122-1771614000-1771614000@bozone.com
SUMMARY:Joe Robinson
DESCRIPTION:Joe Robinson\n\nFriday\, February 20\, 2026\n7:00 PM  10:00 PM\n\n\n\n\n\n\n\n\nTHIS IS A LIMITED CAPACITY INDOOR SHOW \nJoe Robinson is a world-renown guitar virtuoso and singer-songwriter from Australia. A uniquely skilled musician\, Robinson is widely regarded as one of the world’s top fingerstyle soloists. He is also an accomplished electric improviser\, composer and songwriter. Joe’s signature musical touch and ability to seamlessly blend these elements allows him to create a sound that is truly one-of-a-kind and defies classification within any particular genre. \nWe are serving a small dinner menu. There is very limited seating available.  \n$25 ADVANCE – $30 DAY OF SHOW \n\n\n\n\n\nPurchase
URL:https://bozone.com/event/joe-robinson/
LOCATION:Pine Creek Lodge – LV\, 2496 East River Road\, Livingston\, United States
CATEGORIES:Music
GEO:45.5076317;-110.5635992
X-APPLE-STRUCTURED-LOCATION;VALUE=URI;X-ADDRESS=Pine Creek Lodge – LV 2496 East River Road Livingston United States;X-APPLE-RADIUS=500;X-TITLE=2496 East River Road:geo:-110.5635992,45.5076317
END:VEVENT
BEGIN:VEVENT
DTSTART;TZID=America/Denver:20260220T190000
DTEND;TZID=America/Denver:20260220T190000
DTSTAMP:20260420T183536
CREATED:20251230T021605Z
LAST-MODIFIED:20251230T021605Z
UID:305066-1771614000-1771614000@bozone.com
SUMMARY:Ian Munsick: Eagle Flies Free Tour
DESCRIPTION:Ian Munsick: Eagle Flies Free Tour\n\nFri\, Feb 20\, 2026 ⦁ 7:00pm\n\n\n\nBrick Breeden Fieldhouse\nFebruary 20th\, 2026\nGET TICKETS
URL:https://bozone.com/event/ian-munsick-eagle-flies-free-tour/
LOCATION:Brick Breeden Fieldhouse – MSU\, 1 Bobcat Cir\, Bozeman\, MT\, 59715\, United States
CATEGORIES:Music
GEO:45.6633486;-111.0506591
X-APPLE-STRUCTURED-LOCATION;VALUE=URI;X-ADDRESS=Brick Breeden Fieldhouse – MSU 1 Bobcat Cir Bozeman MT 59715 United States;X-APPLE-RADIUS=500;X-TITLE=1 Bobcat Cir:geo:-111.0506591,45.6633486
END:VEVENT
BEGIN:VEVENT
DTSTART;TZID=America/Denver:20260220T190000
DTEND;TZID=America/Denver:20260220T190000
DTSTAMP:20260420T183536
CREATED:20260129T000606Z
LAST-MODIFIED:20260129T000606Z
UID:307128-1771614000-1771614000@bozone.com
SUMMARY:The Curators
DESCRIPTION:The Curators\n  \n 
URL:https://bozone.com/event/the-curators/
LOCATION:Verge Theater – Emerson Suite 107\, 111 S Grande Ave Suite 107\, Bozeman\, MT\, 59715\, United States
CATEGORIES:Arts & Theatre
GEO:45.7025707;-111.0453171
X-APPLE-STRUCTURED-LOCATION;VALUE=URI;X-ADDRESS=Verge Theater – Emerson Suite 107 111 S Grande Ave Suite 107 Bozeman MT 59715 United States;X-APPLE-RADIUS=500;X-TITLE=111 S Grande Ave Suite 107:geo:-111.0453171,45.7025707
END:VEVENT
BEGIN:VEVENT
DTSTART;TZID=America/Denver:20260220T190000
DTEND;TZID=America/Denver:20260220T190000
DTSTAMP:20260420T183536
CREATED:20260129T003344Z
LAST-MODIFIED:20260129T003344Z
UID:307151-1771614000-1771614000@bozone.com
SUMMARY:Shelly Kersbergen & Tony Polecastro
DESCRIPTION:20 Shelly Kersbergen & Tony Polecastro 
URL:https://bozone.com/event/shelly-kersbergen-tony-polecastro/
LOCATION:Old Saloon – Emigrant\, 210 Railroad Lane\, Emigrant\, MT\, 59027\, United States
CATEGORIES:Music
GEO:45.369298;-110.734056
X-APPLE-STRUCTURED-LOCATION;VALUE=URI;X-ADDRESS=Old Saloon – Emigrant 210 Railroad Lane Emigrant MT 59027 United States;X-APPLE-RADIUS=500;X-TITLE=210 Railroad Lane:geo:-110.734056,45.369298
END:VEVENT
BEGIN:VEVENT
DTSTART;TZID=America/Denver:20260220T190000
DTEND;TZID=America/Denver:20260220T220000
DTSTAMP:20260420T183536
CREATED:20260129T025049Z
LAST-MODIFIED:20260129T025049Z
UID:307191-1771614000-1771624800@bozone.com
SUMMARY:Stephen Stephens
DESCRIPTION:
URL:https://bozone.com/event/stephen-stephens/
LOCATION:Sacajawea Bar – Three Forks\, 5 N Main\, Three Forks\, United States
CATEGORIES:Music
GEO:45.8953269;-111.5517795
X-APPLE-STRUCTURED-LOCATION;VALUE=URI;X-ADDRESS=Sacajawea Bar – Three Forks 5 N Main Three Forks United States;X-APPLE-RADIUS=500;X-TITLE=5 N Main:geo:-111.5517795,45.8953269
END:VEVENT
BEGIN:VEVENT
DTSTART;TZID=America/Denver:20260220T190000
DTEND;TZID=America/Denver:20260220T190000
DTSTAMP:20260420T183536
CREATED:20260130T032345Z
LAST-MODIFIED:20260130T032345Z
UID:307491-1771614000-1771614000@bozone.com
SUMMARY:Stand-Up with Dave Fulton
DESCRIPTION:Stand-Up with Dave Fulton\n\n\nFri\n\,\nFeb\n\n20\n at\n7:00 pm\n\n and\n9:00 pm\n\n\n\nGet Tickets!
URL:https://bozone.com/event/stand-up-with-dave-fulton/
LOCATION:Last Best Comedy\, 321 E Main\, Alley Entrance\, Bozeman\, MT\, 59715\, United States
CATEGORIES:Arts & Theatre
GEO:45.6795226;-111.0321996
X-APPLE-STRUCTURED-LOCATION;VALUE=URI;X-ADDRESS=Last Best Comedy 321 E Main Alley Entrance Bozeman MT 59715 United States;X-APPLE-RADIUS=500;X-TITLE=321 E Main\, Alley Entrance:geo:-111.0321996,45.6795226
END:VEVENT
BEGIN:VEVENT
DTSTART;TZID=America/Denver:20260220T190000
DTEND;TZID=America/Denver:20260220T190000
DTSTAMP:20260420T183536
CREATED:20260219T142747Z
LAST-MODIFIED:20260219T142820Z
UID:311059-1771614000-1771614000@bozone.com
SUMMARY:Drum Circle for Women
DESCRIPTION:Come drum with friends old and new. Friday\, February 20th. 7-8:00pm at the Unitarian Universalist Fellowship of Bozeman (325 N. 25th Ave.) No experience necessary. Bring your own drum/percussion instrument(s) or use ours. $20 suggested contribution (no one turned away for lack of ability to contribute). SHAKE\, RATTLE and ROLL! Come early (6:30-7:00) for an introduction to “Drum Circle Spice.” Learn a little about the other percussion instruments (not drums) that really bring a drum circle to life. Visit manyhandslightwork.com for more information.
URL:https://bozone.com/event/drum-circle-for-women/
LOCATION:Unitarian Universalists Fellowship\, 325 N 25th Ave.\, Bozeman\, MT\, 59718\, United States
CATEGORIES:Miscellanea,Music
GEO:45.6833471;-111.0704432
X-APPLE-STRUCTURED-LOCATION;VALUE=URI;X-ADDRESS=Unitarian Universalists Fellowship 325 N 25th Ave. Bozeman MT 59718 United States;X-APPLE-RADIUS=500;X-TITLE=325 N 25th Ave.:geo:-111.0704432,45.6833471
END:VEVENT
BEGIN:VEVENT
DTSTART;TZID=America/Denver:20260220T193000
DTEND;TZID=America/Denver:20260220T193000
DTSTAMP:20260420T183536
CREATED:20251228T163214Z
LAST-MODIFIED:20251228T163214Z
UID:304255-1771615800-1771615800@bozone.com
SUMMARY:Summer\, 1976
DESCRIPTION:Summer\, 1976\n\nFriday\, February 20\, 2026\n7:30 PM  9:30 PM
URL:https://bozone.com/event/summer-1976/
LOCATION:Blue Slipper Theatre – Livingston\, 113 East Callender Street\, Livingston\, MT\, 59047\, United States
CATEGORIES:Arts & Theatre
GEO:45.6615548;-110.559691
X-APPLE-STRUCTURED-LOCATION;VALUE=URI;X-ADDRESS=Blue Slipper Theatre – Livingston 113 East Callender Street Livingston MT 59047 United States;X-APPLE-RADIUS=500;X-TITLE=113 East Callender Street:geo:-110.559691,45.6615548
END:VEVENT
BEGIN:VEVENT
DTSTART;TZID=America/Denver:20260220T193000
DTEND;TZID=America/Denver:20260220T193000
DTSTAMP:20260420T183536
CREATED:20260131T020225Z
LAST-MODIFIED:20260131T020225Z
UID:307696-1771615800-1771615800@bozone.com
SUMMARY:Pianoforte Concert: All proceeds support piano scholarships
DESCRIPTION:Pianoforte Concert: All proceeds support piano scholarships\n 7:30pm\n Howard Hall Reynolds Recital Hall\, Howard Hall\, room 108\nSuggested Donation: $25
URL:https://bozone.com/event/pianoforte-concert-all-proceeds-support-piano-scholarships/
LOCATION:MSU Reynolds Recital Hall\, Bozeman\, United States
CATEGORIES:Music
GEO:45.6769979;-111.0429339
END:VEVENT
BEGIN:VEVENT
DTSTART;TZID=America/Denver:20260220T200000
DTEND;TZID=America/Denver:20260220T200000
DTSTAMP:20260420T183536
CREATED:20260201T015003Z
LAST-MODIFIED:20260201T015003Z
UID:307825-1771617600-1771617600@bozone.com
SUMMARY:Float Like A Buffalo
DESCRIPTION:Float Like A Buffalo\n75770 Gallatin Rd Bozeman\, MT 59718 \nFriday\, February 20\, 2026 8-11 PM
URL:https://bozone.com/event/float-like-a-buffalo/
LOCATION:The Jump\, 75770 Gallatin Rd\, Gallatin Gateway\, MT\, 59730\, United States
CATEGORIES:Music
GEO:45.58333;-111.1969895
X-APPLE-STRUCTURED-LOCATION;VALUE=URI;X-ADDRESS=The Jump 75770 Gallatin Rd Gallatin Gateway MT 59730 United States;X-APPLE-RADIUS=500;X-TITLE=75770 Gallatin Rd:geo:-111.1969895,45.58333
END:VEVENT
BEGIN:VEVENT
DTSTART;TZID=America/Denver:20260220T210000
DTEND;TZID=America/Denver:20260220T210000
DTSTAMP:20260420T183536
CREATED:20250827T033951Z
LAST-MODIFIED:20260127T210701Z
UID:296820-1771621200-1771621200@bozone.com
SUMMARY:JRs Karaoke
DESCRIPTION:Lil Bit Xtra Entertainment does karaoke every Friday and Saturday Night @ JRs Lounge 9pm they are themed. You can follow us on Facebook for announcements. We have 80s night\, 90s night\, Country Night and a Luau coming up for the month of February.
URL:https://bozone.com/event/jrs-karaoke-4/
LOCATION:JRs Lounge\, 203 W Madison Ave Suite D\, Belgrade\, United States
CATEGORIES:Miscellanea,Music
GEO:45.7738898;-111.1835469
X-APPLE-STRUCTURED-LOCATION;VALUE=URI;X-ADDRESS=JRs Lounge 203 W Madison Ave Suite D Belgrade United States;X-APPLE-RADIUS=500;X-TITLE=203 W Madison Ave Suite D:geo:-111.1835469,45.7738898
END:VEVENT
BEGIN:VEVENT
DTSTART;TZID=America/Denver:20260220T210000
DTEND;TZID=America/Denver:20260220T210000
DTSTAMP:20260420T183536
CREATED:20251229T014919Z
LAST-MODIFIED:20260126T222539Z
UID:304591-1771621200-1771621200@bozone.com
SUMMARY:Scurry
DESCRIPTION:FEBRUARY 20 & 21\, 2026 \nScurry 9pm – Close\n\nJoin us for a night of live music with Scurry\, where raw singer-songwriter storytelling drifts into swirling psychedelic folk-rock.
URL:https://bozone.com/event/quite-coyote/
LOCATION:Chico Hot Springs Saloon\, 163 Chico Rd\, Pray\, MT 59065\, Pray\, MT\, 59065\, United States
CATEGORIES:Music
GEO:45.3386251;-110.6922233
X-APPLE-STRUCTURED-LOCATION;VALUE=URI;X-ADDRESS=Chico Hot Springs Saloon 163 Chico Rd Pray MT 59065 Pray MT 59065 United States;X-APPLE-RADIUS=500;X-TITLE=163 Chico Rd\, Pray\, MT 59065:geo:-110.6922233,45.3386251
END:VEVENT
BEGIN:VEVENT
DTSTART;TZID=America/Denver:20260220T210000
DTEND;TZID=America/Denver:20260220T210000
DTSTAMP:20260420T183537
CREATED:20260118T003457Z
LAST-MODIFIED:20260118T003457Z
UID:305730-1771621200-1771621200@bozone.com
SUMMARY:Dustin Tucker
DESCRIPTION:20Th Dustin Tucker 9-11
URL:https://bozone.com/event/dustin-tucker-8/
LOCATION:Bozeman Taproom\, MT\, United States
CATEGORIES:Music
GEO:45.6805431;-111.0325509
END:VEVENT
END:VCALENDAR