BEGIN:VCALENDAR
VERSION:2.0
PRODID:-//The BoZone - ECPv5.12.0//NONSGML v1.0//EN
CALSCALE:GREGORIAN
METHOD:PUBLISH
X-WR-CALNAME:The BoZone
X-ORIGINAL-URL:https://bozone.com
X-WR-CALDESC:Events for The BoZone
BEGIN:VTIMEZONE
TZID:America/Denver
BEGIN:DAYLIGHT
TZOFFSETFROM:-0700
TZOFFSETTO:-0600
TZNAME:MDT
DTSTART:20260308T090000
END:DAYLIGHT
BEGIN:STANDARD
TZOFFSETFROM:-0600
TZOFFSETTO:-0700
TZNAME:MST
DTSTART:20261101T080000
END:STANDARD
END:VTIMEZONE
BEGIN:VEVENT
DTSTART;TZID=America/Denver:20260216T111500
DTEND;TZID=America/Denver:20260216T140000
DTSTAMP:20260421T011749
CREATED:20260128T032125Z
LAST-MODIFIED:20260128T032125Z
UID:306489-1771240500-1771250400@bozone.com
SUMMARY:Public Skate
DESCRIPTION:Public Skate- Click here for more information\nMonday\, February 16·11:15am – 2:00pm\n\n\n\nnotes\n\nCheck-in at Ticket Booth is required prior to skating. \nAdult: $10\nYouth $7\nAges 5 and under: Free \nAdult 11x Punch Card: $100\nAdult Season Pass: $180\nYouth 11x Punch Card: $70\nYouth Season Pass: $125 \nSkate rental: $5 per pair.\nTicket Booth staff will assist with skate rentals.\n(No Sticks & Pucks)
URL:https://bozone.com/event/public-skate-12/
LOCATION:Ressler Rink – GCF\, Gallatin Fairgrounds\, Bozeman\, MT\, 59715\, United States
CATEGORIES:Sporting Events
GEO:45.689199;-111.037633
X-APPLE-STRUCTURED-LOCATION;VALUE=URI;X-ADDRESS=Ressler Rink – GCF Gallatin Fairgrounds Bozeman MT 59715 United States;X-APPLE-RADIUS=500;X-TITLE=Gallatin Fairgrounds:geo:-111.037633,45.689199
END:VEVENT
BEGIN:VEVENT
DTSTART;TZID=America/Denver:20260216T130000
DTEND;TZID=America/Denver:20260216T130000
DTSTAMP:20260421T011749
CREATED:20260201T013455Z
LAST-MODIFIED:20260201T013455Z
UID:307824-1771246800-1771246800@bozone.com
SUMMARY:FREE Community Performance of "Good In Everything"
DESCRIPTION:FREE Community Performance of “Good In Everything”\n\nLocation:\nChristus Collegium (714 S. 8th Ave Bozeman\, MT) \n\n\nEvent Time(s):\nMonday\, February 16\, 2026 at 1:00pm \nEvent Details:\nMontana Shakespeare in the Parks invites the community to attend a FREE performance of their spring Montana Shakes! program\, “Good In Everything\,” an original play based on “As You Like It\,” directed by Matt Foss. \nReserve Your Free Ticket Here \nCreated for grades K-6\, families are sure to delight in this interactive\, fun play! \nThe performance will take place at 1:00 PM at Christus Collegium (714 S. 8th Ave) in Bozeman\, MT. Doors will open at 12:45 PM and seating is first-come\, first served. The performance is 45-minutes long and will be followed by a post-show talkback with the actors! \nNo outside food or drink is allowed\, aside from water bottles. A parking holiday permit has been approved by the City\, so people may park along the street without being ticketed. \nA special thank you to Christus Collegium for hosting this special community event! \nThank you to our friends at Thrive for partnering with us on this free event! \nThe Montana Shakes! program brings interactive\, original plays based on Shakespeare’s plays to 60 elementary schools each spring. The plays introduce Shakespeare to young people in a way that is based on engagement and not apprehension.
URL:https://bozone.com/event/free-community-performance-of-good-in-everything/
LOCATION:Christus Collegium\, 714 S. 8th Ave\, Bozeman\, MT\, 59715\, United States
CATEGORIES:Arts & Theatre
GEO:45.6718198;-111.0476376
X-APPLE-STRUCTURED-LOCATION;VALUE=URI;X-ADDRESS=Christus Collegium 714 S. 8th Ave Bozeman MT 59715 United States;X-APPLE-RADIUS=500;X-TITLE=714 S. 8th Ave:geo:-111.0476376,45.6718198
END:VEVENT
BEGIN:VEVENT
DTSTART;TZID=America/Denver:20260216T140000
DTEND;TZID=America/Denver:20260216T160000
DTSTAMP:20260421T011749
CREATED:20260117T225143Z
LAST-MODIFIED:20260201T055622Z
UID:305712-1771250400-1771257600@bozone.com
SUMMARY:Pint Night 4 Roots Family Collaborative
DESCRIPTION:Roots Family Collaborative will receive\n10% of all pours between 2 – 4 pm
URL:https://bozone.com/event/mountains-walking-pint-night-3/
LOCATION:Mountains Walking Brewery\, 422 Plum Ave\, Bozeman\, MT\, United States
CATEGORIES:Miscellanea
GEO:45.684901;-111.025099
X-APPLE-STRUCTURED-LOCATION;VALUE=URI;X-ADDRESS=Mountains Walking Brewery 422 Plum Ave Bozeman MT United States;X-APPLE-RADIUS=500;X-TITLE=422 Plum Ave:geo:-111.025099,45.684901
END:VEVENT
BEGIN:VEVENT
DTSTART;TZID=America/Denver:20260216T160000
DTEND;TZID=America/Denver:20260216T200000
DTSTAMP:20260421T011749
CREATED:20260128T215937Z
LAST-MODIFIED:20260128T215937Z
UID:307070-1771257600-1771272000@bozone.com
SUMMARY:Crosscut Night Ski
DESCRIPTION:Night Ski\n \nLight up your winter nights! Ski our lighted loop on Mondays and Thursdays from 4–8 p.m. Mondays are Dog Days — bring your pup along for night skiing! Discounted rentals and passes available. \n\n\nFeb 16\, 2026
URL:https://bozone.com/event/crosscut-night-ski-7/
LOCATION:Crosscut Mountain Sports Center\, 16621 Bridger Canyon Road\, Bozeman\, MT\, 59715\, United States
CATEGORIES:Sporting Events
GEO:45.8278466;-110.8844653
X-APPLE-STRUCTURED-LOCATION;VALUE=URI;X-ADDRESS=Crosscut Mountain Sports Center 16621 Bridger Canyon Road Bozeman MT 59715 United States;X-APPLE-RADIUS=500;X-TITLE=16621 Bridger Canyon Road:geo:-110.8844653,45.8278466
END:VEVENT
BEGIN:VEVENT
DTSTART;TZID=America/Denver:20260216T180000
DTEND;TZID=America/Denver:20260216T180000
DTSTAMP:20260421T011749
CREATED:20260128T154148Z
LAST-MODIFIED:20260128T154148Z
UID:306732-1771264800-1771264800@bozone.com
SUMMARY:Tom Georges
DESCRIPTION:Feb\n16\n\n\n\n\n\nTom Georges\n\n\n\n6:00 PM – 8:00 PM\n\n\n\nHorn and Cantle Saloon
URL:https://bozone.com/event/tom-georges-21/
LOCATION:Horn and Cantle Saloon – Big Sky\, 800 Lone Mountain Ranch Rd\, Big Sky\, MT\, 59730\, United States
CATEGORIES:Music
GEO:45.2755088;-111.322818
X-APPLE-STRUCTURED-LOCATION;VALUE=URI;X-ADDRESS=Horn and Cantle Saloon – Big Sky 800 Lone Mountain Ranch Rd Big Sky MT 59730 United States;X-APPLE-RADIUS=500;X-TITLE=800 Lone Mountain Ranch Rd:geo:-111.322818,45.2755088
END:VEVENT
BEGIN:VEVENT
DTSTART;TZID=America/Denver:20260216T190000
DTEND;TZID=America/Denver:20260216T190000
DTSTAMP:20260421T011749
CREATED:20260128T154243Z
LAST-MODIFIED:20260128T154243Z
UID:306733-1771268400-1771268400@bozone.com
SUMMARY:Tuesday Night Rodeo Club
DESCRIPTION:Feb\n16\n\n\n\n\n\nTuesday Night Rodeo Club\n\n\n\n7:00 PM – 9:00 PM\n\n\n\nMontage Alpenglow Lounge
URL:https://bozone.com/event/tuesday-night-rodeo-club-60/
LOCATION:Montage Alpenglow Lounge – Big Sky\, 995 Settlement Trail\, Big Sky\, MT\, 59716\, United States
CATEGORIES:Music
GEO:45.2589401;-111.3686277
X-APPLE-STRUCTURED-LOCATION;VALUE=URI;X-ADDRESS=Montage Alpenglow Lounge – Big Sky 995 Settlement Trail Big Sky MT 59716 United States;X-APPLE-RADIUS=500;X-TITLE=995 Settlement Trail:geo:-111.3686277,45.2589401
END:VEVENT
BEGIN:VEVENT
DTSTART;TZID=America/Denver:20260216T210000
DTEND;TZID=America/Denver:20260216T210000
DTSTAMP:20260421T011749
CREATED:20250929T023313Z
LAST-MODIFIED:20260130T034013Z
UID:298962-1771275600-1771275600@bozone.com
SUMMARY:American Monday Karaoke
DESCRIPTION:
URL:https://bozone.com/event/american-monday-karaoke-2/
LOCATION:American Legion – Bozeman\, 225 E Main St.\, Bozeman\, MT\, 59715\, United States
CATEGORIES:Music
GEO:45.6796356;-111.0334576
X-APPLE-STRUCTURED-LOCATION;VALUE=URI;X-ADDRESS=American Legion – Bozeman 225 E Main St. Bozeman MT 59715 United States;X-APPLE-RADIUS=500;X-TITLE=225 E Main St.:geo:-111.0334576,45.6796356
END:VEVENT
END:VCALENDAR